BEGIN:VCALENDAR
VERSION:2.0
PRODID:-//Englewood Christian Church - ECPv6.15.20//NONSGML v1.0//EN
CALSCALE:GREGORIAN
METHOD:PUBLISH
X-ORIGINAL-URL:https://englewoodchristian.com
X-WR-CALDESC:Events for Englewood Christian Church
REFRESH-INTERVAL;VALUE=DURATION:PT1H
X-Robots-Tag:noindex
X-PUBLISHED-TTL:PT1H
BEGIN:VTIMEZONE
TZID:America/New_York
BEGIN:DAYLIGHT
TZOFFSETFROM:-0500
TZOFFSETTO:-0400
TZNAME:EDT
DTSTART:20230312T070000
END:DAYLIGHT
BEGIN:STANDARD
TZOFFSETFROM:-0400
TZOFFSETTO:-0500
TZNAME:EST
DTSTART:20231105T060000
END:STANDARD
BEGIN:DAYLIGHT
TZOFFSETFROM:-0500
TZOFFSETTO:-0400
TZNAME:EDT
DTSTART:20240310T070000
END:DAYLIGHT
BEGIN:STANDARD
TZOFFSETFROM:-0400
TZOFFSETTO:-0500
TZNAME:EST
DTSTART:20241103T060000
END:STANDARD
BEGIN:DAYLIGHT
TZOFFSETFROM:-0500
TZOFFSETTO:-0400
TZNAME:EDT
DTSTART:20250309T070000
END:DAYLIGHT
BEGIN:STANDARD
TZOFFSETFROM:-0400
TZOFFSETTO:-0500
TZNAME:EST
DTSTART:20251102T060000
END:STANDARD
BEGIN:DAYLIGHT
TZOFFSETFROM:-0500
TZOFFSETTO:-0400
TZNAME:EDT
DTSTART:20260308T070000
END:DAYLIGHT
BEGIN:STANDARD
TZOFFSETFROM:-0400
TZOFFSETTO:-0500
TZNAME:EST
DTSTART:20261101T060000
END:STANDARD
END:VTIMEZONE
BEGIN:VEVENT
DTSTART;TZID=America/New_York:20250607T120000
DTEND;TZID=America/New_York:20250607T140000
DTSTAMP:20260424T001038
CREATED:20250526T143902Z
LAST-MODIFIED:20250526T143902Z
UID:10005771-1749297600-1749304800@englewoodchristian.com
SUMMARY:Ladies Luncheon
DESCRIPTION:Saturday\, June 7th @ 12:00 PM @ Outback in Port Charlotte. \nPlease call Shelly Caswell if your plans change. \nThe sign-up sheet is at the welcome station.
URL:https://englewoodchristian.com/event/ladies-luncheon-11/
CATEGORIES:Women
END:VEVENT
BEGIN:VEVENT
DTSTART;TZID=America/New_York:20250405T120000
DTEND;TZID=America/New_York:20250405T140000
DTSTAMP:20260424T001038
CREATED:20250313T142716Z
LAST-MODIFIED:20250313T142716Z
UID:10005634-1743854400-1743861600@englewoodchristian.com
SUMMARY:Ladies Luncheon
DESCRIPTION:Ladies join us for a fellowship luncheon at Tarpon Point in Venice at 12 pm on March 1st\, 2025.  Please RSVP with Shelly Caswell or at the table in the church foyer.
URL:https://englewoodchristian.com/event/ladies-luncheon-9/
CATEGORIES:Ladies
END:VEVENT
BEGIN:VEVENT
DTSTART;TZID=America/New_York:20250301T120000
DTEND;TZID=America/New_York:20250301T140000
DTSTAMP:20260424T001038
CREATED:20250218T215852Z
LAST-MODIFIED:20250218T215852Z
UID:10005621-1740830400-1740837600@englewoodchristian.com
SUMMARY:Ladies Luncheon
DESCRIPTION:Ladies join us for a fellowship luncheon at Longhorn Steakhouse in Port Charlotte at 12 pm on March 1st\, 2025.  Please RSVP with Shelly Caswell or at the table in the church foyer.
URL:https://englewoodchristian.com/event/ladies-luncheon-8/
CATEGORIES:Ladies,Special Event
END:VEVENT
BEGIN:VEVENT
DTSTART;TZID=America/New_York:20241005T120000
DTEND;TZID=America/New_York:20241005T140000
DTSTAMP:20260424T001038
CREATED:20241003T125443Z
LAST-MODIFIED:20241003T125443Z
UID:10005594-1728129600-1728136800@englewoodchristian.com
SUMMARY:Ladies Luncheon
DESCRIPTION:Saturday\, October 5th\, 12:00pm at Buffet City in Port Charlotte. Sign-up sheet is on the table in the foyer.  RSVP so we have enough space.  Please call Rachel (Shelly) Caswell if your plans change.  (See bulletin for contact info)
URL:https://englewoodchristian.com/event/ladies-luncheon-6/
LOCATION:Buffet City\, 2150 Tamiami Trail\, Port Charlotte\, 33948\, United States
CATEGORIES:Ladies,Women
END:VEVENT
BEGIN:VEVENT
DTSTART;TZID=America/New_York:20240907T120000
DTEND;TZID=America/New_York:20240907T140000
DTSTAMP:20260424T001038
CREATED:20240808T125424Z
LAST-MODIFIED:20240808T125424Z
UID:10005120-1725710400-1725717600@englewoodchristian.com
SUMMARY:Ladies Luncheon
DESCRIPTION:Saturday\, September 7th\, 12:00pm at The Farlow’s. Sign-up sheet is on the table in the foyer.  RSVP so we have enough space.  Please call Rachel (Shelly) Caswell if your plans change.  (See bulletin for contact info)
URL:https://englewoodchristian.com/event/ladies-luncheon-5/
LOCATION:Farlow’s on the water\, 2080 S McCall Rd\, Englewood\, FL 34224\, Englewood\, 34224\, United States
CATEGORIES:Ladies,Women
END:VEVENT
END:VCALENDAR