BEGIN:VCALENDAR
VERSION:2.0
PRODID:-//Englewood Christian Church - ECPv6.15.20//NONSGML v1.0//EN
CALSCALE:GREGORIAN
METHOD:PUBLISH
X-WR-CALNAME:Englewood Christian Church
X-ORIGINAL-URL:https://englewoodchristian.com
X-WR-CALDESC:Events for Englewood Christian Church
REFRESH-INTERVAL;VALUE=DURATION:PT1H
X-Robots-Tag:noindex
X-PUBLISHED-TTL:PT1H
BEGIN:VTIMEZONE
TZID:America/New_York
BEGIN:DAYLIGHT
TZOFFSETFROM:-0500
TZOFFSETTO:-0400
TZNAME:EDT
DTSTART:20230312T070000
END:DAYLIGHT
BEGIN:STANDARD
TZOFFSETFROM:-0400
TZOFFSETTO:-0500
TZNAME:EST
DTSTART:20231105T060000
END:STANDARD
BEGIN:DAYLIGHT
TZOFFSETFROM:-0500
TZOFFSETTO:-0400
TZNAME:EDT
DTSTART:20240310T070000
END:DAYLIGHT
BEGIN:STANDARD
TZOFFSETFROM:-0400
TZOFFSETTO:-0500
TZNAME:EST
DTSTART:20241103T060000
END:STANDARD
BEGIN:DAYLIGHT
TZOFFSETFROM:-0500
TZOFFSETTO:-0400
TZNAME:EDT
DTSTART:20250309T070000
END:DAYLIGHT
BEGIN:STANDARD
TZOFFSETFROM:-0400
TZOFFSETTO:-0500
TZNAME:EST
DTSTART:20251102T060000
END:STANDARD
BEGIN:DAYLIGHT
TZOFFSETFROM:-0500
TZOFFSETTO:-0400
TZNAME:EDT
DTSTART:20260308T070000
END:DAYLIGHT
BEGIN:STANDARD
TZOFFSETFROM:-0400
TZOFFSETTO:-0500
TZNAME:EST
DTSTART:20261101T060000
END:STANDARD
END:VTIMEZONE
BEGIN:VEVENT
DTSTART;TZID=America/New_York:20250503T120000
DTEND;TZID=America/New_York:20250503T140000
DTSTAMP:20260424T000903
CREATED:20250427T131035Z
LAST-MODIFIED:20250427T131035Z
UID:10005768-1746273600-1746280800@englewoodchristian.com
SUMMARY:Ladies Luncheon
DESCRIPTION:Saturday\, May 3rd @ 12:00 PM @ Farlow’s in Englewood \nPlease call Shelly Caswell if your plans change. \nThe sign-up sheet is at the welcome station.
URL:https://englewoodchristian.com/event/ladies-luncheon-10/
LOCATION:Farlow’s on the water\, 2080 S McCall Rd\, Englewood\, FL 34224\, Englewood\, 34224\, United States
CATEGORIES:Ladies,Women
END:VEVENT
BEGIN:VEVENT
DTSTART;TZID=America/New_York:20240706T120000
DTEND;TZID=America/New_York:20240706T130000
DTSTAMP:20260424T000903
CREATED:20240620T144357Z
LAST-MODIFIED:20240620T144357Z
UID:10004578-1720267200-1720270800@englewoodchristian.com
SUMMARY:Ladies Luncheon
DESCRIPTION:Saturday\, July 6th 12:00pm at Ken & Barb’s. Sign-up sheet is on the table in the foyer.  RSVP so we have enough space.  Please call Rachel (Shelly) Caswell or Jo Malia if your plans change.  (See bulletin for contact info.)
URL:https://englewoodchristian.com/event/ladies-luncheon-4/
LOCATION:Ken & Barb’s\, 2000 Oyster Creek Dr\,\, Englewood\, 34224\, United States
CATEGORIES:Ladies,Special Event,Women
END:VEVENT
BEGIN:VEVENT
DTSTART;TZID=America/New_York:20240601T120000
DTEND;TZID=America/New_York:20240601T130000
DTSTAMP:20260424T000903
CREATED:20240516T160541Z
LAST-MODIFIED:20240516T160654Z
UID:10003407-1717243200-1717246800@englewoodchristian.com
SUMMARY:Ladies Luncheon
DESCRIPTION:Saturday\, June 1st @ 12:00 PM at Tarpon Point in Venice.  Sign-up sheet is on the table in the foyer.  RSVP so we have enough space.  Please call Rachel (Shelly) Caswell if your plans change.  (See bulletin for contact info.)
URL:https://englewoodchristian.com/event/ladies-luncheon-2/
LOCATION:Tarpon Point Grill and Marina\, United States
CATEGORIES:Ladies
END:VEVENT
END:VCALENDAR