BEGIN:VCALENDAR
VERSION:2.0
PRODID:-//Englewood Christian Church - ECPv6.15.20//NONSGML v1.0//EN
CALSCALE:GREGORIAN
METHOD:PUBLISH
X-WR-CALNAME:Englewood Christian Church
X-ORIGINAL-URL:https://englewoodchristian.com
X-WR-CALDESC:Events for Englewood Christian Church
REFRESH-INTERVAL;VALUE=DURATION:PT1H
X-Robots-Tag:noindex
X-PUBLISHED-TTL:PT1H
BEGIN:VTIMEZONE
TZID:America/New_York
BEGIN:DAYLIGHT
TZOFFSETFROM:-0500
TZOFFSETTO:-0400
TZNAME:EDT
DTSTART:20220313T070000
END:DAYLIGHT
BEGIN:STANDARD
TZOFFSETFROM:-0400
TZOFFSETTO:-0500
TZNAME:EST
DTSTART:20221106T060000
END:STANDARD
BEGIN:DAYLIGHT
TZOFFSETFROM:-0500
TZOFFSETTO:-0400
TZNAME:EDT
DTSTART:20230312T070000
END:DAYLIGHT
BEGIN:STANDARD
TZOFFSETFROM:-0400
TZOFFSETTO:-0500
TZNAME:EST
DTSTART:20231105T060000
END:STANDARD
BEGIN:DAYLIGHT
TZOFFSETFROM:-0500
TZOFFSETTO:-0400
TZNAME:EDT
DTSTART:20240310T070000
END:DAYLIGHT
BEGIN:STANDARD
TZOFFSETFROM:-0400
TZOFFSETTO:-0500
TZNAME:EST
DTSTART:20241103T060000
END:STANDARD
BEGIN:DAYLIGHT
TZOFFSETFROM:-0500
TZOFFSETTO:-0400
TZNAME:EDT
DTSTART:20250309T070000
END:DAYLIGHT
BEGIN:STANDARD
TZOFFSETFROM:-0400
TZOFFSETTO:-0500
TZNAME:EST
DTSTART:20251102T060000
END:STANDARD
BEGIN:DAYLIGHT
TZOFFSETFROM:-0500
TZOFFSETTO:-0400
TZNAME:EDT
DTSTART:20260308T070000
END:DAYLIGHT
BEGIN:STANDARD
TZOFFSETFROM:-0400
TZOFFSETTO:-0500
TZNAME:EST
DTSTART:20261101T060000
END:STANDARD
END:VTIMEZONE
BEGIN:VEVENT
DTSTART;TZID=America/New_York:20250524T130000
DTEND;TZID=America/New_York:20250524T160000
DTSTAMP:20260424T024920
CREATED:20250224T203622Z
LAST-MODIFIED:20250224T203726Z
UID:10005632-1748091600-1748102400@englewoodchristian.com
SUMMARY:Venice Christian School - Graduation
DESCRIPTION:Venice Christian School will be at Englewood Christian Church for their 2024-2025 Senior Graduation.
URL:https://englewoodchristian.com/event/venice-christian-school-graduation/
LOCATION:Englewood Christian Church\, 9600 Gulfstream Blvd\, Englewood\, FL\, 34224\, United States
CATEGORIES:Special Event
ATTACH;FMTTYPE=image/png:https://englewoodchristian.com/wp-content/uploads/2025/02/vcs_logo.png
ORGANIZER;CN="Lindsay Lawson":MAILTO:llawson@englewoodchristian.com
END:VEVENT
BEGIN:VEVENT
DTSTART;TZID=America/New_York:20250523T130000
DTEND;TZID=America/New_York:20250523T150000
DTSTAMP:20260424T024920
CREATED:20250224T203406Z
LAST-MODIFIED:20250224T203510Z
UID:10005631-1748005200-1748012400@englewoodchristian.com
SUMMARY:Venice Christian School - Graduation Rehearsal
DESCRIPTION:Venice Christian School will be at Englewood Christian Church for their 2024-2025 Senior Graduation.
URL:https://englewoodchristian.com/event/venice-christian-school-graduation-rehearsal/
LOCATION:Englewood Christian Church\, 9600 Gulfstream Blvd\, Englewood\, FL\, 34224\, United States
CATEGORIES:Special Event
ATTACH;FMTTYPE=image/png:https://englewoodchristian.com/wp-content/uploads/2025/02/vcs_logo.png
ORGANIZER;CN="Lindsay Lawson":MAILTO:llawson@englewoodchristian.com
END:VEVENT
BEGIN:VEVENT
DTSTART;TZID=America/New_York:20240810T103000
DTEND;TZID=America/New_York:20240810T113000
DTSTAMP:20260424T024920
CREATED:20240725T133908Z
LAST-MODIFIED:20240725T133908Z
UID:10005119-1723285800-1723289400@englewoodchristian.com
SUMMARY:Ladies Bible Study
DESCRIPTION:The Ladies Bible Study meets every 2nd and 4th Saturday @ 10:30 am.  All ladies are welcome!
URL:https://englewoodchristian.com/event/ladies-bible-study/
LOCATION:Englewood Christian Church\, 9600 Gulfstream Blvd\, Englewood\, FL\, 34224\, United States
CATEGORIES:Bible Study,Ladies,Women
ORGANIZER;CN="Lindsay Lawson":MAILTO:llawson@englewoodchristian.com
END:VEVENT
BEGIN:VEVENT
DTSTART;TZID=America/New_York:20240511T103000
DTEND;TZID=America/New_York:20240511T130000
DTSTAMP:20260424T024920
CREATED:20240429T024812Z
LAST-MODIFIED:20240430T150536Z
UID:10003021-1715423400-1715432400@englewoodchristian.com
SUMMARY:One Moment Ministries - Women's Brunch & Fellowship
DESCRIPTION:
URL:https://englewoodchristian.com/event/one-moment-ministries-womens-brunch-fellowship/
LOCATION:Englewood Christian Church\, 9600 Gulfstream Blvd\, Englewood\, FL\, 34224\, United States
CATEGORIES:Adult,Ladies,Special Event,Women
ATTACH;FMTTYPE=image/jpeg:https://englewoodchristian.com/wp-content/uploads/2024/04/One-Moment-Ministries-Announcement.jpg
ORGANIZER;CN="Lindsay Lawson":MAILTO:llawson@englewoodchristian.com
END:VEVENT
BEGIN:VEVENT
DTSTART;TZID=America/New_York:20231117T093000
DTEND;TZID=America/New_York:20231117T103000
DTSTAMP:20260424T024920
CREATED:20231031T011848Z
LAST-MODIFIED:20231031T011848Z
UID:10001329-1700213400-1700217000@englewoodchristian.com
SUMMARY:Saturday Women's Bible Study
DESCRIPTION:
URL:https://englewoodchristian.com/event/saturday-womens-bible-study-2/
LOCATION:Englewood Christian Church\, 9600 Gulfstream Blvd\, Englewood\, FL\, 34224\, United States
CATEGORIES:Bible Study,Women
ATTACH;FMTTYPE=image/jpeg:https://englewoodchristian.com/wp-content/uploads/2023/10/Womens_Ministry-scaled.jpg
ORGANIZER;CN="Lindsay Lawson":MAILTO:llawson@englewoodchristian.com
END:VEVENT
BEGIN:VEVENT
DTSTART;TZID=America/New_York:20231021T110000
DTEND;TZID=America/New_York:20231021T120000
DTSTAMP:20260424T024920
CREATED:20231021T125201Z
LAST-MODIFIED:20231021T125201Z
UID:10000006-1697886000-1697889600@englewoodchristian.com
SUMMARY:Saturday Women's Bible Study
DESCRIPTION:
URL:https://englewoodchristian.com/event/saturday-womens-bible-study/
LOCATION:Englewood Christian Church\, 9600 Gulfstream Blvd\, Englewood\, FL\, 34224\, United States
CATEGORIES:Bible Study,Women
ORGANIZER;CN="Lindsay Lawson":MAILTO:llawson@englewoodchristian.com
END:VEVENT
END:VCALENDAR