BEGIN:VCALENDAR
VERSION:2.0
PRODID:-//Englewood Christian Church - ECPv6.15.20//NONSGML v1.0//EN
CALSCALE:GREGORIAN
METHOD:PUBLISH
X-WR-CALNAME:Englewood Christian Church
X-ORIGINAL-URL:https://englewoodchristian.com
X-WR-CALDESC:Events for Englewood Christian Church
REFRESH-INTERVAL;VALUE=DURATION:PT1H
X-Robots-Tag:noindex
X-PUBLISHED-TTL:PT1H
BEGIN:VTIMEZONE
TZID:America/New_York
BEGIN:DAYLIGHT
TZOFFSETFROM:-0500
TZOFFSETTO:-0400
TZNAME:EDT
DTSTART:20240310T070000
END:DAYLIGHT
BEGIN:STANDARD
TZOFFSETFROM:-0400
TZOFFSETTO:-0500
TZNAME:EST
DTSTART:20241103T060000
END:STANDARD
BEGIN:DAYLIGHT
TZOFFSETFROM:-0500
TZOFFSETTO:-0400
TZNAME:EDT
DTSTART:20250309T070000
END:DAYLIGHT
BEGIN:STANDARD
TZOFFSETFROM:-0400
TZOFFSETTO:-0500
TZNAME:EST
DTSTART:20251102T060000
END:STANDARD
BEGIN:DAYLIGHT
TZOFFSETFROM:-0500
TZOFFSETTO:-0400
TZNAME:EDT
DTSTART:20260308T070000
END:DAYLIGHT
BEGIN:STANDARD
TZOFFSETFROM:-0400
TZOFFSETTO:-0500
TZNAME:EST
DTSTART:20261101T060000
END:STANDARD
END:VTIMEZONE
BEGIN:VEVENT
DTSTART;TZID=America/New_York:20251201T180000
DTEND;TZID=America/New_York:20251201T190000
DTSTAMP:20260423T183925
CREATED:20240430T150156Z
LAST-MODIFIED:20240430T150156Z
UID:10003105-1764612000-1764615600@englewoodchristian.com
SUMMARY:AA Meeting
DESCRIPTION:
URL:https://englewoodchristian.com/event/aa-meeting/2025-12-01/
LOCATION:Englewood Christian Church\, 9600 Gulfstream Blvd\, Englewood\, FL\, 34224\, United States
CATEGORIES:Hosted
END:VEVENT
BEGIN:VEVENT
DTSTART;TZID=America/New_York:20251201T190000
DTEND;TZID=America/New_York:20251201T203000
DTSTAMP:20260423T183925
CREATED:20251113T171841Z
LAST-MODIFIED:20251119T192902Z
UID:10005396-1764615600-1764621000@englewoodchristian.com
SUMMARY:Men’s 4x4
DESCRIPTION:Men’s bible study group at the church Monday nights starting at 7pm.
URL:https://englewoodchristian.com/event/mens-4x4-3-2/2025-12-01/
LOCATION:Englewood Christian Church\, 9600 Gulfstream Blvd\, Englewood\, FL\, 34224\, United States
CATEGORIES:Adult,Mens
ORGANIZER;CN="Jim Chandler":MAILTO:jchandler@englewoodchristian.com
END:VEVENT
BEGIN:VEVENT
DTSTART;TZID=America/New_York:20251202T123000
DTEND;TZID=America/New_York:20251202T143000
DTSTAMP:20260423T183925
CREATED:20240102T185554Z
LAST-MODIFIED:20251113T171703Z
UID:10001732-1764678600-1764685800@englewoodchristian.com
SUMMARY:Tuesday Women's Bible Study
DESCRIPTION:
URL:https://englewoodchristian.com/event/tuesday-womens-bible-study/2025-12-02/
LOCATION:FL
CATEGORIES:Adult,Bible Study,Ladies,Women
END:VEVENT
BEGIN:VEVENT
DTSTART;TZID=America/New_York:20251202T180000
DTEND;TZID=America/New_York:20251202T190000
DTSTAMP:20260423T183925
CREATED:20240430T153129Z
LAST-MODIFIED:20240430T153129Z
UID:10003304-1764698400-1764702000@englewoodchristian.com
SUMMARY:Girl Scouts
DESCRIPTION:
URL:https://englewoodchristian.com/event/girl-scouts-2024-5/2025-12-02/
LOCATION:Englewood Christian Church\, 9600 Gulfstream Blvd\, Englewood\, FL\, 34224\, United States
CATEGORIES:Hosted
END:VEVENT
BEGIN:VEVENT
DTSTART;TZID=America/New_York:20251202T183000
DTEND;TZID=America/New_York:20251202T201500
DTSTAMP:20260423T183925
CREATED:20240620T140951Z
LAST-MODIFIED:20251113T172153Z
UID:10004392-1764700200-1764706500@englewoodchristian.com
SUMMARY:Tuesday Night Small Group
DESCRIPTION:This Small Group meets Tuesday nights at 6:30pm and is led by Jim Chandler.
URL:https://englewoodchristian.com/event/tuesday-night-small-group/2025-12-02/
LOCATION:FL
CATEGORIES:Adult,Bible Study
ORGANIZER;CN="Jim Chandler":MAILTO:jchandler@englewoodchristian.com
END:VEVENT
BEGIN:VEVENT
DTSTART;TZID=America/New_York:20251203T100000
DTEND;TZID=America/New_York:20251203T110000
DTSTAMP:20260423T183925
CREATED:20251018T221053Z
LAST-MODIFIED:20251118T210010Z
UID:10005781-1764756000-1764759600@englewoodchristian.com
SUMMARY:Prayer Time
DESCRIPTION:Spend some time with others in prayer at Englewood Christian Church on Wednesdays at 10:00AM.
URL:https://englewoodchristian.com/event/prayer-time/2025-12-03/
LOCATION:Englewood Christian Church\, 9600 Gulfstream Blvd\, Englewood\, FL\, 34224\, United States
CATEGORIES:Public,Wednesday
ORGANIZER;CN="Jim Chandler":MAILTO:jchandler@englewoodchristian.com
END:VEVENT
BEGIN:VEVENT
DTSTART;TZID=America/New_York:20251203T180000
DTEND;TZID=America/New_York:20251203T190000
DTSTAMP:20260423T183925
CREATED:20231031T010623Z
LAST-MODIFIED:20251118T205129Z
UID:10001175-1764784800-1764788400@englewoodchristian.com
SUMMARY:Adult Bible Study
DESCRIPTION:
URL:https://englewoodchristian.com/event/adult-bible-study-3/2025-12-03/
LOCATION:Englewood Christian Church\, 9600 Gulfstream Blvd\, Englewood\, FL\, 34224\, United States
CATEGORIES:Adult,Bible Study,Wednesday
END:VEVENT
BEGIN:VEVENT
DTSTART;TZID=America/New_York:20251204T090000
DTEND;TZID=America/New_York:20251204T100000
DTSTAMP:20260423T183925
CREATED:20231212T152706Z
LAST-MODIFIED:20251113T172636Z
UID:10001435-1764838800-1764842400@englewoodchristian.com
SUMMARY:Men's 4x4
DESCRIPTION:
URL:https://englewoodchristian.com/event/mens-4x4/2025-12-04/
LOCATION:Englewood Christian Church\, 9600 Gulfstream Blvd\, Englewood\, FL\, 34224\, United States
CATEGORIES:Bible Study,Mens
ATTACH;FMTTYPE=image/jpeg:https://englewoodchristian.com/wp-content/uploads/2023/06/mens_ministry_380x280.jpg
END:VEVENT
BEGIN:VEVENT
DTSTART;TZID=America/New_York:20251204T180000
DTEND;TZID=America/New_York:20251204T193000
DTSTAMP:20260423T183925
CREATED:20240620T153654Z
LAST-MODIFIED:20251113T172856Z
UID:10004929-1764871200-1764876600@englewoodchristian.com
SUMMARY:Thursday Night Small Group
DESCRIPTION:This small group meets every Thursday evening at 6:00pm.
URL:https://englewoodchristian.com/event/thursday-night-small-group/2025-12-04/
LOCATION:FL
CATEGORIES:Adult,Bible Study
END:VEVENT
BEGIN:VEVENT
DTSTART;TZID=America/New_York:20251207T093000
DTEND;TZID=America/New_York:20251207T101500
DTSTAMP:20260423T183925
CREATED:20240523T201136Z
LAST-MODIFIED:20240523T201138Z
UID:10004133-1765099800-1765102500@englewoodchristian.com
SUMMARY:Adult Sunday School
DESCRIPTION:
URL:https://englewoodchristian.com/event/adult-sunday-school-2-2-2/2025-12-07/
LOCATION:Englewood Christian Church\, 9600 Gulfstream Blvd\, Englewood\, FL\, 34224\, United States
CATEGORIES:Adult,Sunday,Sunday School
END:VEVENT
BEGIN:VEVENT
DTSTART;TZID=America/New_York:20251207T103000
DTEND;TZID=America/New_York:20251207T113000
DTSTAMP:20260423T183925
CREATED:20240523T200811Z
LAST-MODIFIED:20240523T200813Z
UID:10003613-1765103400-1765107000@englewoodchristian.com
SUMMARY:Sunday Worship Service
DESCRIPTION:
URL:https://englewoodchristian.com/event/sunday-worship-service/2025-12-07/
LOCATION:Englewood Christian Church\, 9600 Gulfstream Blvd\, Englewood\, FL\, 34224\, United States
CATEGORIES:Sunday,Worship Service
END:VEVENT
BEGIN:VEVENT
DTSTART;TZID=America/New_York:20251207T103000
DTEND;TZID=America/New_York:20251207T113000
DTSTAMP:20260423T183925
CREATED:20240523T201009Z
LAST-MODIFIED:20240523T201010Z
UID:10003873-1765103400-1765107000@englewoodchristian.com
SUMMARY:Children's Church
DESCRIPTION:
URL:https://englewoodchristian.com/event/childrens-church-3-2/2025-12-07/
LOCATION:Englewood Christian Church\, 9600 Gulfstream Blvd\, Englewood\, FL\, 34224\, United States
CATEGORIES:Kids,Sunday
ORGANIZER;CN="Andrew Lawson":MAILTO:alawson@englewoodchristian.com
END:VEVENT
BEGIN:VEVENT
DTSTART;TZID=America/New_York:20251207T180000
DTEND;TZID=America/New_York:20251207T190000
DTSTAMP:20260423T183925
CREATED:20240620T151840Z
LAST-MODIFIED:20240620T151840Z
UID:10004679-1765130400-1765134000@englewoodchristian.com
SUMMARY:Sunday Night Small Group
DESCRIPTION:This Small Group meets on Sunday evenings at 6:00pm and is led by Jim Chandler.
URL:https://englewoodchristian.com/event/sunday-night-small-group/2025-12-07/
LOCATION:FL
CATEGORIES:Adult,Bible Study
ORGANIZER;CN="Jim Chandler":MAILTO:jchandler@englewoodchristian.com
END:VEVENT
BEGIN:VEVENT
DTSTART;TZID=America/New_York:20251208T180000
DTEND;TZID=America/New_York:20251208T190000
DTSTAMP:20260423T183925
CREATED:20240430T150156Z
LAST-MODIFIED:20240430T150156Z
UID:10003106-1765216800-1765220400@englewoodchristian.com
SUMMARY:AA Meeting
DESCRIPTION:
URL:https://englewoodchristian.com/event/aa-meeting/2025-12-08/
LOCATION:Englewood Christian Church\, 9600 Gulfstream Blvd\, Englewood\, FL\, 34224\, United States
CATEGORIES:Hosted
END:VEVENT
BEGIN:VEVENT
DTSTART;TZID=America/New_York:20251208T190000
DTEND;TZID=America/New_York:20251208T203000
DTSTAMP:20260423T183925
CREATED:20251113T171841Z
LAST-MODIFIED:20251119T192902Z
UID:10005397-1765220400-1765225800@englewoodchristian.com
SUMMARY:Men’s 4x4
DESCRIPTION:Men’s bible study group at the church Monday nights starting at 7pm.
URL:https://englewoodchristian.com/event/mens-4x4-3-2/2025-12-08/
LOCATION:Englewood Christian Church\, 9600 Gulfstream Blvd\, Englewood\, FL\, 34224\, United States
CATEGORIES:Adult,Mens
ORGANIZER;CN="Jim Chandler":MAILTO:jchandler@englewoodchristian.com
END:VEVENT
BEGIN:VEVENT
DTSTART;TZID=America/New_York:20251209T123000
DTEND;TZID=America/New_York:20251209T143000
DTSTAMP:20260423T183925
CREATED:20240102T185554Z
LAST-MODIFIED:20251113T171703Z
UID:10001733-1765283400-1765290600@englewoodchristian.com
SUMMARY:Tuesday Women's Bible Study
DESCRIPTION:
URL:https://englewoodchristian.com/event/tuesday-womens-bible-study/2025-12-09/
LOCATION:FL
CATEGORIES:Adult,Bible Study,Ladies,Women
END:VEVENT
BEGIN:VEVENT
DTSTART;TZID=America/New_York:20251209T183000
DTEND;TZID=America/New_York:20251209T201500
DTSTAMP:20260423T183925
CREATED:20240620T140951Z
LAST-MODIFIED:20251113T172153Z
UID:10004393-1765305000-1765311300@englewoodchristian.com
SUMMARY:Tuesday Night Small Group
DESCRIPTION:This Small Group meets Tuesday nights at 6:30pm and is led by Jim Chandler.
URL:https://englewoodchristian.com/event/tuesday-night-small-group/2025-12-09/
LOCATION:FL
CATEGORIES:Adult,Bible Study
ORGANIZER;CN="Jim Chandler":MAILTO:jchandler@englewoodchristian.com
END:VEVENT
BEGIN:VEVENT
DTSTART;TZID=America/New_York:20251210T100000
DTEND;TZID=America/New_York:20251210T110000
DTSTAMP:20260423T183925
CREATED:20251018T221053Z
LAST-MODIFIED:20251118T210010Z
UID:10005782-1765360800-1765364400@englewoodchristian.com
SUMMARY:Prayer Time
DESCRIPTION:Spend some time with others in prayer at Englewood Christian Church on Wednesdays at 10:00AM.
URL:https://englewoodchristian.com/event/prayer-time/2025-12-10/
LOCATION:Englewood Christian Church\, 9600 Gulfstream Blvd\, Englewood\, FL\, 34224\, United States
CATEGORIES:Public,Wednesday
ORGANIZER;CN="Jim Chandler":MAILTO:jchandler@englewoodchristian.com
END:VEVENT
BEGIN:VEVENT
DTSTART;TZID=America/New_York:20251210T180000
DTEND;TZID=America/New_York:20251210T190000
DTSTAMP:20260423T183925
CREATED:20251118T170126Z
LAST-MODIFIED:20251118T170126Z
UID:10006545-1765389600-1765393200@englewoodchristian.com
SUMMARY:Congregational Meeting
DESCRIPTION:December 10th in the Fellowship our congregation is invited to attend the meeting at 6PM.
URL:https://englewoodchristian.com/event/congregational-meeting/
LOCATION:ECC Fellowship Hall
CATEGORIES:Adult
ORGANIZER;CN="Jim Chandler":MAILTO:jchandler@englewoodchristian.com
END:VEVENT
BEGIN:VEVENT
DTSTART;TZID=America/New_York:20251211T090000
DTEND;TZID=America/New_York:20251211T100000
DTSTAMP:20260423T183925
CREATED:20231212T152706Z
LAST-MODIFIED:20251113T172636Z
UID:10001436-1765443600-1765447200@englewoodchristian.com
SUMMARY:Men's 4x4
DESCRIPTION:
URL:https://englewoodchristian.com/event/mens-4x4/2025-12-11/
LOCATION:Englewood Christian Church\, 9600 Gulfstream Blvd\, Englewood\, FL\, 34224\, United States
CATEGORIES:Bible Study,Mens
ATTACH;FMTTYPE=image/jpeg:https://englewoodchristian.com/wp-content/uploads/2023/06/mens_ministry_380x280.jpg
END:VEVENT
BEGIN:VEVENT
DTSTART;TZID=America/New_York:20251211T180000
DTEND;TZID=America/New_York:20251211T193000
DTSTAMP:20260423T183925
CREATED:20240620T153654Z
LAST-MODIFIED:20251113T172856Z
UID:10004930-1765476000-1765481400@englewoodchristian.com
SUMMARY:Thursday Night Small Group
DESCRIPTION:This small group meets every Thursday evening at 6:00pm.
URL:https://englewoodchristian.com/event/thursday-night-small-group/2025-12-11/
LOCATION:FL
CATEGORIES:Adult,Bible Study
END:VEVENT
BEGIN:VEVENT
DTSTART;TZID=America/New_York:20251212T183000
DTEND;TZID=America/New_York:20251212T203000
DTSTAMP:20260423T183925
CREATED:20251118T175759Z
LAST-MODIFIED:20251118T175759Z
UID:10006546-1765564200-1765571400@englewoodchristian.com
SUMMARY:Drive-In Movie Night
DESCRIPTION:Join ECC for an outdoor viewing of “The Best Christmas Pageant Ever” in the grass by the parking lot at 6:30PM. You may sit in your cars or bring an outdoor chair.
URL:https://englewoodchristian.com/event/drive-in-movie-night/
LOCATION:Englewood Christian Church\, 9600 Gulfstream Blvd\, Englewood\, FL\, 34224\, United States
CATEGORIES:Movie,Public,Special Event
ORGANIZER;CN="Jim Chandler":MAILTO:jchandler@englewoodchristian.com
END:VEVENT
BEGIN:VEVENT
DTSTART;TZID=America/New_York:20251214T093000
DTEND;TZID=America/New_York:20251214T101500
DTSTAMP:20260423T183925
CREATED:20240523T201136Z
LAST-MODIFIED:20240523T201138Z
UID:10004134-1765704600-1765707300@englewoodchristian.com
SUMMARY:Adult Sunday School
DESCRIPTION:
URL:https://englewoodchristian.com/event/adult-sunday-school-2-2-2/2025-12-14/
LOCATION:Englewood Christian Church\, 9600 Gulfstream Blvd\, Englewood\, FL\, 34224\, United States
CATEGORIES:Adult,Sunday,Sunday School
END:VEVENT
BEGIN:VEVENT
DTSTART;TZID=America/New_York:20251214T103000
DTEND;TZID=America/New_York:20251214T113000
DTSTAMP:20260423T183925
CREATED:20240523T200811Z
LAST-MODIFIED:20240523T200813Z
UID:10003614-1765708200-1765711800@englewoodchristian.com
SUMMARY:Sunday Worship Service
DESCRIPTION:
URL:https://englewoodchristian.com/event/sunday-worship-service/2025-12-14/
LOCATION:Englewood Christian Church\, 9600 Gulfstream Blvd\, Englewood\, FL\, 34224\, United States
CATEGORIES:Sunday,Worship Service
END:VEVENT
BEGIN:VEVENT
DTSTART;TZID=America/New_York:20251214T103000
DTEND;TZID=America/New_York:20251214T113000
DTSTAMP:20260423T183925
CREATED:20240523T201009Z
LAST-MODIFIED:20240523T201010Z
UID:10003874-1765708200-1765711800@englewoodchristian.com
SUMMARY:Children's Church
DESCRIPTION:
URL:https://englewoodchristian.com/event/childrens-church-3-2/2025-12-14/
LOCATION:Englewood Christian Church\, 9600 Gulfstream Blvd\, Englewood\, FL\, 34224\, United States
CATEGORIES:Kids,Sunday
ORGANIZER;CN="Andrew Lawson":MAILTO:alawson@englewoodchristian.com
END:VEVENT
BEGIN:VEVENT
DTSTART;TZID=America/New_York:20251214T180000
DTEND;TZID=America/New_York:20251214T190000
DTSTAMP:20260423T183925
CREATED:20240620T151840Z
LAST-MODIFIED:20240620T151840Z
UID:10004680-1765735200-1765738800@englewoodchristian.com
SUMMARY:Sunday Night Small Group
DESCRIPTION:This Small Group meets on Sunday evenings at 6:00pm and is led by Jim Chandler.
URL:https://englewoodchristian.com/event/sunday-night-small-group/2025-12-14/
LOCATION:FL
CATEGORIES:Adult,Bible Study
ORGANIZER;CN="Jim Chandler":MAILTO:jchandler@englewoodchristian.com
END:VEVENT
BEGIN:VEVENT
DTSTART;TZID=America/New_York:20251215T180000
DTEND;TZID=America/New_York:20251215T190000
DTSTAMP:20260423T183925
CREATED:20240430T150156Z
LAST-MODIFIED:20240430T150156Z
UID:10003107-1765821600-1765825200@englewoodchristian.com
SUMMARY:AA Meeting
DESCRIPTION:
URL:https://englewoodchristian.com/event/aa-meeting/2025-12-15/
LOCATION:Englewood Christian Church\, 9600 Gulfstream Blvd\, Englewood\, FL\, 34224\, United States
CATEGORIES:Hosted
END:VEVENT
BEGIN:VEVENT
DTSTART;TZID=America/New_York:20251215T190000
DTEND;TZID=America/New_York:20251215T203000
DTSTAMP:20260423T183925
CREATED:20251113T171841Z
LAST-MODIFIED:20251119T192902Z
UID:10005398-1765825200-1765830600@englewoodchristian.com
SUMMARY:Men’s 4x4
DESCRIPTION:Men’s bible study group at the church Monday nights starting at 7pm.
URL:https://englewoodchristian.com/event/mens-4x4-3-2/2025-12-15/
LOCATION:Englewood Christian Church\, 9600 Gulfstream Blvd\, Englewood\, FL\, 34224\, United States
CATEGORIES:Adult,Mens
ORGANIZER;CN="Jim Chandler":MAILTO:jchandler@englewoodchristian.com
END:VEVENT
BEGIN:VEVENT
DTSTART;TZID=America/New_York:20251216T123000
DTEND;TZID=America/New_York:20251216T143000
DTSTAMP:20260423T183925
CREATED:20240102T185554Z
LAST-MODIFIED:20251113T171703Z
UID:10001734-1765888200-1765895400@englewoodchristian.com
SUMMARY:Tuesday Women's Bible Study
DESCRIPTION:
URL:https://englewoodchristian.com/event/tuesday-womens-bible-study/2025-12-16/
LOCATION:FL
CATEGORIES:Adult,Bible Study,Ladies,Women
END:VEVENT
BEGIN:VEVENT
DTSTART;TZID=America/New_York:20251216T180000
DTEND;TZID=America/New_York:20251216T190000
DTSTAMP:20260423T183925
CREATED:20240430T153411Z
LAST-MODIFIED:20240430T153411Z
UID:10003364-1765908000-1765911600@englewoodchristian.com
SUMMARY:Girl Scouts
DESCRIPTION:
URL:https://englewoodchristian.com/event/girl-scouts-2024-21/2025-12-16/
LOCATION:Englewood Christian Church\, 9600 Gulfstream Blvd\, Englewood\, FL\, 34224\, United States
CATEGORIES:Hosted
END:VEVENT
END:VCALENDAR