BEGIN:VCALENDAR
VERSION:2.0
PRODID:-//Englewood Christian Church - ECPv6.15.20//NONSGML v1.0//EN
CALSCALE:GREGORIAN
METHOD:PUBLISH
X-ORIGINAL-URL:https://englewoodchristian.com
X-WR-CALDESC:Events for Englewood Christian Church
REFRESH-INTERVAL;VALUE=DURATION:PT1H
X-Robots-Tag:noindex
X-PUBLISHED-TTL:PT1H
BEGIN:VTIMEZONE
TZID:America/New_York
BEGIN:DAYLIGHT
TZOFFSETFROM:-0500
TZOFFSETTO:-0400
TZNAME:EDT
DTSTART:20260308T070000
END:DAYLIGHT
BEGIN:STANDARD
TZOFFSETFROM:-0400
TZOFFSETTO:-0500
TZNAME:EST
DTSTART:20261101T060000
END:STANDARD
BEGIN:DAYLIGHT
TZOFFSETFROM:-0500
TZOFFSETTO:-0400
TZNAME:EDT
DTSTART:20270314T070000
END:DAYLIGHT
BEGIN:STANDARD
TZOFFSETFROM:-0400
TZOFFSETTO:-0500
TZNAME:EST
DTSTART:20271107T060000
END:STANDARD
BEGIN:DAYLIGHT
TZOFFSETFROM:-0500
TZOFFSETTO:-0400
TZNAME:EDT
DTSTART:20280312T070000
END:DAYLIGHT
BEGIN:STANDARD
TZOFFSETFROM:-0400
TZOFFSETTO:-0500
TZNAME:EST
DTSTART:20281105T060000
END:STANDARD
END:VTIMEZONE
BEGIN:VEVENT
DTSTART;TZID=America/New_York:20271107T180000
DTEND;TZID=America/New_York:20271107T190000
DTSTAMP:20260423T212858
CREATED:20240620T151840Z
LAST-MODIFIED:20240620T151840Z
UID:10004779-1825610400-1825614000@englewoodchristian.com
SUMMARY:Sunday Night Small Group
DESCRIPTION:This Small Group meets on Sunday evenings at 6:00pm and is led by Jim Chandler.
URL:https://englewoodchristian.com/event/sunday-night-small-group/2027-11-07/
CATEGORIES:Adult,Bible Study
ORGANIZER;CN="Jim Chandler":MAILTO:jchandler@englewoodchristian.com
END:VEVENT
BEGIN:VEVENT
DTSTART;TZID=America/New_York:20271108T180000
DTEND;TZID=America/New_York:20271108T190000
DTSTAMP:20260423T212858
CREATED:20240430T150156Z
LAST-MODIFIED:20240430T150156Z
UID:10003206-1825696800-1825700400@englewoodchristian.com
SUMMARY:AA Meeting
DESCRIPTION:
URL:https://englewoodchristian.com/event/aa-meeting/2027-11-08/
LOCATION:Englewood Christian Church\, 9600 Gulfstream Blvd\, Englewood\, FL\, 34224\, United States
CATEGORIES:Hosted
END:VEVENT
BEGIN:VEVENT
DTSTART;TZID=America/New_York:20271108T190000
DTEND;TZID=America/New_York:20271108T203000
DTSTAMP:20260423T212858
CREATED:20251113T171841Z
LAST-MODIFIED:20251119T192902Z
UID:10005497-1825700400-1825705800@englewoodchristian.com
SUMMARY:Men’s 4x4
DESCRIPTION:Men’s bible study group at the church Monday nights starting at 7pm.
URL:https://englewoodchristian.com/event/mens-4x4-3-2/2027-11-08/
LOCATION:Englewood Christian Church\, 9600 Gulfstream Blvd\, Englewood\, FL\, 34224\, United States
CATEGORIES:Adult,Mens
ORGANIZER;CN="Jim Chandler":MAILTO:jchandler@englewoodchristian.com
END:VEVENT
BEGIN:VEVENT
DTSTART;TZID=America/New_York:20271109T123000
DTEND;TZID=America/New_York:20271109T143000
DTSTAMP:20260423T212858
CREATED:20240102T185554Z
LAST-MODIFIED:20251113T171703Z
UID:10001833-1825763400-1825770600@englewoodchristian.com
SUMMARY:Tuesday Women's Bible Study
DESCRIPTION:
URL:https://englewoodchristian.com/event/tuesday-womens-bible-study/2027-11-09/
CATEGORIES:Adult,Bible Study,Ladies,Women
END:VEVENT
BEGIN:VEVENT
DTSTART;TZID=America/New_York:20271109T183000
DTEND;TZID=America/New_York:20271109T201500
DTSTAMP:20260423T212858
CREATED:20240620T140951Z
LAST-MODIFIED:20251113T172153Z
UID:10004493-1825785000-1825791300@englewoodchristian.com
SUMMARY:Tuesday Night Small Group
DESCRIPTION:This Small Group meets Tuesday nights at 6:30pm and is led by Jim Chandler.
URL:https://englewoodchristian.com/event/tuesday-night-small-group/2027-11-09/
CATEGORIES:Adult,Bible Study
ORGANIZER;CN="Jim Chandler":MAILTO:jchandler@englewoodchristian.com
END:VEVENT
BEGIN:VEVENT
DTSTART;TZID=America/New_York:20271110T100000
DTEND;TZID=America/New_York:20271110T110000
DTSTAMP:20260423T212858
CREATED:20251018T221053Z
LAST-MODIFIED:20251118T210010Z
UID:10005882-1825840800-1825844400@englewoodchristian.com
SUMMARY:Prayer Time
DESCRIPTION:Spend some time with others in prayer at Englewood Christian Church on Wednesdays at 10:00AM.
URL:https://englewoodchristian.com/event/prayer-time/2027-11-10/
LOCATION:Englewood Christian Church\, 9600 Gulfstream Blvd\, Englewood\, FL\, 34224\, United States
CATEGORIES:Public,Wednesday
ORGANIZER;CN="Jim Chandler":MAILTO:jchandler@englewoodchristian.com
END:VEVENT
BEGIN:VEVENT
DTSTART;TZID=America/New_York:20271110T180000
DTEND;TZID=America/New_York:20271110T190000
DTSTAMP:20260423T212858
CREATED:20231031T010623Z
LAST-MODIFIED:20251118T205129Z
UID:10001276-1825869600-1825873200@englewoodchristian.com
SUMMARY:Adult Bible Study
DESCRIPTION:
URL:https://englewoodchristian.com/event/adult-bible-study-3/2027-11-10/
LOCATION:Englewood Christian Church\, 9600 Gulfstream Blvd\, Englewood\, FL\, 34224\, United States
CATEGORIES:Adult,Bible Study,Wednesday
END:VEVENT
BEGIN:VEVENT
DTSTART;TZID=America/New_York:20271111T090000
DTEND;TZID=America/New_York:20271111T100000
DTSTAMP:20260423T212858
CREATED:20231212T152706Z
LAST-MODIFIED:20251113T172636Z
UID:10001536-1825923600-1825927200@englewoodchristian.com
SUMMARY:Men's 4x4
DESCRIPTION:
URL:https://englewoodchristian.com/event/mens-4x4/2027-11-11/
LOCATION:Englewood Christian Church\, 9600 Gulfstream Blvd\, Englewood\, FL\, 34224\, United States
CATEGORIES:Bible Study,Mens
ATTACH;FMTTYPE=image/jpeg:https://englewoodchristian.com/wp-content/uploads/2023/06/mens_ministry_380x280.jpg
END:VEVENT
BEGIN:VEVENT
DTSTART;TZID=America/New_York:20271111T180000
DTEND;TZID=America/New_York:20271111T193000
DTSTAMP:20260423T212858
CREATED:20240620T153654Z
LAST-MODIFIED:20251113T172856Z
UID:10005030-1825956000-1825961400@englewoodchristian.com
SUMMARY:Thursday Night Small Group
DESCRIPTION:This small group meets every Thursday evening at 6:00pm.
URL:https://englewoodchristian.com/event/thursday-night-small-group/2027-11-11/
CATEGORIES:Adult,Bible Study
END:VEVENT
BEGIN:VEVENT
DTSTART;TZID=America/New_York:20271114T093000
DTEND;TZID=America/New_York:20271114T101500
DTSTAMP:20260423T212858
CREATED:20240523T201136Z
LAST-MODIFIED:20240523T201138Z
UID:10004234-1826184600-1826187300@englewoodchristian.com
SUMMARY:Adult Sunday School
DESCRIPTION:
URL:https://englewoodchristian.com/event/adult-sunday-school-2-2-2/2027-11-14/
LOCATION:Englewood Christian Church\, 9600 Gulfstream Blvd\, Englewood\, FL\, 34224\, United States
CATEGORIES:Adult,Sunday,Sunday School
END:VEVENT
BEGIN:VEVENT
DTSTART;TZID=America/New_York:20271114T103000
DTEND;TZID=America/New_York:20271114T113000
DTSTAMP:20260423T212858
CREATED:20240523T200811Z
LAST-MODIFIED:20240523T200813Z
UID:10003714-1826188200-1826191800@englewoodchristian.com
SUMMARY:Sunday Worship Service
DESCRIPTION:
URL:https://englewoodchristian.com/event/sunday-worship-service/2027-11-14/
LOCATION:Englewood Christian Church\, 9600 Gulfstream Blvd\, Englewood\, FL\, 34224\, United States
CATEGORIES:Sunday,Worship Service
END:VEVENT
BEGIN:VEVENT
DTSTART;TZID=America/New_York:20271114T103000
DTEND;TZID=America/New_York:20271114T113000
DTSTAMP:20260423T212858
CREATED:20240523T201009Z
LAST-MODIFIED:20240523T201010Z
UID:10003974-1826188200-1826191800@englewoodchristian.com
SUMMARY:Children's Church
DESCRIPTION:
URL:https://englewoodchristian.com/event/childrens-church-3-2/2027-11-14/
LOCATION:Englewood Christian Church\, 9600 Gulfstream Blvd\, Englewood\, FL\, 34224\, United States
CATEGORIES:Kids,Sunday
ORGANIZER;CN="Andrew Lawson":MAILTO:alawson@englewoodchristian.com
END:VEVENT
BEGIN:VEVENT
DTSTART;TZID=America/New_York:20271114T180000
DTEND;TZID=America/New_York:20271114T190000
DTSTAMP:20260423T212858
CREATED:20240620T151840Z
LAST-MODIFIED:20240620T151840Z
UID:10004780-1826215200-1826218800@englewoodchristian.com
SUMMARY:Sunday Night Small Group
DESCRIPTION:This Small Group meets on Sunday evenings at 6:00pm and is led by Jim Chandler.
URL:https://englewoodchristian.com/event/sunday-night-small-group/2027-11-14/
CATEGORIES:Adult,Bible Study
ORGANIZER;CN="Jim Chandler":MAILTO:jchandler@englewoodchristian.com
END:VEVENT
BEGIN:VEVENT
DTSTART;TZID=America/New_York:20271115T180000
DTEND;TZID=America/New_York:20271115T190000
DTSTAMP:20260423T212858
CREATED:20240430T150156Z
LAST-MODIFIED:20240430T150156Z
UID:10003207-1826301600-1826305200@englewoodchristian.com
SUMMARY:AA Meeting
DESCRIPTION:
URL:https://englewoodchristian.com/event/aa-meeting/2027-11-15/
LOCATION:Englewood Christian Church\, 9600 Gulfstream Blvd\, Englewood\, FL\, 34224\, United States
CATEGORIES:Hosted
END:VEVENT
BEGIN:VEVENT
DTSTART;TZID=America/New_York:20271115T190000
DTEND;TZID=America/New_York:20271115T203000
DTSTAMP:20260423T212858
CREATED:20251113T171841Z
LAST-MODIFIED:20251119T192902Z
UID:10005498-1826305200-1826310600@englewoodchristian.com
SUMMARY:Men’s 4x4
DESCRIPTION:Men’s bible study group at the church Monday nights starting at 7pm.
URL:https://englewoodchristian.com/event/mens-4x4-3-2/2027-11-15/
LOCATION:Englewood Christian Church\, 9600 Gulfstream Blvd\, Englewood\, FL\, 34224\, United States
CATEGORIES:Adult,Mens
ORGANIZER;CN="Jim Chandler":MAILTO:jchandler@englewoodchristian.com
END:VEVENT
BEGIN:VEVENT
DTSTART;TZID=America/New_York:20271116T123000
DTEND;TZID=America/New_York:20271116T143000
DTSTAMP:20260423T212858
CREATED:20240102T185554Z
LAST-MODIFIED:20251113T171703Z
UID:10001834-1826368200-1826375400@englewoodchristian.com
SUMMARY:Tuesday Women's Bible Study
DESCRIPTION:
URL:https://englewoodchristian.com/event/tuesday-womens-bible-study/2027-11-16/
CATEGORIES:Adult,Bible Study,Ladies,Women
END:VEVENT
BEGIN:VEVENT
DTSTART;TZID=America/New_York:20271116T180000
DTEND;TZID=America/New_York:20271116T190000
DTSTAMP:20260423T212858
CREATED:20240430T153411Z
LAST-MODIFIED:20240430T153411Z
UID:10003387-1826388000-1826391600@englewoodchristian.com
SUMMARY:Girl Scouts
DESCRIPTION:
URL:https://englewoodchristian.com/event/girl-scouts-2024-21/2027-11-16/
LOCATION:Englewood Christian Church\, 9600 Gulfstream Blvd\, Englewood\, FL\, 34224\, United States
CATEGORIES:Hosted
END:VEVENT
BEGIN:VEVENT
DTSTART;TZID=America/New_York:20271116T183000
DTEND;TZID=America/New_York:20271116T201500
DTSTAMP:20260423T212858
CREATED:20240620T140951Z
LAST-MODIFIED:20251113T172153Z
UID:10004494-1826389800-1826396100@englewoodchristian.com
SUMMARY:Tuesday Night Small Group
DESCRIPTION:This Small Group meets Tuesday nights at 6:30pm and is led by Jim Chandler.
URL:https://englewoodchristian.com/event/tuesday-night-small-group/2027-11-16/
CATEGORIES:Adult,Bible Study
ORGANIZER;CN="Jim Chandler":MAILTO:jchandler@englewoodchristian.com
END:VEVENT
BEGIN:VEVENT
DTSTART;TZID=America/New_York:20271117T100000
DTEND;TZID=America/New_York:20271117T110000
DTSTAMP:20260423T212858
CREATED:20251018T221053Z
LAST-MODIFIED:20251118T210010Z
UID:10005883-1826445600-1826449200@englewoodchristian.com
SUMMARY:Prayer Time
DESCRIPTION:Spend some time with others in prayer at Englewood Christian Church on Wednesdays at 10:00AM.
URL:https://englewoodchristian.com/event/prayer-time/2027-11-17/
LOCATION:Englewood Christian Church\, 9600 Gulfstream Blvd\, Englewood\, FL\, 34224\, United States
CATEGORIES:Public,Wednesday
ORGANIZER;CN="Jim Chandler":MAILTO:jchandler@englewoodchristian.com
END:VEVENT
BEGIN:VEVENT
DTSTART;TZID=America/New_York:20271117T180000
DTEND;TZID=America/New_York:20271117T190000
DTSTAMP:20260423T212858
CREATED:20231031T010623Z
LAST-MODIFIED:20251118T205129Z
UID:10001277-1826474400-1826478000@englewoodchristian.com
SUMMARY:Adult Bible Study
DESCRIPTION:
URL:https://englewoodchristian.com/event/adult-bible-study-3/2027-11-17/
LOCATION:Englewood Christian Church\, 9600 Gulfstream Blvd\, Englewood\, FL\, 34224\, United States
CATEGORIES:Adult,Bible Study,Wednesday
END:VEVENT
BEGIN:VEVENT
DTSTART;TZID=America/New_York:20271118T090000
DTEND;TZID=America/New_York:20271118T100000
DTSTAMP:20260423T212858
CREATED:20231212T152706Z
LAST-MODIFIED:20251113T172636Z
UID:10001537-1826528400-1826532000@englewoodchristian.com
SUMMARY:Men's 4x4
DESCRIPTION:
URL:https://englewoodchristian.com/event/mens-4x4/2027-11-18/
LOCATION:Englewood Christian Church\, 9600 Gulfstream Blvd\, Englewood\, FL\, 34224\, United States
CATEGORIES:Bible Study,Mens
ATTACH;FMTTYPE=image/jpeg:https://englewoodchristian.com/wp-content/uploads/2023/06/mens_ministry_380x280.jpg
END:VEVENT
BEGIN:VEVENT
DTSTART;TZID=America/New_York:20271118T180000
DTEND;TZID=America/New_York:20271118T193000
DTSTAMP:20260423T212858
CREATED:20240620T153654Z
LAST-MODIFIED:20251113T172856Z
UID:10005031-1826560800-1826566200@englewoodchristian.com
SUMMARY:Thursday Night Small Group
DESCRIPTION:This small group meets every Thursday evening at 6:00pm.
URL:https://englewoodchristian.com/event/thursday-night-small-group/2027-11-18/
CATEGORIES:Adult,Bible Study
END:VEVENT
BEGIN:VEVENT
DTSTART;TZID=America/New_York:20271121T093000
DTEND;TZID=America/New_York:20271121T101500
DTSTAMP:20260423T212858
CREATED:20240523T201136Z
LAST-MODIFIED:20240523T201138Z
UID:10004235-1826789400-1826792100@englewoodchristian.com
SUMMARY:Adult Sunday School
DESCRIPTION:
URL:https://englewoodchristian.com/event/adult-sunday-school-2-2-2/2027-11-21/
LOCATION:Englewood Christian Church\, 9600 Gulfstream Blvd\, Englewood\, FL\, 34224\, United States
CATEGORIES:Adult,Sunday,Sunday School
END:VEVENT
BEGIN:VEVENT
DTSTART;TZID=America/New_York:20271121T103000
DTEND;TZID=America/New_York:20271121T113000
DTSTAMP:20260423T212858
CREATED:20240523T200811Z
LAST-MODIFIED:20240523T200813Z
UID:10003715-1826793000-1826796600@englewoodchristian.com
SUMMARY:Sunday Worship Service
DESCRIPTION:
URL:https://englewoodchristian.com/event/sunday-worship-service/2027-11-21/
LOCATION:Englewood Christian Church\, 9600 Gulfstream Blvd\, Englewood\, FL\, 34224\, United States
CATEGORIES:Sunday,Worship Service
END:VEVENT
BEGIN:VEVENT
DTSTART;TZID=America/New_York:20271121T103000
DTEND;TZID=America/New_York:20271121T113000
DTSTAMP:20260423T212858
CREATED:20240523T201009Z
LAST-MODIFIED:20240523T201010Z
UID:10003975-1826793000-1826796600@englewoodchristian.com
SUMMARY:Children's Church
DESCRIPTION:
URL:https://englewoodchristian.com/event/childrens-church-3-2/2027-11-21/
LOCATION:Englewood Christian Church\, 9600 Gulfstream Blvd\, Englewood\, FL\, 34224\, United States
CATEGORIES:Kids,Sunday
ORGANIZER;CN="Andrew Lawson":MAILTO:alawson@englewoodchristian.com
END:VEVENT
BEGIN:VEVENT
DTSTART;TZID=America/New_York:20271121T180000
DTEND;TZID=America/New_York:20271121T190000
DTSTAMP:20260423T212858
CREATED:20240620T151840Z
LAST-MODIFIED:20240620T151840Z
UID:10004781-1826820000-1826823600@englewoodchristian.com
SUMMARY:Sunday Night Small Group
DESCRIPTION:This Small Group meets on Sunday evenings at 6:00pm and is led by Jim Chandler.
URL:https://englewoodchristian.com/event/sunday-night-small-group/2027-11-21/
CATEGORIES:Adult,Bible Study
ORGANIZER;CN="Jim Chandler":MAILTO:jchandler@englewoodchristian.com
END:VEVENT
BEGIN:VEVENT
DTSTART;TZID=America/New_York:20271122T180000
DTEND;TZID=America/New_York:20271122T190000
DTSTAMP:20260423T212858
CREATED:20240430T150156Z
LAST-MODIFIED:20240430T150156Z
UID:10003208-1826906400-1826910000@englewoodchristian.com
SUMMARY:AA Meeting
DESCRIPTION:
URL:https://englewoodchristian.com/event/aa-meeting/2027-11-22/
LOCATION:Englewood Christian Church\, 9600 Gulfstream Blvd\, Englewood\, FL\, 34224\, United States
CATEGORIES:Hosted
END:VEVENT
BEGIN:VEVENT
DTSTART;TZID=America/New_York:20271122T190000
DTEND;TZID=America/New_York:20271122T203000
DTSTAMP:20260423T212858
CREATED:20251113T171841Z
LAST-MODIFIED:20251119T192902Z
UID:10005499-1826910000-1826915400@englewoodchristian.com
SUMMARY:Men’s 4x4
DESCRIPTION:Men’s bible study group at the church Monday nights starting at 7pm.
URL:https://englewoodchristian.com/event/mens-4x4-3-2/2027-11-22/
LOCATION:Englewood Christian Church\, 9600 Gulfstream Blvd\, Englewood\, FL\, 34224\, United States
CATEGORIES:Adult,Mens
ORGANIZER;CN="Jim Chandler":MAILTO:jchandler@englewoodchristian.com
END:VEVENT
BEGIN:VEVENT
DTSTART;TZID=America/New_York:20271123T123000
DTEND;TZID=America/New_York:20271123T143000
DTSTAMP:20260423T212858
CREATED:20240102T185554Z
LAST-MODIFIED:20251113T171703Z
UID:10001835-1826973000-1826980200@englewoodchristian.com
SUMMARY:Tuesday Women's Bible Study
DESCRIPTION:
URL:https://englewoodchristian.com/event/tuesday-womens-bible-study/2027-11-23/
CATEGORIES:Adult,Bible Study,Ladies,Women
END:VEVENT
BEGIN:VEVENT
DTSTART;TZID=America/New_York:20271123T183000
DTEND;TZID=America/New_York:20271123T201500
DTSTAMP:20260423T212858
CREATED:20240620T140951Z
LAST-MODIFIED:20251113T172153Z
UID:10004495-1826994600-1827000900@englewoodchristian.com
SUMMARY:Tuesday Night Small Group
DESCRIPTION:This Small Group meets Tuesday nights at 6:30pm and is led by Jim Chandler.
URL:https://englewoodchristian.com/event/tuesday-night-small-group/2027-11-23/
CATEGORIES:Adult,Bible Study
ORGANIZER;CN="Jim Chandler":MAILTO:jchandler@englewoodchristian.com
END:VEVENT
END:VCALENDAR