BEGIN:VCALENDAR
VERSION:2.0
PRODID:-//Englewood Christian Church - ECPv6.15.20//NONSGML v1.0//EN
CALSCALE:GREGORIAN
METHOD:PUBLISH
X-WR-CALNAME:Englewood Christian Church
X-ORIGINAL-URL:https://englewoodchristian.com
X-WR-CALDESC:Events for Englewood Christian Church
REFRESH-INTERVAL;VALUE=DURATION:PT1H
X-Robots-Tag:noindex
X-PUBLISHED-TTL:PT1H
BEGIN:VTIMEZONE
TZID:America/New_York
BEGIN:DAYLIGHT
TZOFFSETFROM:-0500
TZOFFSETTO:-0400
TZNAME:EDT
DTSTART:20260308T070000
END:DAYLIGHT
BEGIN:STANDARD
TZOFFSETFROM:-0400
TZOFFSETTO:-0500
TZNAME:EST
DTSTART:20261101T060000
END:STANDARD
BEGIN:DAYLIGHT
TZOFFSETFROM:-0500
TZOFFSETTO:-0400
TZNAME:EDT
DTSTART:20270314T070000
END:DAYLIGHT
BEGIN:STANDARD
TZOFFSETFROM:-0400
TZOFFSETTO:-0500
TZNAME:EST
DTSTART:20271107T060000
END:STANDARD
BEGIN:DAYLIGHT
TZOFFSETFROM:-0500
TZOFFSETTO:-0400
TZNAME:EDT
DTSTART:20280312T070000
END:DAYLIGHT
BEGIN:STANDARD
TZOFFSETFROM:-0400
TZOFFSETTO:-0500
TZNAME:EST
DTSTART:20281105T060000
END:STANDARD
END:VTIMEZONE
BEGIN:VEVENT
DTSTART;TZID=America/New_York:20270517T190000
DTEND;TZID=America/New_York:20270517T203000
DTSTAMP:20260424T070431
CREATED:20251113T171841Z
LAST-MODIFIED:20251119T192902Z
UID:10005472-1810580400-1810585800@englewoodchristian.com
SUMMARY:Men’s 4x4
DESCRIPTION:Men’s bible study group at the church Monday nights starting at 7pm.
URL:https://englewoodchristian.com/event/mens-4x4-3-2/2027-05-17/
LOCATION:Englewood Christian Church\, 9600 Gulfstream Blvd\, Englewood\, FL\, 34224\, United States
CATEGORIES:Adult,Mens
ORGANIZER;CN="Jim Chandler":MAILTO:jchandler@englewoodchristian.com
END:VEVENT
BEGIN:VEVENT
DTSTART;TZID=America/New_York:20270518T123000
DTEND;TZID=America/New_York:20270518T143000
DTSTAMP:20260424T070432
CREATED:20240102T185554Z
LAST-MODIFIED:20251113T171703Z
UID:10001808-1810643400-1810650600@englewoodchristian.com
SUMMARY:Tuesday Women's Bible Study
DESCRIPTION:
URL:https://englewoodchristian.com/event/tuesday-womens-bible-study/2027-05-18/
CATEGORIES:Adult,Bible Study,Ladies,Women
END:VEVENT
BEGIN:VEVENT
DTSTART;TZID=America/New_York:20270518T180000
DTEND;TZID=America/New_York:20270518T190000
DTSTAMP:20260424T070432
CREATED:20240430T153411Z
LAST-MODIFIED:20240430T153411Z
UID:10003381-1810663200-1810666800@englewoodchristian.com
SUMMARY:Girl Scouts
DESCRIPTION:
URL:https://englewoodchristian.com/event/girl-scouts-2024-21/2027-05-18/
LOCATION:Englewood Christian Church\, 9600 Gulfstream Blvd\, Englewood\, FL\, 34224\, United States
CATEGORIES:Hosted
END:VEVENT
BEGIN:VEVENT
DTSTART;TZID=America/New_York:20270518T183000
DTEND;TZID=America/New_York:20270518T201500
DTSTAMP:20260424T070432
CREATED:20240620T140951Z
LAST-MODIFIED:20251113T172153Z
UID:10004468-1810665000-1810671300@englewoodchristian.com
SUMMARY:Tuesday Night Small Group
DESCRIPTION:This Small Group meets Tuesday nights at 6:30pm and is led by Jim Chandler.
URL:https://englewoodchristian.com/event/tuesday-night-small-group/2027-05-18/
CATEGORIES:Adult,Bible Study
ORGANIZER;CN="Jim Chandler":MAILTO:jchandler@englewoodchristian.com
END:VEVENT
BEGIN:VEVENT
DTSTART;TZID=America/New_York:20270519T100000
DTEND;TZID=America/New_York:20270519T110000
DTSTAMP:20260424T070432
CREATED:20251018T221053Z
LAST-MODIFIED:20251118T210010Z
UID:10005857-1810720800-1810724400@englewoodchristian.com
SUMMARY:Prayer Time
DESCRIPTION:Spend some time with others in prayer at Englewood Christian Church on Wednesdays at 10:00AM.
URL:https://englewoodchristian.com/event/prayer-time/2027-05-19/
LOCATION:Englewood Christian Church\, 9600 Gulfstream Blvd\, Englewood\, FL\, 34224\, United States
CATEGORIES:Public,Wednesday
ORGANIZER;CN="Jim Chandler":MAILTO:jchandler@englewoodchristian.com
END:VEVENT
BEGIN:VEVENT
DTSTART;TZID=America/New_York:20270519T180000
DTEND;TZID=America/New_York:20270519T190000
DTSTAMP:20260424T070432
CREATED:20231031T010623Z
LAST-MODIFIED:20251118T205129Z
UID:10001251-1810749600-1810753200@englewoodchristian.com
SUMMARY:Adult Bible Study
DESCRIPTION:
URL:https://englewoodchristian.com/event/adult-bible-study-3/2027-05-19/
LOCATION:Englewood Christian Church\, 9600 Gulfstream Blvd\, Englewood\, FL\, 34224\, United States
CATEGORIES:Adult,Bible Study,Wednesday
END:VEVENT
BEGIN:VEVENT
DTSTART;TZID=America/New_York:20270520T090000
DTEND;TZID=America/New_York:20270520T100000
DTSTAMP:20260424T070432
CREATED:20231212T152706Z
LAST-MODIFIED:20251113T172636Z
UID:10001511-1810803600-1810807200@englewoodchristian.com
SUMMARY:Men's 4x4
DESCRIPTION:
URL:https://englewoodchristian.com/event/mens-4x4/2027-05-20/
LOCATION:Englewood Christian Church\, 9600 Gulfstream Blvd\, Englewood\, FL\, 34224\, United States
CATEGORIES:Bible Study,Mens
ATTACH;FMTTYPE=image/jpeg:https://englewoodchristian.com/wp-content/uploads/2023/06/mens_ministry_380x280.jpg
END:VEVENT
BEGIN:VEVENT
DTSTART;TZID=America/New_York:20270520T180000
DTEND;TZID=America/New_York:20270520T193000
DTSTAMP:20260424T070432
CREATED:20240620T153654Z
LAST-MODIFIED:20251113T172856Z
UID:10005005-1810836000-1810841400@englewoodchristian.com
SUMMARY:Thursday Night Small Group
DESCRIPTION:This small group meets every Thursday evening at 6:00pm.
URL:https://englewoodchristian.com/event/thursday-night-small-group/2027-05-20/
CATEGORIES:Adult,Bible Study
END:VEVENT
BEGIN:VEVENT
DTSTART;TZID=America/New_York:20270523T093000
DTEND;TZID=America/New_York:20270523T101500
DTSTAMP:20260424T070432
CREATED:20240523T201136Z
LAST-MODIFIED:20240523T201138Z
UID:10004209-1811064600-1811067300@englewoodchristian.com
SUMMARY:Adult Sunday School
DESCRIPTION:
URL:https://englewoodchristian.com/event/adult-sunday-school-2-2-2/2027-05-23/
LOCATION:Englewood Christian Church\, 9600 Gulfstream Blvd\, Englewood\, FL\, 34224\, United States
CATEGORIES:Adult,Sunday,Sunday School
END:VEVENT
BEGIN:VEVENT
DTSTART;TZID=America/New_York:20270523T103000
DTEND;TZID=America/New_York:20270523T113000
DTSTAMP:20260424T070432
CREATED:20240523T200811Z
LAST-MODIFIED:20240523T200813Z
UID:10003689-1811068200-1811071800@englewoodchristian.com
SUMMARY:Sunday Worship Service
DESCRIPTION:
URL:https://englewoodchristian.com/event/sunday-worship-service/2027-05-23/
LOCATION:Englewood Christian Church\, 9600 Gulfstream Blvd\, Englewood\, FL\, 34224\, United States
CATEGORIES:Sunday,Worship Service
END:VEVENT
BEGIN:VEVENT
DTSTART;TZID=America/New_York:20270523T103000
DTEND;TZID=America/New_York:20270523T113000
DTSTAMP:20260424T070432
CREATED:20240523T201009Z
LAST-MODIFIED:20240523T201010Z
UID:10003949-1811068200-1811071800@englewoodchristian.com
SUMMARY:Children's Church
DESCRIPTION:
URL:https://englewoodchristian.com/event/childrens-church-3-2/2027-05-23/
LOCATION:Englewood Christian Church\, 9600 Gulfstream Blvd\, Englewood\, FL\, 34224\, United States
CATEGORIES:Kids,Sunday
ORGANIZER;CN="Andrew Lawson":MAILTO:alawson@englewoodchristian.com
END:VEVENT
BEGIN:VEVENT
DTSTART;TZID=America/New_York:20270523T180000
DTEND;TZID=America/New_York:20270523T190000
DTSTAMP:20260424T070432
CREATED:20240620T151840Z
LAST-MODIFIED:20240620T151840Z
UID:10004755-1811095200-1811098800@englewoodchristian.com
SUMMARY:Sunday Night Small Group
DESCRIPTION:This Small Group meets on Sunday evenings at 6:00pm and is led by Jim Chandler.
URL:https://englewoodchristian.com/event/sunday-night-small-group/2027-05-23/
CATEGORIES:Adult,Bible Study
ORGANIZER;CN="Jim Chandler":MAILTO:jchandler@englewoodchristian.com
END:VEVENT
BEGIN:VEVENT
DTSTART;TZID=America/New_York:20270524T180000
DTEND;TZID=America/New_York:20270524T190000
DTSTAMP:20260424T070432
CREATED:20240430T150156Z
LAST-MODIFIED:20240430T150156Z
UID:10003182-1811181600-1811185200@englewoodchristian.com
SUMMARY:AA Meeting
DESCRIPTION:
URL:https://englewoodchristian.com/event/aa-meeting/2027-05-24/
LOCATION:Englewood Christian Church\, 9600 Gulfstream Blvd\, Englewood\, FL\, 34224\, United States
CATEGORIES:Hosted
END:VEVENT
BEGIN:VEVENT
DTSTART;TZID=America/New_York:20270524T190000
DTEND;TZID=America/New_York:20270524T203000
DTSTAMP:20260424T070432
CREATED:20251113T171841Z
LAST-MODIFIED:20251119T192902Z
UID:10005473-1811185200-1811190600@englewoodchristian.com
SUMMARY:Men’s 4x4
DESCRIPTION:Men’s bible study group at the church Monday nights starting at 7pm.
URL:https://englewoodchristian.com/event/mens-4x4-3-2/2027-05-24/
LOCATION:Englewood Christian Church\, 9600 Gulfstream Blvd\, Englewood\, FL\, 34224\, United States
CATEGORIES:Adult,Mens
ORGANIZER;CN="Jim Chandler":MAILTO:jchandler@englewoodchristian.com
END:VEVENT
BEGIN:VEVENT
DTSTART;TZID=America/New_York:20270525T123000
DTEND;TZID=America/New_York:20270525T143000
DTSTAMP:20260424T070432
CREATED:20240102T185554Z
LAST-MODIFIED:20251113T171703Z
UID:10001809-1811248200-1811255400@englewoodchristian.com
SUMMARY:Tuesday Women's Bible Study
DESCRIPTION:
URL:https://englewoodchristian.com/event/tuesday-womens-bible-study/2027-05-25/
CATEGORIES:Adult,Bible Study,Ladies,Women
END:VEVENT
BEGIN:VEVENT
DTSTART;TZID=America/New_York:20270525T183000
DTEND;TZID=America/New_York:20270525T201500
DTSTAMP:20260424T070432
CREATED:20240620T140951Z
LAST-MODIFIED:20251113T172153Z
UID:10004469-1811269800-1811276100@englewoodchristian.com
SUMMARY:Tuesday Night Small Group
DESCRIPTION:This Small Group meets Tuesday nights at 6:30pm and is led by Jim Chandler.
URL:https://englewoodchristian.com/event/tuesday-night-small-group/2027-05-25/
CATEGORIES:Adult,Bible Study
ORGANIZER;CN="Jim Chandler":MAILTO:jchandler@englewoodchristian.com
END:VEVENT
BEGIN:VEVENT
DTSTART;TZID=America/New_York:20270526T100000
DTEND;TZID=America/New_York:20270526T110000
DTSTAMP:20260424T070432
CREATED:20251018T221053Z
LAST-MODIFIED:20251118T210010Z
UID:10005858-1811325600-1811329200@englewoodchristian.com
SUMMARY:Prayer Time
DESCRIPTION:Spend some time with others in prayer at Englewood Christian Church on Wednesdays at 10:00AM.
URL:https://englewoodchristian.com/event/prayer-time/2027-05-26/
LOCATION:Englewood Christian Church\, 9600 Gulfstream Blvd\, Englewood\, FL\, 34224\, United States
CATEGORIES:Public,Wednesday
ORGANIZER;CN="Jim Chandler":MAILTO:jchandler@englewoodchristian.com
END:VEVENT
BEGIN:VEVENT
DTSTART;TZID=America/New_York:20270526T180000
DTEND;TZID=America/New_York:20270526T190000
DTSTAMP:20260424T070432
CREATED:20231031T010623Z
LAST-MODIFIED:20251118T205129Z
UID:10001252-1811354400-1811358000@englewoodchristian.com
SUMMARY:Adult Bible Study
DESCRIPTION:
URL:https://englewoodchristian.com/event/adult-bible-study-3/2027-05-26/
LOCATION:Englewood Christian Church\, 9600 Gulfstream Blvd\, Englewood\, FL\, 34224\, United States
CATEGORIES:Adult,Bible Study,Wednesday
END:VEVENT
BEGIN:VEVENT
DTSTART;TZID=America/New_York:20270527T090000
DTEND;TZID=America/New_York:20270527T100000
DTSTAMP:20260424T070432
CREATED:20231212T152706Z
LAST-MODIFIED:20251113T172636Z
UID:10001512-1811408400-1811412000@englewoodchristian.com
SUMMARY:Men's 4x4
DESCRIPTION:
URL:https://englewoodchristian.com/event/mens-4x4/2027-05-27/
LOCATION:Englewood Christian Church\, 9600 Gulfstream Blvd\, Englewood\, FL\, 34224\, United States
CATEGORIES:Bible Study,Mens
ATTACH;FMTTYPE=image/jpeg:https://englewoodchristian.com/wp-content/uploads/2023/06/mens_ministry_380x280.jpg
END:VEVENT
BEGIN:VEVENT
DTSTART;TZID=America/New_York:20270527T180000
DTEND;TZID=America/New_York:20270527T193000
DTSTAMP:20260424T070432
CREATED:20240620T153654Z
LAST-MODIFIED:20251113T172856Z
UID:10005006-1811440800-1811446200@englewoodchristian.com
SUMMARY:Thursday Night Small Group
DESCRIPTION:This small group meets every Thursday evening at 6:00pm.
URL:https://englewoodchristian.com/event/thursday-night-small-group/2027-05-27/
CATEGORIES:Adult,Bible Study
END:VEVENT
BEGIN:VEVENT
DTSTART;TZID=America/New_York:20270530T093000
DTEND;TZID=America/New_York:20270530T101500
DTSTAMP:20260424T070432
CREATED:20240523T201136Z
LAST-MODIFIED:20240523T201138Z
UID:10004210-1811669400-1811672100@englewoodchristian.com
SUMMARY:Adult Sunday School
DESCRIPTION:
URL:https://englewoodchristian.com/event/adult-sunday-school-2-2-2/2027-05-30/
LOCATION:Englewood Christian Church\, 9600 Gulfstream Blvd\, Englewood\, FL\, 34224\, United States
CATEGORIES:Adult,Sunday,Sunday School
END:VEVENT
BEGIN:VEVENT
DTSTART;TZID=America/New_York:20270530T103000
DTEND;TZID=America/New_York:20270530T113000
DTSTAMP:20260424T070432
CREATED:20240523T200811Z
LAST-MODIFIED:20240523T200813Z
UID:10003690-1811673000-1811676600@englewoodchristian.com
SUMMARY:Sunday Worship Service
DESCRIPTION:
URL:https://englewoodchristian.com/event/sunday-worship-service/2027-05-30/
LOCATION:Englewood Christian Church\, 9600 Gulfstream Blvd\, Englewood\, FL\, 34224\, United States
CATEGORIES:Sunday,Worship Service
END:VEVENT
BEGIN:VEVENT
DTSTART;TZID=America/New_York:20270530T103000
DTEND;TZID=America/New_York:20270530T113000
DTSTAMP:20260424T070432
CREATED:20240523T201009Z
LAST-MODIFIED:20240523T201010Z
UID:10003950-1811673000-1811676600@englewoodchristian.com
SUMMARY:Children's Church
DESCRIPTION:
URL:https://englewoodchristian.com/event/childrens-church-3-2/2027-05-30/
LOCATION:Englewood Christian Church\, 9600 Gulfstream Blvd\, Englewood\, FL\, 34224\, United States
CATEGORIES:Kids,Sunday
ORGANIZER;CN="Andrew Lawson":MAILTO:alawson@englewoodchristian.com
END:VEVENT
BEGIN:VEVENT
DTSTART;TZID=America/New_York:20270530T180000
DTEND;TZID=America/New_York:20270530T190000
DTSTAMP:20260424T070432
CREATED:20240620T151840Z
LAST-MODIFIED:20240620T151840Z
UID:10004756-1811700000-1811703600@englewoodchristian.com
SUMMARY:Sunday Night Small Group
DESCRIPTION:This Small Group meets on Sunday evenings at 6:00pm and is led by Jim Chandler.
URL:https://englewoodchristian.com/event/sunday-night-small-group/2027-05-30/
CATEGORIES:Adult,Bible Study
ORGANIZER;CN="Jim Chandler":MAILTO:jchandler@englewoodchristian.com
END:VEVENT
BEGIN:VEVENT
DTSTART;TZID=America/New_York:20270531T180000
DTEND;TZID=America/New_York:20270531T190000
DTSTAMP:20260424T070432
CREATED:20240430T150156Z
LAST-MODIFIED:20240430T150156Z
UID:10003183-1811786400-1811790000@englewoodchristian.com
SUMMARY:AA Meeting
DESCRIPTION:
URL:https://englewoodchristian.com/event/aa-meeting/2027-05-31/
LOCATION:Englewood Christian Church\, 9600 Gulfstream Blvd\, Englewood\, FL\, 34224\, United States
CATEGORIES:Hosted
END:VEVENT
BEGIN:VEVENT
DTSTART;TZID=America/New_York:20270531T190000
DTEND;TZID=America/New_York:20270531T203000
DTSTAMP:20260424T070432
CREATED:20251113T171841Z
LAST-MODIFIED:20251119T192902Z
UID:10005474-1811790000-1811795400@englewoodchristian.com
SUMMARY:Men’s 4x4
DESCRIPTION:Men’s bible study group at the church Monday nights starting at 7pm.
URL:https://englewoodchristian.com/event/mens-4x4-3-2/2027-05-31/
LOCATION:Englewood Christian Church\, 9600 Gulfstream Blvd\, Englewood\, FL\, 34224\, United States
CATEGORIES:Adult,Mens
ORGANIZER;CN="Jim Chandler":MAILTO:jchandler@englewoodchristian.com
END:VEVENT
BEGIN:VEVENT
DTSTART;TZID=America/New_York:20270601T123000
DTEND;TZID=America/New_York:20270601T143000
DTSTAMP:20260424T070432
CREATED:20240102T185554Z
LAST-MODIFIED:20251113T171703Z
UID:10001810-1811853000-1811860200@englewoodchristian.com
SUMMARY:Tuesday Women's Bible Study
DESCRIPTION:
URL:https://englewoodchristian.com/event/tuesday-womens-bible-study/2027-06-01/
CATEGORIES:Adult,Bible Study,Ladies,Women
END:VEVENT
BEGIN:VEVENT
DTSTART;TZID=America/New_York:20270601T180000
DTEND;TZID=America/New_York:20270601T190000
DTSTAMP:20260424T070432
CREATED:20240430T153129Z
LAST-MODIFIED:20240430T153129Z
UID:10003322-1811872800-1811876400@englewoodchristian.com
SUMMARY:Girl Scouts
DESCRIPTION:
URL:https://englewoodchristian.com/event/girl-scouts-2024-5/2027-06-01/
LOCATION:Englewood Christian Church\, 9600 Gulfstream Blvd\, Englewood\, FL\, 34224\, United States
CATEGORIES:Hosted
END:VEVENT
BEGIN:VEVENT
DTSTART;TZID=America/New_York:20270601T183000
DTEND;TZID=America/New_York:20270601T201500
DTSTAMP:20260424T070432
CREATED:20240620T140951Z
LAST-MODIFIED:20251113T172153Z
UID:10004470-1811874600-1811880900@englewoodchristian.com
SUMMARY:Tuesday Night Small Group
DESCRIPTION:This Small Group meets Tuesday nights at 6:30pm and is led by Jim Chandler.
URL:https://englewoodchristian.com/event/tuesday-night-small-group/2027-06-01/
CATEGORIES:Adult,Bible Study
ORGANIZER;CN="Jim Chandler":MAILTO:jchandler@englewoodchristian.com
END:VEVENT
BEGIN:VEVENT
DTSTART;TZID=America/New_York:20270602T100000
DTEND;TZID=America/New_York:20270602T110000
DTSTAMP:20260424T070432
CREATED:20251018T221053Z
LAST-MODIFIED:20251118T210010Z
UID:10005859-1811930400-1811934000@englewoodchristian.com
SUMMARY:Prayer Time
DESCRIPTION:Spend some time with others in prayer at Englewood Christian Church on Wednesdays at 10:00AM.
URL:https://englewoodchristian.com/event/prayer-time/2027-06-02/
LOCATION:Englewood Christian Church\, 9600 Gulfstream Blvd\, Englewood\, FL\, 34224\, United States
CATEGORIES:Public,Wednesday
ORGANIZER;CN="Jim Chandler":MAILTO:jchandler@englewoodchristian.com
END:VEVENT
END:VCALENDAR