BEGIN:VCALENDAR
VERSION:2.0
PRODID:-//Englewood Christian Church - ECPv6.15.20//NONSGML v1.0//EN
CALSCALE:GREGORIAN
METHOD:PUBLISH
X-WR-CALNAME:Englewood Christian Church
X-ORIGINAL-URL:https://englewoodchristian.com
X-WR-CALDESC:Events for Englewood Christian Church
REFRESH-INTERVAL;VALUE=DURATION:PT1H
X-Robots-Tag:noindex
X-PUBLISHED-TTL:PT1H
BEGIN:VTIMEZONE
TZID:America/New_York
BEGIN:DAYLIGHT
TZOFFSETFROM:-0500
TZOFFSETTO:-0400
TZNAME:EDT
DTSTART:20230312T070000
END:DAYLIGHT
BEGIN:STANDARD
TZOFFSETFROM:-0400
TZOFFSETTO:-0500
TZNAME:EST
DTSTART:20231105T060000
END:STANDARD
BEGIN:DAYLIGHT
TZOFFSETFROM:-0500
TZOFFSETTO:-0400
TZNAME:EDT
DTSTART:20240310T070000
END:DAYLIGHT
BEGIN:STANDARD
TZOFFSETFROM:-0400
TZOFFSETTO:-0500
TZNAME:EST
DTSTART:20241103T060000
END:STANDARD
BEGIN:DAYLIGHT
TZOFFSETFROM:-0500
TZOFFSETTO:-0400
TZNAME:EDT
DTSTART:20250309T070000
END:DAYLIGHT
BEGIN:STANDARD
TZOFFSETFROM:-0400
TZOFFSETTO:-0500
TZNAME:EST
DTSTART:20251102T060000
END:STANDARD
END:VTIMEZONE
BEGIN:VEVENT
DTSTART;TZID=America/New_York:20240811T103000
DTEND;TZID=America/New_York:20240811T113000
DTSTAMP:20260424T063532
CREATED:20240523T200811Z
LAST-MODIFIED:20240523T200813Z
UID:10003544-1723372200-1723375800@englewoodchristian.com
SUMMARY:Sunday Worship Service
DESCRIPTION:
URL:https://englewoodchristian.com/event/sunday-worship-service/2024-08-11/
LOCATION:Englewood Christian Church\, 9600 Gulfstream Blvd\, Englewood\, FL\, 34224\, United States
CATEGORIES:Sunday,Worship Service
END:VEVENT
BEGIN:VEVENT
DTSTART;TZID=America/New_York:20240811T093000
DTEND;TZID=America/New_York:20240811T101500
DTSTAMP:20260424T063532
CREATED:20240523T201136Z
LAST-MODIFIED:20240523T201138Z
UID:10004064-1723368600-1723371300@englewoodchristian.com
SUMMARY:Adult Sunday School
DESCRIPTION:
URL:https://englewoodchristian.com/event/adult-sunday-school-2-2-2/2024-08-11/
LOCATION:Englewood Christian Church\, 9600 Gulfstream Blvd\, Englewood\, FL\, 34224\, United States
CATEGORIES:Adult,Sunday,Sunday School
END:VEVENT
BEGIN:VEVENT
DTSTART;TZID=America/New_York:20240810T103000
DTEND;TZID=America/New_York:20240810T113000
DTSTAMP:20260424T063532
CREATED:20240725T133908Z
LAST-MODIFIED:20240725T133908Z
UID:10005119-1723285800-1723289400@englewoodchristian.com
SUMMARY:Ladies Bible Study
DESCRIPTION:The Ladies Bible Study meets every 2nd and 4th Saturday @ 10:30 am.  All ladies are welcome!
URL:https://englewoodchristian.com/event/ladies-bible-study/
LOCATION:Englewood Christian Church\, 9600 Gulfstream Blvd\, Englewood\, FL\, 34224\, United States
CATEGORIES:Bible Study,Ladies,Women
ORGANIZER;CN="Lindsay Lawson":MAILTO:llawson@englewoodchristian.com
END:VEVENT
BEGIN:VEVENT
DTSTART;TZID=America/New_York:20240808T090000
DTEND;TZID=America/New_York:20240808T100000
DTSTAMP:20260424T063532
CREATED:20231212T152706Z
LAST-MODIFIED:20251113T172636Z
UID:10001366-1723107600-1723111200@englewoodchristian.com
SUMMARY:Men's 4x4
DESCRIPTION:
URL:https://englewoodchristian.com/event/mens-4x4/2024-08-08/
LOCATION:Englewood Christian Church\, 9600 Gulfstream Blvd\, Englewood\, FL\, 34224\, United States
CATEGORIES:Bible Study,Mens
ATTACH;FMTTYPE=image/jpeg:https://englewoodchristian.com/wp-content/uploads/2023/06/mens_ministry_380x280.jpg
END:VEVENT
BEGIN:VEVENT
DTSTART;TZID=America/New_York:20240807T180000
DTEND;TZID=America/New_York:20240807T190000
DTSTAMP:20260424T063532
CREATED:20231031T010623Z
LAST-MODIFIED:20251118T205129Z
UID:10001106-1723053600-1723057200@englewoodchristian.com
SUMMARY:Adult Bible Study
DESCRIPTION:
URL:https://englewoodchristian.com/event/adult-bible-study-3/2024-08-07/
LOCATION:Englewood Christian Church\, 9600 Gulfstream Blvd\, Englewood\, FL\, 34224\, United States
CATEGORIES:Adult,Bible Study,Wednesday
END:VEVENT
BEGIN:VEVENT
DTSTART;TZID=America/New_York:20240806T183000
DTEND;TZID=America/New_York:20240806T201500
DTSTAMP:20260424T063532
CREATED:20240620T140951Z
LAST-MODIFIED:20251113T172153Z
UID:10004323-1722969000-1722975300@englewoodchristian.com
SUMMARY:Tuesday Night Small Group
DESCRIPTION:This Small Group meets Tuesday nights at 6:30pm and is led by Jim Chandler.
URL:https://englewoodchristian.com/event/tuesday-night-small-group/2024-08-06/
CATEGORIES:Adult,Bible Study
ORGANIZER;CN="Jim Chandler":MAILTO:jchandler@englewoodchristian.com
END:VEVENT
BEGIN:VEVENT
DTSTART;TZID=America/New_York:20240806T180000
DTEND;TZID=America/New_York:20240806T190000
DTSTAMP:20260424T063532
CREATED:20240430T153129Z
LAST-MODIFIED:20240430T153129Z
UID:10003288-1722967200-1722970800@englewoodchristian.com
SUMMARY:Girl Scouts
DESCRIPTION:
URL:https://englewoodchristian.com/event/girl-scouts-2024-5/2024-08-06/
LOCATION:Englewood Christian Church\, 9600 Gulfstream Blvd\, Englewood\, FL\, 34224\, United States
CATEGORIES:Hosted
END:VEVENT
BEGIN:VEVENT
DTSTART;TZID=America/New_York:20240806T123000
DTEND;TZID=America/New_York:20240806T143000
DTSTAMP:20260424T063532
CREATED:20240102T185554Z
LAST-MODIFIED:20251113T171703Z
UID:10001663-1722947400-1722954600@englewoodchristian.com
SUMMARY:Tuesday Women's Bible Study
DESCRIPTION:
URL:https://englewoodchristian.com/event/tuesday-womens-bible-study/2024-08-06/
CATEGORIES:Adult,Bible Study,Ladies,Women
END:VEVENT
BEGIN:VEVENT
DTSTART;TZID=America/New_York:20240805T180000
DTEND;TZID=America/New_York:20240805T190000
DTSTAMP:20260424T063532
CREATED:20240430T150156Z
LAST-MODIFIED:20240430T150156Z
UID:10003036-1722880800-1722884400@englewoodchristian.com
SUMMARY:AA Meeting
DESCRIPTION:
URL:https://englewoodchristian.com/event/aa-meeting/2024-08-05/
LOCATION:Englewood Christian Church\, 9600 Gulfstream Blvd\, Englewood\, FL\, 34224\, United States
CATEGORIES:Hosted
END:VEVENT
BEGIN:VEVENT
DTSTART;TZID=America/New_York:20240804T180000
DTEND;TZID=America/New_York:20240804T190000
DTSTAMP:20260424T063532
CREATED:20240620T151840Z
LAST-MODIFIED:20240620T151840Z
UID:10004609-1722794400-1722798000@englewoodchristian.com
SUMMARY:Sunday Night Small Group
DESCRIPTION:This Small Group meets on Sunday evenings at 6:00pm and is led by Jim Chandler.
URL:https://englewoodchristian.com/event/sunday-night-small-group/2024-08-04/
CATEGORIES:Adult,Bible Study
ORGANIZER;CN="Jim Chandler":MAILTO:jchandler@englewoodchristian.com
END:VEVENT
BEGIN:VEVENT
DTSTART;TZID=America/New_York:20240804T103000
DTEND;TZID=America/New_York:20240804T113000
DTSTAMP:20260424T063532
CREATED:20240523T201009Z
LAST-MODIFIED:20240523T201010Z
UID:10003803-1722767400-1722771000@englewoodchristian.com
SUMMARY:Children's Church
DESCRIPTION:
URL:https://englewoodchristian.com/event/childrens-church-3-2/2024-08-04/
LOCATION:Englewood Christian Church\, 9600 Gulfstream Blvd\, Englewood\, FL\, 34224\, United States
CATEGORIES:Kids,Sunday
ORGANIZER;CN="Andrew Lawson":MAILTO:alawson@englewoodchristian.com
END:VEVENT
BEGIN:VEVENT
DTSTART;TZID=America/New_York:20240804T103000
DTEND;TZID=America/New_York:20240804T113000
DTSTAMP:20260424T063532
CREATED:20240523T200811Z
LAST-MODIFIED:20240523T200813Z
UID:10003543-1722767400-1722771000@englewoodchristian.com
SUMMARY:Sunday Worship Service
DESCRIPTION:
URL:https://englewoodchristian.com/event/sunday-worship-service/2024-08-04/
LOCATION:Englewood Christian Church\, 9600 Gulfstream Blvd\, Englewood\, FL\, 34224\, United States
CATEGORIES:Sunday,Worship Service
END:VEVENT
BEGIN:VEVENT
DTSTART;TZID=America/New_York:20240804T093000
DTEND;TZID=America/New_York:20240804T101500
DTSTAMP:20260424T063532
CREATED:20240523T201136Z
LAST-MODIFIED:20240523T201138Z
UID:10004063-1722763800-1722766500@englewoodchristian.com
SUMMARY:Adult Sunday School
DESCRIPTION:
URL:https://englewoodchristian.com/event/adult-sunday-school-2-2-2/2024-08-04/
LOCATION:Englewood Christian Church\, 9600 Gulfstream Blvd\, Englewood\, FL\, 34224\, United States
CATEGORIES:Adult,Sunday,Sunday School
END:VEVENT
BEGIN:VEVENT
DTSTART;TZID=America/New_York:20240803T120000
DTEND;TZID=America/New_York:20240803T133000
DTSTAMP:20260424T063532
CREATED:20240711T131352Z
LAST-MODIFIED:20240711T131352Z
UID:10005116-1722686400-1722691800@englewoodchristian.com
SUMMARY:Ladies Luncheon
DESCRIPTION:Saturday\, August 3rd \,12:00pm at The Waverly. Sign-up sheet is on the table in the foyer.  RSVP so we have enough space.  Please call Rachel (Shelly) Caswell if your plans change.  (See bulletin for contact info)
URL:https://englewoodchristian.com/event/ladies-luncheon-3/
LOCATION:The Waverly\, 2095 N Beach Rd\, Englewood\, 34224\, United States
CATEGORIES:Ladies,Women
END:VEVENT
BEGIN:VEVENT
DTSTART;TZID=America/New_York:20240801T090000
DTEND;TZID=America/New_York:20240801T100000
DTSTAMP:20260424T063532
CREATED:20231212T152706Z
LAST-MODIFIED:20251113T172636Z
UID:10001365-1722502800-1722506400@englewoodchristian.com
SUMMARY:Men's 4x4
DESCRIPTION:
URL:https://englewoodchristian.com/event/mens-4x4/2024-08-01/
LOCATION:Englewood Christian Church\, 9600 Gulfstream Blvd\, Englewood\, FL\, 34224\, United States
CATEGORIES:Bible Study,Mens
ATTACH;FMTTYPE=image/jpeg:https://englewoodchristian.com/wp-content/uploads/2023/06/mens_ministry_380x280.jpg
END:VEVENT
BEGIN:VEVENT
DTSTART;TZID=America/New_York:20240731T180000
DTEND;TZID=America/New_York:20240731T190000
DTSTAMP:20260424T063532
CREATED:20231031T010623Z
LAST-MODIFIED:20251118T205129Z
UID:10001105-1722448800-1722452400@englewoodchristian.com
SUMMARY:Adult Bible Study
DESCRIPTION:
URL:https://englewoodchristian.com/event/adult-bible-study-3/2024-07-31/
LOCATION:Englewood Christian Church\, 9600 Gulfstream Blvd\, Englewood\, FL\, 34224\, United States
CATEGORIES:Adult,Bible Study,Wednesday
END:VEVENT
BEGIN:VEVENT
DTSTART;TZID=America/New_York:20240730T183000
DTEND;TZID=America/New_York:20240730T201500
DTSTAMP:20260424T063532
CREATED:20240620T140951Z
LAST-MODIFIED:20251113T172153Z
UID:10004322-1722364200-1722370500@englewoodchristian.com
SUMMARY:Tuesday Night Small Group
DESCRIPTION:This Small Group meets Tuesday nights at 6:30pm and is led by Jim Chandler.
URL:https://englewoodchristian.com/event/tuesday-night-small-group/2024-07-30/
CATEGORIES:Adult,Bible Study
ORGANIZER;CN="Jim Chandler":MAILTO:jchandler@englewoodchristian.com
END:VEVENT
BEGIN:VEVENT
DTSTART;TZID=America/New_York:20240730T123000
DTEND;TZID=America/New_York:20240730T143000
DTSTAMP:20260424T063532
CREATED:20240102T185554Z
LAST-MODIFIED:20251113T171703Z
UID:10001662-1722342600-1722349800@englewoodchristian.com
SUMMARY:Tuesday Women's Bible Study
DESCRIPTION:
URL:https://englewoodchristian.com/event/tuesday-womens-bible-study/2024-07-30/
CATEGORIES:Adult,Bible Study,Ladies,Women
END:VEVENT
BEGIN:VEVENT
DTSTART;TZID=America/New_York:20240729T180000
DTEND;TZID=America/New_York:20240729T190000
DTSTAMP:20260424T063532
CREATED:20240430T150156Z
LAST-MODIFIED:20240430T150156Z
UID:10003035-1722276000-1722279600@englewoodchristian.com
SUMMARY:AA Meeting
DESCRIPTION:
URL:https://englewoodchristian.com/event/aa-meeting/2024-07-29/
LOCATION:Englewood Christian Church\, 9600 Gulfstream Blvd\, Englewood\, FL\, 34224\, United States
CATEGORIES:Hosted
END:VEVENT
BEGIN:VEVENT
DTSTART;TZID=America/New_York:20240728T180000
DTEND;TZID=America/New_York:20240728T190000
DTSTAMP:20260424T063532
CREATED:20240620T151840Z
LAST-MODIFIED:20240620T151840Z
UID:10004608-1722189600-1722193200@englewoodchristian.com
SUMMARY:Sunday Night Small Group
DESCRIPTION:This Small Group meets on Sunday evenings at 6:00pm and is led by Jim Chandler.
URL:https://englewoodchristian.com/event/sunday-night-small-group/2024-07-28/
CATEGORIES:Adult,Bible Study
ORGANIZER;CN="Jim Chandler":MAILTO:jchandler@englewoodchristian.com
END:VEVENT
BEGIN:VEVENT
DTSTART;TZID=America/New_York:20240728T103000
DTEND;TZID=America/New_York:20240728T113000
DTSTAMP:20260424T063532
CREATED:20240523T201009Z
LAST-MODIFIED:20240523T201010Z
UID:10003802-1722162600-1722166200@englewoodchristian.com
SUMMARY:Children's Church
DESCRIPTION:
URL:https://englewoodchristian.com/event/childrens-church-3-2/2024-07-28/
LOCATION:Englewood Christian Church\, 9600 Gulfstream Blvd\, Englewood\, FL\, 34224\, United States
CATEGORIES:Kids,Sunday
ORGANIZER;CN="Andrew Lawson":MAILTO:alawson@englewoodchristian.com
END:VEVENT
BEGIN:VEVENT
DTSTART;TZID=America/New_York:20240728T103000
DTEND;TZID=America/New_York:20240728T113000
DTSTAMP:20260424T063532
CREATED:20240523T200811Z
LAST-MODIFIED:20240523T200813Z
UID:10003542-1722162600-1722166200@englewoodchristian.com
SUMMARY:Sunday Worship Service
DESCRIPTION:
URL:https://englewoodchristian.com/event/sunday-worship-service/2024-07-28/
LOCATION:Englewood Christian Church\, 9600 Gulfstream Blvd\, Englewood\, FL\, 34224\, United States
CATEGORIES:Sunday,Worship Service
END:VEVENT
BEGIN:VEVENT
DTSTART;TZID=America/New_York:20240728T093000
DTEND;TZID=America/New_York:20240728T101500
DTSTAMP:20260424T063532
CREATED:20240523T201136Z
LAST-MODIFIED:20240523T201138Z
UID:10004062-1722159000-1722161700@englewoodchristian.com
SUMMARY:Adult Sunday School
DESCRIPTION:
URL:https://englewoodchristian.com/event/adult-sunday-school-2-2-2/2024-07-28/
LOCATION:Englewood Christian Church\, 9600 Gulfstream Blvd\, Englewood\, FL\, 34224\, United States
CATEGORIES:Adult,Sunday,Sunday School
END:VEVENT
BEGIN:VEVENT
DTSTART;TZID=America/New_York:20240727T190000
DTEND;TZID=America/New_York:20240727T203000
DTSTAMP:20260424T063532
CREATED:20240725T124950Z
LAST-MODIFIED:20240725T124950Z
UID:10005117-1722106800-1722112200@englewoodchristian.com
SUMMARY:Glow In The Dark Party
DESCRIPTION:Join us in the Fellowship Hall for a glow in the dark party!  Saturday July 27 at 7:00pm.  There will be finger foods\, a devotional\, and games.  Don’t forget to wear white because there will be a black light and you will want to stand out in the darkness!
URL:https://englewoodchristian.com/event/glow-in-the-dark-party/
LOCATION:Englewood Christian Church\, 9600 Gulfstream Blvd\, Englewood\, FL\, 34224\, United States
CATEGORIES:Kids,Ladies,Mens,Public,Special Event,Youth
ORGANIZER;CN="Jim Chandler":MAILTO:jchandler@englewoodchristian.com
END:VEVENT
BEGIN:VEVENT
DTSTART;TZID=America/New_York:20240725T090000
DTEND;TZID=America/New_York:20240725T100000
DTSTAMP:20260424T063532
CREATED:20231212T152706Z
LAST-MODIFIED:20251113T172636Z
UID:10001364-1721898000-1721901600@englewoodchristian.com
SUMMARY:Men's 4x4
DESCRIPTION:
URL:https://englewoodchristian.com/event/mens-4x4/2024-07-25/
LOCATION:Englewood Christian Church\, 9600 Gulfstream Blvd\, Englewood\, FL\, 34224\, United States
CATEGORIES:Bible Study,Mens
ATTACH;FMTTYPE=image/jpeg:https://englewoodchristian.com/wp-content/uploads/2023/06/mens_ministry_380x280.jpg
END:VEVENT
BEGIN:VEVENT
DTSTART;TZID=America/New_York:20240724T180000
DTEND;TZID=America/New_York:20240724T190000
DTSTAMP:20260424T063532
CREATED:20231031T010623Z
LAST-MODIFIED:20251118T205129Z
UID:10001104-1721844000-1721847600@englewoodchristian.com
SUMMARY:Adult Bible Study
DESCRIPTION:
URL:https://englewoodchristian.com/event/adult-bible-study-3/2024-07-24/
LOCATION:Englewood Christian Church\, 9600 Gulfstream Blvd\, Englewood\, FL\, 34224\, United States
CATEGORIES:Adult,Bible Study,Wednesday
END:VEVENT
BEGIN:VEVENT
DTSTART;TZID=America/New_York:20240723T183000
DTEND;TZID=America/New_York:20240723T201500
DTSTAMP:20260424T063532
CREATED:20240620T140951Z
LAST-MODIFIED:20251113T172153Z
UID:10004321-1721759400-1721765700@englewoodchristian.com
SUMMARY:Tuesday Night Small Group
DESCRIPTION:This Small Group meets Tuesday nights at 6:30pm and is led by Jim Chandler.
URL:https://englewoodchristian.com/event/tuesday-night-small-group/2024-07-23/
CATEGORIES:Adult,Bible Study
ORGANIZER;CN="Jim Chandler":MAILTO:jchandler@englewoodchristian.com
END:VEVENT
BEGIN:VEVENT
DTSTART;TZID=America/New_York:20240723T180000
DTEND;TZID=America/New_York:20240723T193000
DTSTAMP:20260424T063532
CREATED:20240219T185816Z
LAST-MODIFIED:20240219T185816Z
UID:10002887-1721757600-1721763000@englewoodchristian.com
SUMMARY:Forward Student Ministry
DESCRIPTION:
URL:https://englewoodchristian.com/event/forward-student-ministry-6/2024-07-23/
CATEGORIES:Student,Teens,Youth
ATTACH;FMTTYPE=image/jpeg:https://englewoodchristian.com/wp-content/uploads/2023/10/Forward_Logo_Blue.jpg
ORGANIZER;CN="Andrew Lawson":MAILTO:alawson@englewoodchristian.com
END:VEVENT
BEGIN:VEVENT
DTSTART;TZID=America/New_York:20240723T123000
DTEND;TZID=America/New_York:20240723T143000
DTSTAMP:20260424T063532
CREATED:20240102T185554Z
LAST-MODIFIED:20251113T171703Z
UID:10001661-1721737800-1721745000@englewoodchristian.com
SUMMARY:Tuesday Women's Bible Study
DESCRIPTION:
URL:https://englewoodchristian.com/event/tuesday-womens-bible-study/2024-07-23/
CATEGORIES:Adult,Bible Study,Ladies,Women
END:VEVENT
BEGIN:VEVENT
DTSTART;TZID=America/New_York:20240722T180000
DTEND;TZID=America/New_York:20240722T190000
DTSTAMP:20260424T063532
CREATED:20240430T150156Z
LAST-MODIFIED:20240430T150156Z
UID:10003034-1721671200-1721674800@englewoodchristian.com
SUMMARY:AA Meeting
DESCRIPTION:
URL:https://englewoodchristian.com/event/aa-meeting/2024-07-22/
LOCATION:Englewood Christian Church\, 9600 Gulfstream Blvd\, Englewood\, FL\, 34224\, United States
CATEGORIES:Hosted
END:VEVENT
END:VCALENDAR