BEGIN:VCALENDAR
VERSION:2.0
PRODID:-//Englewood Christian Church - ECPv6.15.20//NONSGML v1.0//EN
CALSCALE:GREGORIAN
METHOD:PUBLISH
X-WR-CALNAME:Englewood Christian Church
X-ORIGINAL-URL:https://englewoodchristian.com
X-WR-CALDESC:Events for Englewood Christian Church
REFRESH-INTERVAL;VALUE=DURATION:PT1H
X-Robots-Tag:noindex
X-PUBLISHED-TTL:PT1H
BEGIN:VTIMEZONE
TZID:America/New_York
BEGIN:DAYLIGHT
TZOFFSETFROM:-0500
TZOFFSETTO:-0400
TZNAME:EDT
DTSTART:20240310T070000
END:DAYLIGHT
BEGIN:STANDARD
TZOFFSETFROM:-0400
TZOFFSETTO:-0500
TZNAME:EST
DTSTART:20241103T060000
END:STANDARD
BEGIN:DAYLIGHT
TZOFFSETFROM:-0500
TZOFFSETTO:-0400
TZNAME:EDT
DTSTART:20250309T070000
END:DAYLIGHT
BEGIN:STANDARD
TZOFFSETFROM:-0400
TZOFFSETTO:-0500
TZNAME:EST
DTSTART:20251102T060000
END:STANDARD
BEGIN:DAYLIGHT
TZOFFSETFROM:-0500
TZOFFSETTO:-0400
TZNAME:EDT
DTSTART:20260308T070000
END:DAYLIGHT
BEGIN:STANDARD
TZOFFSETFROM:-0400
TZOFFSETTO:-0500
TZNAME:EST
DTSTART:20261101T060000
END:STANDARD
END:VTIMEZONE
BEGIN:VEVENT
DTSTART;TZID=America/New_York:20250227T090000
DTEND;TZID=America/New_York:20250227T100000
DTSTAMP:20260425T133113
CREATED:20231212T152706Z
LAST-MODIFIED:20251113T172636Z
UID:10001395-1740646800-1740650400@englewoodchristian.com
SUMMARY:Men's 4x4
DESCRIPTION:
URL:https://englewoodchristian.com/event/mens-4x4/2025-02-27/
LOCATION:Englewood Christian Church\, 9600 Gulfstream Blvd\, Englewood\, FL\, 34224\, United States
CATEGORIES:Bible Study,Mens
ATTACH;FMTTYPE=image/jpeg:https://englewoodchristian.com/wp-content/uploads/2023/06/mens_ministry_380x280.jpg
END:VEVENT
BEGIN:VEVENT
DTSTART;TZID=America/New_York:20250226T180000
DTEND;TZID=America/New_York:20250226T190000
DTSTAMP:20260425T133113
CREATED:20231031T010623Z
LAST-MODIFIED:20251118T205129Z
UID:10001135-1740592800-1740596400@englewoodchristian.com
SUMMARY:Adult Bible Study
DESCRIPTION:
URL:https://englewoodchristian.com/event/adult-bible-study-3/2025-02-26/
LOCATION:Englewood Christian Church\, 9600 Gulfstream Blvd\, Englewood\, FL\, 34224\, United States
CATEGORIES:Adult,Bible Study,Wednesday
END:VEVENT
BEGIN:VEVENT
DTSTART;TZID=America/New_York:20250225T183000
DTEND;TZID=America/New_York:20250225T201500
DTSTAMP:20260425T133113
CREATED:20240620T140951Z
LAST-MODIFIED:20251113T172153Z
UID:10004352-1740508200-1740514500@englewoodchristian.com
SUMMARY:Tuesday Night Small Group
DESCRIPTION:This Small Group meets Tuesday nights at 6:30pm and is led by Jim Chandler.
URL:https://englewoodchristian.com/event/tuesday-night-small-group/2025-02-25/
LOCATION:FL
CATEGORIES:Adult,Bible Study
ORGANIZER;CN="Jim Chandler":MAILTO:jchandler@englewoodchristian.com
END:VEVENT
BEGIN:VEVENT
DTSTART;TZID=America/New_York:20250225T123000
DTEND;TZID=America/New_York:20250225T143000
DTSTAMP:20260425T133113
CREATED:20240102T185554Z
LAST-MODIFIED:20251113T171703Z
UID:10001692-1740486600-1740493800@englewoodchristian.com
SUMMARY:Tuesday Women's Bible Study
DESCRIPTION:
URL:https://englewoodchristian.com/event/tuesday-womens-bible-study/2025-02-25/
LOCATION:FL
CATEGORIES:Adult,Bible Study,Ladies,Women
END:VEVENT
BEGIN:VEVENT
DTSTART;TZID=America/New_York:20250224T190000
DTEND;TZID=America/New_York:20250224T203000
DTSTAMP:20260425T133113
CREATED:20240905T124833Z
LAST-MODIFIED:20251119T192600Z
UID:10005356-1740423600-1740429000@englewoodchristian.com
SUMMARY:Men’s 4x4
DESCRIPTION:Men’s bible study group at the church Monday nights starting at 7pm.
URL:https://englewoodchristian.com/event/mens-4x4-3/2025-02-24/
LOCATION:Englewood Christian Church\, 9600 Gulfstream Blvd\, Englewood\, FL\, 34224\, United States
CATEGORIES:Adult,Mens
ORGANIZER;CN="Jim Chandler":MAILTO:jchandler@englewoodchristian.com
END:VEVENT
BEGIN:VEVENT
DTSTART;TZID=America/New_York:20250224T180000
DTEND;TZID=America/New_York:20250224T190000
DTSTAMP:20260425T133113
CREATED:20240430T150156Z
LAST-MODIFIED:20240430T150156Z
UID:10003065-1740420000-1740423600@englewoodchristian.com
SUMMARY:AA Meeting
DESCRIPTION:
URL:https://englewoodchristian.com/event/aa-meeting/2025-02-24/
LOCATION:Englewood Christian Church\, 9600 Gulfstream Blvd\, Englewood\, FL\, 34224\, United States
CATEGORIES:Hosted
END:VEVENT
BEGIN:VEVENT
DTSTART;TZID=America/New_York:20250223T180000
DTEND;TZID=America/New_York:20250223T190000
DTSTAMP:20260425T133113
CREATED:20240620T151840Z
LAST-MODIFIED:20240620T151840Z
UID:10004638-1740333600-1740337200@englewoodchristian.com
SUMMARY:Sunday Night Small Group
DESCRIPTION:This Small Group meets on Sunday evenings at 6:00pm and is led by Jim Chandler.
URL:https://englewoodchristian.com/event/sunday-night-small-group/2025-02-23/
LOCATION:FL
CATEGORIES:Adult,Bible Study
ORGANIZER;CN="Jim Chandler":MAILTO:jchandler@englewoodchristian.com
END:VEVENT
BEGIN:VEVENT
DTSTART;TZID=America/New_York:20250223T103000
DTEND;TZID=America/New_York:20250223T113000
DTSTAMP:20260425T133113
CREATED:20240523T201009Z
LAST-MODIFIED:20240523T201010Z
UID:10003832-1740306600-1740310200@englewoodchristian.com
SUMMARY:Children's Church
DESCRIPTION:
URL:https://englewoodchristian.com/event/childrens-church-3-2/2025-02-23/
LOCATION:Englewood Christian Church\, 9600 Gulfstream Blvd\, Englewood\, FL\, 34224\, United States
CATEGORIES:Kids,Sunday
ORGANIZER;CN="Andrew Lawson":MAILTO:alawson@englewoodchristian.com
END:VEVENT
BEGIN:VEVENT
DTSTART;TZID=America/New_York:20250223T103000
DTEND;TZID=America/New_York:20250223T113000
DTSTAMP:20260425T133113
CREATED:20240523T200811Z
LAST-MODIFIED:20240523T200813Z
UID:10003572-1740306600-1740310200@englewoodchristian.com
SUMMARY:Sunday Worship Service
DESCRIPTION:
URL:https://englewoodchristian.com/event/sunday-worship-service/2025-02-23/
LOCATION:Englewood Christian Church\, 9600 Gulfstream Blvd\, Englewood\, FL\, 34224\, United States
CATEGORIES:Sunday,Worship Service
END:VEVENT
BEGIN:VEVENT
DTSTART;TZID=America/New_York:20250223T093000
DTEND;TZID=America/New_York:20250223T101500
DTSTAMP:20260425T133113
CREATED:20240523T201136Z
LAST-MODIFIED:20240523T201138Z
UID:10004092-1740303000-1740305700@englewoodchristian.com
SUMMARY:Adult Sunday School
DESCRIPTION:
URL:https://englewoodchristian.com/event/adult-sunday-school-2-2-2/2025-02-23/
LOCATION:Englewood Christian Church\, 9600 Gulfstream Blvd\, Englewood\, FL\, 34224\, United States
CATEGORIES:Adult,Sunday,Sunday School
END:VEVENT
BEGIN:VEVENT
DTSTART;TZID=America/New_York:20250222T170000
DTEND;TZID=America/New_York:20250222T190000
DTSTAMP:20260425T133113
CREATED:20250218T214616Z
LAST-MODIFIED:20250218T214616Z
UID:10005620-1740243600-1740250800@englewoodchristian.com
SUMMARY:Valentine Fellowship Dinner
DESCRIPTION:Dinner at Junior & Rosie’s Neighborhood Cafe at 5pm
URL:https://englewoodchristian.com/event/valentine-fellowship-dinner/
LOCATION:FL
CATEGORIES:Adult,Special Event
END:VEVENT
BEGIN:VEVENT
DTSTART;TZID=America/New_York:20250220T184500
DTEND;TZID=America/New_York:20250220T203000
DTSTAMP:20260425T133113
CREATED:20250218T220830Z
LAST-MODIFIED:20250218T220830Z
UID:10005624-1740077100-1740083400@englewoodchristian.com
SUMMARY:Women's Small Group Thursday Evenings
DESCRIPTION:Join other women in a Small Group Bible study at Janet Marzullo’s House on the 1st and 3rd Thursdays of the month.  It will begin at 6:45pm and go until 8:30.  Please contact Janet for more info or sign up in the church foyer.
URL:https://englewoodchristian.com/event/womens-small-group-thursday-evenings/2025-02-20/
LOCATION:FL
CATEGORIES:Ladies
END:VEVENT
BEGIN:VEVENT
DTSTART;TZID=America/New_York:20250220T180000
DTEND;TZID=America/New_York:20250220T193000
DTSTAMP:20260425T133113
CREATED:20240620T153654Z
LAST-MODIFIED:20251113T172856Z
UID:10004888-1740074400-1740079800@englewoodchristian.com
SUMMARY:Thursday Night Small Group
DESCRIPTION:This small group meets every Thursday evening at 6:00pm.
URL:https://englewoodchristian.com/event/thursday-night-small-group/2025-02-20/
LOCATION:FL
CATEGORIES:Adult,Bible Study
END:VEVENT
BEGIN:VEVENT
DTSTART;TZID=America/New_York:20250220T090000
DTEND;TZID=America/New_York:20250220T100000
DTSTAMP:20260425T133113
CREATED:20231212T152706Z
LAST-MODIFIED:20251113T172636Z
UID:10001394-1740042000-1740045600@englewoodchristian.com
SUMMARY:Men's 4x4
DESCRIPTION:
URL:https://englewoodchristian.com/event/mens-4x4/2025-02-20/
LOCATION:Englewood Christian Church\, 9600 Gulfstream Blvd\, Englewood\, FL\, 34224\, United States
CATEGORIES:Bible Study,Mens
ATTACH;FMTTYPE=image/jpeg:https://englewoodchristian.com/wp-content/uploads/2023/06/mens_ministry_380x280.jpg
END:VEVENT
BEGIN:VEVENT
DTSTART;TZID=America/New_York:20250219T180000
DTEND;TZID=America/New_York:20250219T190000
DTSTAMP:20260425T133113
CREATED:20231031T010623Z
LAST-MODIFIED:20251118T205129Z
UID:10001134-1739988000-1739991600@englewoodchristian.com
SUMMARY:Adult Bible Study
DESCRIPTION:
URL:https://englewoodchristian.com/event/adult-bible-study-3/2025-02-19/
LOCATION:Englewood Christian Church\, 9600 Gulfstream Blvd\, Englewood\, FL\, 34224\, United States
CATEGORIES:Adult,Bible Study,Wednesday
END:VEVENT
BEGIN:VEVENT
DTSTART;TZID=America/New_York:20250218T183000
DTEND;TZID=America/New_York:20250218T201500
DTSTAMP:20260425T133113
CREATED:20240620T140951Z
LAST-MODIFIED:20251113T172153Z
UID:10004351-1739903400-1739909700@englewoodchristian.com
SUMMARY:Tuesday Night Small Group
DESCRIPTION:This Small Group meets Tuesday nights at 6:30pm and is led by Jim Chandler.
URL:https://englewoodchristian.com/event/tuesday-night-small-group/2025-02-18/
LOCATION:FL
CATEGORIES:Adult,Bible Study
ORGANIZER;CN="Jim Chandler":MAILTO:jchandler@englewoodchristian.com
END:VEVENT
BEGIN:VEVENT
DTSTART;TZID=America/New_York:20250218T180000
DTEND;TZID=America/New_York:20250218T190000
DTSTAMP:20260425T133113
CREATED:20240430T153411Z
LAST-MODIFIED:20240430T153411Z
UID:10003354-1739901600-1739905200@englewoodchristian.com
SUMMARY:Girl Scouts
DESCRIPTION:
URL:https://englewoodchristian.com/event/girl-scouts-2024-21/2025-02-18/
LOCATION:Englewood Christian Church\, 9600 Gulfstream Blvd\, Englewood\, FL\, 34224\, United States
CATEGORIES:Hosted
END:VEVENT
BEGIN:VEVENT
DTSTART;TZID=America/New_York:20250218T123000
DTEND;TZID=America/New_York:20250218T143000
DTSTAMP:20260425T133113
CREATED:20240102T185554Z
LAST-MODIFIED:20251113T171703Z
UID:10001691-1739881800-1739889000@englewoodchristian.com
SUMMARY:Tuesday Women's Bible Study
DESCRIPTION:
URL:https://englewoodchristian.com/event/tuesday-womens-bible-study/2025-02-18/
LOCATION:FL
CATEGORIES:Adult,Bible Study,Ladies,Women
END:VEVENT
BEGIN:VEVENT
DTSTART;TZID=America/New_York:20250217T190000
DTEND;TZID=America/New_York:20250217T203000
DTSTAMP:20260425T133113
CREATED:20240905T124833Z
LAST-MODIFIED:20251119T192600Z
UID:10005355-1739818800-1739824200@englewoodchristian.com
SUMMARY:Men’s 4x4
DESCRIPTION:Men’s bible study group at the church Monday nights starting at 7pm.
URL:https://englewoodchristian.com/event/mens-4x4-3/2025-02-17/
LOCATION:Englewood Christian Church\, 9600 Gulfstream Blvd\, Englewood\, FL\, 34224\, United States
CATEGORIES:Adult,Mens
ORGANIZER;CN="Jim Chandler":MAILTO:jchandler@englewoodchristian.com
END:VEVENT
BEGIN:VEVENT
DTSTART;TZID=America/New_York:20250217T180000
DTEND;TZID=America/New_York:20250217T190000
DTSTAMP:20260425T133113
CREATED:20240430T150156Z
LAST-MODIFIED:20240430T150156Z
UID:10003064-1739815200-1739818800@englewoodchristian.com
SUMMARY:AA Meeting
DESCRIPTION:
URL:https://englewoodchristian.com/event/aa-meeting/2025-02-17/
LOCATION:Englewood Christian Church\, 9600 Gulfstream Blvd\, Englewood\, FL\, 34224\, United States
CATEGORIES:Hosted
END:VEVENT
BEGIN:VEVENT
DTSTART;TZID=America/New_York:20250216T180000
DTEND;TZID=America/New_York:20250216T190000
DTSTAMP:20260425T133113
CREATED:20240620T151840Z
LAST-MODIFIED:20240620T151840Z
UID:10004637-1739728800-1739732400@englewoodchristian.com
SUMMARY:Sunday Night Small Group
DESCRIPTION:This Small Group meets on Sunday evenings at 6:00pm and is led by Jim Chandler.
URL:https://englewoodchristian.com/event/sunday-night-small-group/2025-02-16/
LOCATION:FL
CATEGORIES:Adult,Bible Study
ORGANIZER;CN="Jim Chandler":MAILTO:jchandler@englewoodchristian.com
END:VEVENT
BEGIN:VEVENT
DTSTART;TZID=America/New_York:20250216T103000
DTEND;TZID=America/New_York:20250216T113000
DTSTAMP:20260425T133113
CREATED:20240523T201009Z
LAST-MODIFIED:20240523T201010Z
UID:10003831-1739701800-1739705400@englewoodchristian.com
SUMMARY:Children's Church
DESCRIPTION:
URL:https://englewoodchristian.com/event/childrens-church-3-2/2025-02-16/
LOCATION:Englewood Christian Church\, 9600 Gulfstream Blvd\, Englewood\, FL\, 34224\, United States
CATEGORIES:Kids,Sunday
ORGANIZER;CN="Andrew Lawson":MAILTO:alawson@englewoodchristian.com
END:VEVENT
BEGIN:VEVENT
DTSTART;TZID=America/New_York:20250216T103000
DTEND;TZID=America/New_York:20250216T113000
DTSTAMP:20260425T133113
CREATED:20240523T200811Z
LAST-MODIFIED:20240523T200813Z
UID:10003571-1739701800-1739705400@englewoodchristian.com
SUMMARY:Sunday Worship Service
DESCRIPTION:
URL:https://englewoodchristian.com/event/sunday-worship-service/2025-02-16/
LOCATION:Englewood Christian Church\, 9600 Gulfstream Blvd\, Englewood\, FL\, 34224\, United States
CATEGORIES:Sunday,Worship Service
END:VEVENT
BEGIN:VEVENT
DTSTART;TZID=America/New_York:20250216T093000
DTEND;TZID=America/New_York:20250216T101500
DTSTAMP:20260425T133113
CREATED:20240523T201136Z
LAST-MODIFIED:20240523T201138Z
UID:10004091-1739698200-1739700900@englewoodchristian.com
SUMMARY:Adult Sunday School
DESCRIPTION:
URL:https://englewoodchristian.com/event/adult-sunday-school-2-2-2/2025-02-16/
LOCATION:Englewood Christian Church\, 9600 Gulfstream Blvd\, Englewood\, FL\, 34224\, United States
CATEGORIES:Adult,Sunday,Sunday School
END:VEVENT
BEGIN:VEVENT
DTSTART;TZID=America/New_York:20250213T180000
DTEND;TZID=America/New_York:20250213T193000
DTSTAMP:20260425T133113
CREATED:20240620T153654Z
LAST-MODIFIED:20251113T172856Z
UID:10004887-1739469600-1739475000@englewoodchristian.com
SUMMARY:Thursday Night Small Group
DESCRIPTION:This small group meets every Thursday evening at 6:00pm.
URL:https://englewoodchristian.com/event/thursday-night-small-group/2025-02-13/
LOCATION:FL
CATEGORIES:Adult,Bible Study
END:VEVENT
BEGIN:VEVENT
DTSTART;TZID=America/New_York:20250213T090000
DTEND;TZID=America/New_York:20250213T100000
DTSTAMP:20260425T133113
CREATED:20231212T152706Z
LAST-MODIFIED:20251113T172636Z
UID:10001393-1739437200-1739440800@englewoodchristian.com
SUMMARY:Men's 4x4
DESCRIPTION:
URL:https://englewoodchristian.com/event/mens-4x4/2025-02-13/
LOCATION:Englewood Christian Church\, 9600 Gulfstream Blvd\, Englewood\, FL\, 34224\, United States
CATEGORIES:Bible Study,Mens
ATTACH;FMTTYPE=image/jpeg:https://englewoodchristian.com/wp-content/uploads/2023/06/mens_ministry_380x280.jpg
END:VEVENT
BEGIN:VEVENT
DTSTART;TZID=America/New_York:20250212T180000
DTEND;TZID=America/New_York:20250212T190000
DTSTAMP:20260425T133113
CREATED:20231031T010623Z
LAST-MODIFIED:20251118T205129Z
UID:10001133-1739383200-1739386800@englewoodchristian.com
SUMMARY:Adult Bible Study
DESCRIPTION:
URL:https://englewoodchristian.com/event/adult-bible-study-3/2025-02-12/
LOCATION:Englewood Christian Church\, 9600 Gulfstream Blvd\, Englewood\, FL\, 34224\, United States
CATEGORIES:Adult,Bible Study,Wednesday
END:VEVENT
BEGIN:VEVENT
DTSTART;TZID=America/New_York:20250211T183000
DTEND;TZID=America/New_York:20250211T201500
DTSTAMP:20260425T133113
CREATED:20240620T140951Z
LAST-MODIFIED:20251113T172153Z
UID:10004350-1739298600-1739304900@englewoodchristian.com
SUMMARY:Tuesday Night Small Group
DESCRIPTION:This Small Group meets Tuesday nights at 6:30pm and is led by Jim Chandler.
URL:https://englewoodchristian.com/event/tuesday-night-small-group/2025-02-11/
LOCATION:FL
CATEGORIES:Adult,Bible Study
ORGANIZER;CN="Jim Chandler":MAILTO:jchandler@englewoodchristian.com
END:VEVENT
BEGIN:VEVENT
DTSTART;TZID=America/New_York:20250211T123000
DTEND;TZID=America/New_York:20250211T143000
DTSTAMP:20260425T133113
CREATED:20240102T185554Z
LAST-MODIFIED:20251113T171703Z
UID:10001690-1739277000-1739284200@englewoodchristian.com
SUMMARY:Tuesday Women's Bible Study
DESCRIPTION:
URL:https://englewoodchristian.com/event/tuesday-womens-bible-study/2025-02-11/
LOCATION:FL
CATEGORIES:Adult,Bible Study,Ladies,Women
END:VEVENT
BEGIN:VEVENT
DTSTART;TZID=America/New_York:20250210T190000
DTEND;TZID=America/New_York:20250210T203000
DTSTAMP:20260425T133113
CREATED:20240905T124833Z
LAST-MODIFIED:20251119T192600Z
UID:10005354-1739214000-1739219400@englewoodchristian.com
SUMMARY:Men’s 4x4
DESCRIPTION:Men’s bible study group at the church Monday nights starting at 7pm.
URL:https://englewoodchristian.com/event/mens-4x4-3/2025-02-10/
LOCATION:Englewood Christian Church\, 9600 Gulfstream Blvd\, Englewood\, FL\, 34224\, United States
CATEGORIES:Adult,Mens
ORGANIZER;CN="Jim Chandler":MAILTO:jchandler@englewoodchristian.com
END:VEVENT
END:VCALENDAR