BEGIN:VCALENDAR
VERSION:2.0
PRODID:-//Englewood Christian Church - ECPv6.15.20//NONSGML v1.0//EN
CALSCALE:GREGORIAN
METHOD:PUBLISH
X-ORIGINAL-URL:https://englewoodchristian.com
X-WR-CALDESC:Events for Englewood Christian Church
REFRESH-INTERVAL;VALUE=DURATION:PT1H
X-Robots-Tag:noindex
X-PUBLISHED-TTL:PT1H
BEGIN:VTIMEZONE
TZID:America/New_York
BEGIN:DAYLIGHT
TZOFFSETFROM:-0500
TZOFFSETTO:-0400
TZNAME:EDT
DTSTART:20270314T070000
END:DAYLIGHT
BEGIN:STANDARD
TZOFFSETFROM:-0400
TZOFFSETTO:-0500
TZNAME:EST
DTSTART:20271107T060000
END:STANDARD
BEGIN:DAYLIGHT
TZOFFSETFROM:-0500
TZOFFSETTO:-0400
TZNAME:EDT
DTSTART:20280312T070000
END:DAYLIGHT
BEGIN:STANDARD
TZOFFSETFROM:-0400
TZOFFSETTO:-0500
TZNAME:EST
DTSTART:20281105T060000
END:STANDARD
BEGIN:DAYLIGHT
TZOFFSETFROM:-0500
TZOFFSETTO:-0400
TZNAME:EDT
DTSTART:20290311T070000
END:DAYLIGHT
BEGIN:STANDARD
TZOFFSETFROM:-0400
TZOFFSETTO:-0500
TZNAME:EST
DTSTART:20291104T060000
END:STANDARD
END:VTIMEZONE
BEGIN:VEVENT
DTSTART;TZID=America/New_York:20281119T093000
DTEND;TZID=America/New_York:20281119T101500
DTSTAMP:20260425T223843
CREATED:20240523T201136Z
LAST-MODIFIED:20240523T201138Z
UID:10004287-1858239000-1858241700@englewoodchristian.com
SUMMARY:Adult Sunday School
DESCRIPTION:
URL:https://englewoodchristian.com/event/adult-sunday-school-2-2-2/2028-11-19/
LOCATION:Englewood Christian Church\, 9600 Gulfstream Blvd\, Englewood\, FL\, 34224\, United States
CATEGORIES:Adult,Sunday,Sunday School
END:VEVENT
BEGIN:VEVENT
DTSTART;TZID=America/New_York:20281119T103000
DTEND;TZID=America/New_York:20281119T113000
DTSTAMP:20260425T223843
CREATED:20240523T200811Z
LAST-MODIFIED:20240523T200813Z
UID:10003767-1858242600-1858246200@englewoodchristian.com
SUMMARY:Sunday Worship Service
DESCRIPTION:
URL:https://englewoodchristian.com/event/sunday-worship-service/2028-11-19/
LOCATION:Englewood Christian Church\, 9600 Gulfstream Blvd\, Englewood\, FL\, 34224\, United States
CATEGORIES:Sunday,Worship Service
END:VEVENT
BEGIN:VEVENT
DTSTART;TZID=America/New_York:20281119T103000
DTEND;TZID=America/New_York:20281119T113000
DTSTAMP:20260425T223843
CREATED:20240523T201009Z
LAST-MODIFIED:20240523T201010Z
UID:10004027-1858242600-1858246200@englewoodchristian.com
SUMMARY:Children's Church
DESCRIPTION:
URL:https://englewoodchristian.com/event/childrens-church-3-2/2028-11-19/
LOCATION:Englewood Christian Church\, 9600 Gulfstream Blvd\, Englewood\, FL\, 34224\, United States
CATEGORIES:Kids,Sunday
ORGANIZER;CN="Andrew Lawson":MAILTO:alawson@englewoodchristian.com
END:VEVENT
BEGIN:VEVENT
DTSTART;TZID=America/New_York:20281119T180000
DTEND;TZID=America/New_York:20281119T190000
DTSTAMP:20260425T223843
CREATED:20240620T151840Z
LAST-MODIFIED:20240620T151840Z
UID:10004833-1858269600-1858273200@englewoodchristian.com
SUMMARY:Sunday Night Small Group
DESCRIPTION:This Small Group meets on Sunday evenings at 6:00pm and is led by Jim Chandler.
URL:https://englewoodchristian.com/event/sunday-night-small-group/2028-11-19/
LOCATION:FL
CATEGORIES:Adult,Bible Study
ORGANIZER;CN="Jim Chandler":MAILTO:jchandler@englewoodchristian.com
END:VEVENT
BEGIN:VEVENT
DTSTART;TZID=America/New_York:20281120T180000
DTEND;TZID=America/New_York:20281120T190000
DTSTAMP:20260425T223843
CREATED:20240430T150156Z
LAST-MODIFIED:20240430T150156Z
UID:10003260-1858356000-1858359600@englewoodchristian.com
SUMMARY:AA Meeting
DESCRIPTION:
URL:https://englewoodchristian.com/event/aa-meeting/2028-11-20/
LOCATION:Englewood Christian Church\, 9600 Gulfstream Blvd\, Englewood\, FL\, 34224\, United States
CATEGORIES:Hosted
END:VEVENT
BEGIN:VEVENT
DTSTART;TZID=America/New_York:20281120T190000
DTEND;TZID=America/New_York:20281120T203000
DTSTAMP:20260425T223843
CREATED:20251113T171841Z
LAST-MODIFIED:20251119T192902Z
UID:10005551-1858359600-1858365000@englewoodchristian.com
SUMMARY:Men’s 4x4
DESCRIPTION:Men’s bible study group at the church Monday nights starting at 7pm.
URL:https://englewoodchristian.com/event/mens-4x4-3-2/2028-11-20/
LOCATION:Englewood Christian Church\, 9600 Gulfstream Blvd\, Englewood\, FL\, 34224\, United States
CATEGORIES:Adult,Mens
ORGANIZER;CN="Jim Chandler":MAILTO:jchandler@englewoodchristian.com
END:VEVENT
BEGIN:VEVENT
DTSTART;TZID=America/New_York:20281121T123000
DTEND;TZID=America/New_York:20281121T143000
DTSTAMP:20260425T223843
CREATED:20240102T185554Z
LAST-MODIFIED:20251113T171703Z
UID:10001887-1858422600-1858429800@englewoodchristian.com
SUMMARY:Tuesday Women's Bible Study
DESCRIPTION:
URL:https://englewoodchristian.com/event/tuesday-womens-bible-study/2028-11-21/
LOCATION:FL
CATEGORIES:Adult,Bible Study,Ladies,Women
END:VEVENT
BEGIN:VEVENT
DTSTART;TZID=America/New_York:20281121T180000
DTEND;TZID=America/New_York:20281121T190000
DTSTAMP:20260425T223843
CREATED:20240430T153411Z
LAST-MODIFIED:20240430T153411Z
UID:10003399-1858442400-1858446000@englewoodchristian.com
SUMMARY:Girl Scouts
DESCRIPTION:
URL:https://englewoodchristian.com/event/girl-scouts-2024-21/2028-11-21/
LOCATION:Englewood Christian Church\, 9600 Gulfstream Blvd\, Englewood\, FL\, 34224\, United States
CATEGORIES:Hosted
END:VEVENT
BEGIN:VEVENT
DTSTART;TZID=America/New_York:20281121T183000
DTEND;TZID=America/New_York:20281121T201500
DTSTAMP:20260425T223843
CREATED:20240620T140951Z
LAST-MODIFIED:20251113T172153Z
UID:10004547-1858444200-1858450500@englewoodchristian.com
SUMMARY:Tuesday Night Small Group
DESCRIPTION:This Small Group meets Tuesday nights at 6:30pm and is led by Jim Chandler.
URL:https://englewoodchristian.com/event/tuesday-night-small-group/2028-11-21/
LOCATION:FL
CATEGORIES:Adult,Bible Study
ORGANIZER;CN="Jim Chandler":MAILTO:jchandler@englewoodchristian.com
END:VEVENT
BEGIN:VEVENT
DTSTART;TZID=America/New_York:20281122T100000
DTEND;TZID=America/New_York:20281122T110000
DTSTAMP:20260425T223843
CREATED:20251018T221053Z
LAST-MODIFIED:20251118T210010Z
UID:10005936-1858500000-1858503600@englewoodchristian.com
SUMMARY:Prayer Time
DESCRIPTION:Spend some time with others in prayer at Englewood Christian Church on Wednesdays at 10:00AM.
URL:https://englewoodchristian.com/event/prayer-time/2028-11-22/
LOCATION:Englewood Christian Church\, 9600 Gulfstream Blvd\, Englewood\, FL\, 34224\, United States
CATEGORIES:Public,Wednesday
ORGANIZER;CN="Jim Chandler":MAILTO:jchandler@englewoodchristian.com
END:VEVENT
BEGIN:VEVENT
DTSTART;TZID=America/New_York:20281122T180000
DTEND;TZID=America/New_York:20281122T190000
DTSTAMP:20260425T223843
CREATED:20231031T010623Z
LAST-MODIFIED:20251118T205129Z
UID:10001597-1858528800-1858532400@englewoodchristian.com
SUMMARY:Adult Bible Study
DESCRIPTION:
URL:https://englewoodchristian.com/event/adult-bible-study-3/2028-11-22/
LOCATION:Englewood Christian Church\, 9600 Gulfstream Blvd\, Englewood\, FL\, 34224\, United States
CATEGORIES:Adult,Bible Study,Wednesday
END:VEVENT
BEGIN:VEVENT
DTSTART;TZID=America/New_York:20281123T090000
DTEND;TZID=America/New_York:20281123T100000
DTSTAMP:20260425T223843
CREATED:20231212T152706Z
LAST-MODIFIED:20251113T172636Z
UID:10001590-1858582800-1858586400@englewoodchristian.com
SUMMARY:Men's 4x4
DESCRIPTION:
URL:https://englewoodchristian.com/event/mens-4x4/2028-11-23/
LOCATION:Englewood Christian Church\, 9600 Gulfstream Blvd\, Englewood\, FL\, 34224\, United States
CATEGORIES:Bible Study,Mens
ATTACH;FMTTYPE=image/jpeg:https://englewoodchristian.com/wp-content/uploads/2023/06/mens_ministry_380x280.jpg
END:VEVENT
BEGIN:VEVENT
DTSTART;TZID=America/New_York:20281123T180000
DTEND;TZID=America/New_York:20281123T193000
DTSTAMP:20260425T223843
CREATED:20240620T153654Z
LAST-MODIFIED:20251113T172856Z
UID:10005084-1858615200-1858620600@englewoodchristian.com
SUMMARY:Thursday Night Small Group
DESCRIPTION:This small group meets every Thursday evening at 6:00pm.
URL:https://englewoodchristian.com/event/thursday-night-small-group/2028-11-23/
LOCATION:FL
CATEGORIES:Adult,Bible Study
END:VEVENT
BEGIN:VEVENT
DTSTART;TZID=America/New_York:20281126T093000
DTEND;TZID=America/New_York:20281126T101500
DTSTAMP:20260425T223843
CREATED:20240523T201136Z
LAST-MODIFIED:20240523T201138Z
UID:10004288-1858843800-1858846500@englewoodchristian.com
SUMMARY:Adult Sunday School
DESCRIPTION:
URL:https://englewoodchristian.com/event/adult-sunday-school-2-2-2/2028-11-26/
LOCATION:Englewood Christian Church\, 9600 Gulfstream Blvd\, Englewood\, FL\, 34224\, United States
CATEGORIES:Adult,Sunday,Sunday School
END:VEVENT
BEGIN:VEVENT
DTSTART;TZID=America/New_York:20281126T103000
DTEND;TZID=America/New_York:20281126T113000
DTSTAMP:20260425T223843
CREATED:20240523T200811Z
LAST-MODIFIED:20240523T200813Z
UID:10003768-1858847400-1858851000@englewoodchristian.com
SUMMARY:Sunday Worship Service
DESCRIPTION:
URL:https://englewoodchristian.com/event/sunday-worship-service/2028-11-26/
LOCATION:Englewood Christian Church\, 9600 Gulfstream Blvd\, Englewood\, FL\, 34224\, United States
CATEGORIES:Sunday,Worship Service
END:VEVENT
BEGIN:VEVENT
DTSTART;TZID=America/New_York:20281126T103000
DTEND;TZID=America/New_York:20281126T113000
DTSTAMP:20260425T223843
CREATED:20240523T201009Z
LAST-MODIFIED:20240523T201010Z
UID:10004028-1858847400-1858851000@englewoodchristian.com
SUMMARY:Children's Church
DESCRIPTION:
URL:https://englewoodchristian.com/event/childrens-church-3-2/2028-11-26/
LOCATION:Englewood Christian Church\, 9600 Gulfstream Blvd\, Englewood\, FL\, 34224\, United States
CATEGORIES:Kids,Sunday
ORGANIZER;CN="Andrew Lawson":MAILTO:alawson@englewoodchristian.com
END:VEVENT
BEGIN:VEVENT
DTSTART;TZID=America/New_York:20281126T180000
DTEND;TZID=America/New_York:20281126T190000
DTSTAMP:20260425T223843
CREATED:20240620T151840Z
LAST-MODIFIED:20240620T151840Z
UID:10004834-1858874400-1858878000@englewoodchristian.com
SUMMARY:Sunday Night Small Group
DESCRIPTION:This Small Group meets on Sunday evenings at 6:00pm and is led by Jim Chandler.
URL:https://englewoodchristian.com/event/sunday-night-small-group/2028-11-26/
LOCATION:FL
CATEGORIES:Adult,Bible Study
ORGANIZER;CN="Jim Chandler":MAILTO:jchandler@englewoodchristian.com
END:VEVENT
BEGIN:VEVENT
DTSTART;TZID=America/New_York:20281127T180000
DTEND;TZID=America/New_York:20281127T190000
DTSTAMP:20260425T223843
CREATED:20240430T150156Z
LAST-MODIFIED:20240430T150156Z
UID:10003261-1858960800-1858964400@englewoodchristian.com
SUMMARY:AA Meeting
DESCRIPTION:
URL:https://englewoodchristian.com/event/aa-meeting/2028-11-27/
LOCATION:Englewood Christian Church\, 9600 Gulfstream Blvd\, Englewood\, FL\, 34224\, United States
CATEGORIES:Hosted
END:VEVENT
BEGIN:VEVENT
DTSTART;TZID=America/New_York:20281127T190000
DTEND;TZID=America/New_York:20281127T203000
DTSTAMP:20260425T223843
CREATED:20251113T171841Z
LAST-MODIFIED:20251119T192902Z
UID:10005552-1858964400-1858969800@englewoodchristian.com
SUMMARY:Men’s 4x4
DESCRIPTION:Men’s bible study group at the church Monday nights starting at 7pm.
URL:https://englewoodchristian.com/event/mens-4x4-3-2/2028-11-27/
LOCATION:Englewood Christian Church\, 9600 Gulfstream Blvd\, Englewood\, FL\, 34224\, United States
CATEGORIES:Adult,Mens
ORGANIZER;CN="Jim Chandler":MAILTO:jchandler@englewoodchristian.com
END:VEVENT
BEGIN:VEVENT
DTSTART;TZID=America/New_York:20281128T123000
DTEND;TZID=America/New_York:20281128T143000
DTSTAMP:20260425T223843
CREATED:20240102T185554Z
LAST-MODIFIED:20251113T171703Z
UID:10001888-1859027400-1859034600@englewoodchristian.com
SUMMARY:Tuesday Women's Bible Study
DESCRIPTION:
URL:https://englewoodchristian.com/event/tuesday-womens-bible-study/2028-11-28/
LOCATION:FL
CATEGORIES:Adult,Bible Study,Ladies,Women
END:VEVENT
BEGIN:VEVENT
DTSTART;TZID=America/New_York:20281128T183000
DTEND;TZID=America/New_York:20281128T201500
DTSTAMP:20260425T223843
CREATED:20240620T140951Z
LAST-MODIFIED:20251113T172153Z
UID:10004548-1859049000-1859055300@englewoodchristian.com
SUMMARY:Tuesday Night Small Group
DESCRIPTION:This Small Group meets Tuesday nights at 6:30pm and is led by Jim Chandler.
URL:https://englewoodchristian.com/event/tuesday-night-small-group/2028-11-28/
LOCATION:FL
CATEGORIES:Adult,Bible Study
ORGANIZER;CN="Jim Chandler":MAILTO:jchandler@englewoodchristian.com
END:VEVENT
BEGIN:VEVENT
DTSTART;TZID=America/New_York:20281129T100000
DTEND;TZID=America/New_York:20281129T110000
DTSTAMP:20260425T223843
CREATED:20251018T221053Z
LAST-MODIFIED:20251118T210010Z
UID:10005937-1859104800-1859108400@englewoodchristian.com
SUMMARY:Prayer Time
DESCRIPTION:Spend some time with others in prayer at Englewood Christian Church on Wednesdays at 10:00AM.
URL:https://englewoodchristian.com/event/prayer-time/2028-11-29/
LOCATION:Englewood Christian Church\, 9600 Gulfstream Blvd\, Englewood\, FL\, 34224\, United States
CATEGORIES:Public,Wednesday
ORGANIZER;CN="Jim Chandler":MAILTO:jchandler@englewoodchristian.com
END:VEVENT
BEGIN:VEVENT
DTSTART;TZID=America/New_York:20281129T180000
DTEND;TZID=America/New_York:20281129T190000
DTSTAMP:20260425T223843
CREATED:20231031T010623Z
LAST-MODIFIED:20251118T205129Z
UID:10001598-1859133600-1859137200@englewoodchristian.com
SUMMARY:Adult Bible Study
DESCRIPTION:
URL:https://englewoodchristian.com/event/adult-bible-study-3/2028-11-29/
LOCATION:Englewood Christian Church\, 9600 Gulfstream Blvd\, Englewood\, FL\, 34224\, United States
CATEGORIES:Adult,Bible Study,Wednesday
END:VEVENT
BEGIN:VEVENT
DTSTART;TZID=America/New_York:20281130T090000
DTEND;TZID=America/New_York:20281130T100000
DTSTAMP:20260425T223843
CREATED:20231212T152706Z
LAST-MODIFIED:20251113T172636Z
UID:10001591-1859187600-1859191200@englewoodchristian.com
SUMMARY:Men's 4x4
DESCRIPTION:
URL:https://englewoodchristian.com/event/mens-4x4/2028-11-30/
LOCATION:Englewood Christian Church\, 9600 Gulfstream Blvd\, Englewood\, FL\, 34224\, United States
CATEGORIES:Bible Study,Mens
ATTACH;FMTTYPE=image/jpeg:https://englewoodchristian.com/wp-content/uploads/2023/06/mens_ministry_380x280.jpg
END:VEVENT
BEGIN:VEVENT
DTSTART;TZID=America/New_York:20281130T180000
DTEND;TZID=America/New_York:20281130T193000
DTSTAMP:20260425T223843
CREATED:20240620T153654Z
LAST-MODIFIED:20251113T172856Z
UID:10005085-1859220000-1859225400@englewoodchristian.com
SUMMARY:Thursday Night Small Group
DESCRIPTION:This small group meets every Thursday evening at 6:00pm.
URL:https://englewoodchristian.com/event/thursday-night-small-group/2028-11-30/
LOCATION:FL
CATEGORIES:Adult,Bible Study
END:VEVENT
BEGIN:VEVENT
DTSTART;TZID=America/New_York:20281203T093000
DTEND;TZID=America/New_York:20281203T101500
DTSTAMP:20260425T223843
CREATED:20240523T201136Z
LAST-MODIFIED:20240523T201138Z
UID:10004289-1859448600-1859451300@englewoodchristian.com
SUMMARY:Adult Sunday School
DESCRIPTION:
URL:https://englewoodchristian.com/event/adult-sunday-school-2-2-2/2028-12-03/
LOCATION:Englewood Christian Church\, 9600 Gulfstream Blvd\, Englewood\, FL\, 34224\, United States
CATEGORIES:Adult,Sunday,Sunday School
END:VEVENT
BEGIN:VEVENT
DTSTART;TZID=America/New_York:20281203T103000
DTEND;TZID=America/New_York:20281203T113000
DTSTAMP:20260425T223843
CREATED:20240523T200811Z
LAST-MODIFIED:20240523T200813Z
UID:10003769-1859452200-1859455800@englewoodchristian.com
SUMMARY:Sunday Worship Service
DESCRIPTION:
URL:https://englewoodchristian.com/event/sunday-worship-service/2028-12-03/
LOCATION:Englewood Christian Church\, 9600 Gulfstream Blvd\, Englewood\, FL\, 34224\, United States
CATEGORIES:Sunday,Worship Service
END:VEVENT
BEGIN:VEVENT
DTSTART;TZID=America/New_York:20281203T103000
DTEND;TZID=America/New_York:20281203T113000
DTSTAMP:20260425T223843
CREATED:20240523T201009Z
LAST-MODIFIED:20240523T201010Z
UID:10004029-1859452200-1859455800@englewoodchristian.com
SUMMARY:Children's Church
DESCRIPTION:
URL:https://englewoodchristian.com/event/childrens-church-3-2/2028-12-03/
LOCATION:Englewood Christian Church\, 9600 Gulfstream Blvd\, Englewood\, FL\, 34224\, United States
CATEGORIES:Kids,Sunday
ORGANIZER;CN="Andrew Lawson":MAILTO:alawson@englewoodchristian.com
END:VEVENT
BEGIN:VEVENT
DTSTART;TZID=America/New_York:20281203T180000
DTEND;TZID=America/New_York:20281203T190000
DTSTAMP:20260425T223843
CREATED:20240620T151840Z
LAST-MODIFIED:20240620T151840Z
UID:10004835-1859479200-1859482800@englewoodchristian.com
SUMMARY:Sunday Night Small Group
DESCRIPTION:This Small Group meets on Sunday evenings at 6:00pm and is led by Jim Chandler.
URL:https://englewoodchristian.com/event/sunday-night-small-group/2028-12-03/
LOCATION:FL
CATEGORIES:Adult,Bible Study
ORGANIZER;CN="Jim Chandler":MAILTO:jchandler@englewoodchristian.com
END:VEVENT
BEGIN:VEVENT
DTSTART;TZID=America/New_York:20281204T180000
DTEND;TZID=America/New_York:20281204T190000
DTSTAMP:20260425T223843
CREATED:20240430T150156Z
LAST-MODIFIED:20240430T150156Z
UID:10003262-1859565600-1859569200@englewoodchristian.com
SUMMARY:AA Meeting
DESCRIPTION:
URL:https://englewoodchristian.com/event/aa-meeting/2028-12-04/
LOCATION:Englewood Christian Church\, 9600 Gulfstream Blvd\, Englewood\, FL\, 34224\, United States
CATEGORIES:Hosted
END:VEVENT
END:VCALENDAR