BEGIN:VCALENDAR
VERSION:2.0
PRODID:-//Englewood Christian Church - ECPv6.15.20//NONSGML v1.0//EN
CALSCALE:GREGORIAN
METHOD:PUBLISH
X-WR-CALNAME:Englewood Christian Church
X-ORIGINAL-URL:https://englewoodchristian.com
X-WR-CALDESC:Events for Englewood Christian Church
REFRESH-INTERVAL;VALUE=DURATION:PT1H
X-Robots-Tag:noindex
X-PUBLISHED-TTL:PT1H
BEGIN:VTIMEZONE
TZID:America/New_York
BEGIN:DAYLIGHT
TZOFFSETFROM:-0500
TZOFFSETTO:-0400
TZNAME:EDT
DTSTART:20280312T070000
END:DAYLIGHT
BEGIN:STANDARD
TZOFFSETFROM:-0400
TZOFFSETTO:-0500
TZNAME:EST
DTSTART:20281105T060000
END:STANDARD
BEGIN:DAYLIGHT
TZOFFSETFROM:-0500
TZOFFSETTO:-0400
TZNAME:EDT
DTSTART:20290311T070000
END:DAYLIGHT
BEGIN:STANDARD
TZOFFSETFROM:-0400
TZOFFSETTO:-0500
TZNAME:EST
DTSTART:20291104T060000
END:STANDARD
BEGIN:DAYLIGHT
TZOFFSETFROM:-0500
TZOFFSETTO:-0400
TZNAME:EDT
DTSTART:20300310T070000
END:DAYLIGHT
BEGIN:STANDARD
TZOFFSETFROM:-0400
TZOFFSETTO:-0500
TZNAME:EST
DTSTART:20301103T060000
END:STANDARD
BEGIN:DAYLIGHT
TZOFFSETFROM:-0500
TZOFFSETTO:-0400
TZNAME:EDT
DTSTART:20310309T070000
END:DAYLIGHT
BEGIN:STANDARD
TZOFFSETFROM:-0400
TZOFFSETTO:-0500
TZNAME:EST
DTSTART:20311102T060000
END:STANDARD
END:VTIMEZONE
BEGIN:VEVENT
DTSTART;TZID=America/New_York:20291002T123000
DTEND;TZID=America/New_York:20291002T143000
DTSTAMP:20260424T125842
CREATED:20240102T185554Z
LAST-MODIFIED:20251113T171703Z
UID:10006076-1885638600-1885645800@englewoodchristian.com
SUMMARY:Tuesday Women's Bible Study
DESCRIPTION:
URL:https://englewoodchristian.com/event/tuesday-womens-bible-study/2029-10-02/
CATEGORIES:Adult,Bible Study,Ladies,Women
END:VEVENT
BEGIN:VEVENT
DTSTART;TZID=America/New_York:20291009T123000
DTEND;TZID=America/New_York:20291009T143000
DTSTAMP:20260424T125842
CREATED:20240102T185554Z
LAST-MODIFIED:20251113T171703Z
UID:10006077-1886243400-1886250600@englewoodchristian.com
SUMMARY:Tuesday Women's Bible Study
DESCRIPTION:
URL:https://englewoodchristian.com/event/tuesday-womens-bible-study/2029-10-09/
CATEGORIES:Adult,Bible Study,Ladies,Women
END:VEVENT
BEGIN:VEVENT
DTSTART;TZID=America/New_York:20291016T123000
DTEND;TZID=America/New_York:20291016T143000
DTSTAMP:20260424T125842
CREATED:20240102T185554Z
LAST-MODIFIED:20251113T171703Z
UID:10006078-1886848200-1886855400@englewoodchristian.com
SUMMARY:Tuesday Women's Bible Study
DESCRIPTION:
URL:https://englewoodchristian.com/event/tuesday-womens-bible-study/2029-10-16/
CATEGORIES:Adult,Bible Study,Ladies,Women
END:VEVENT
BEGIN:VEVENT
DTSTART;TZID=America/New_York:20291023T123000
DTEND;TZID=America/New_York:20291023T143000
DTSTAMP:20260424T125842
CREATED:20240102T185554Z
LAST-MODIFIED:20251113T171703Z
UID:10006079-1887453000-1887460200@englewoodchristian.com
SUMMARY:Tuesday Women's Bible Study
DESCRIPTION:
URL:https://englewoodchristian.com/event/tuesday-womens-bible-study/2029-10-23/
CATEGORIES:Adult,Bible Study,Ladies,Women
END:VEVENT
BEGIN:VEVENT
DTSTART;TZID=America/New_York:20291030T123000
DTEND;TZID=America/New_York:20291030T143000
DTSTAMP:20260424T125842
CREATED:20240102T185554Z
LAST-MODIFIED:20251113T171703Z
UID:10006080-1888057800-1888065000@englewoodchristian.com
SUMMARY:Tuesday Women's Bible Study
DESCRIPTION:
URL:https://englewoodchristian.com/event/tuesday-womens-bible-study/2029-10-30/
CATEGORIES:Adult,Bible Study,Ladies,Women
END:VEVENT
BEGIN:VEVENT
DTSTART;TZID=America/New_York:20291106T123000
DTEND;TZID=America/New_York:20291106T143000
DTSTAMP:20260424T125842
CREATED:20240102T185554Z
LAST-MODIFIED:20251113T171703Z
UID:10006081-1888662600-1888669800@englewoodchristian.com
SUMMARY:Tuesday Women's Bible Study
DESCRIPTION:
URL:https://englewoodchristian.com/event/tuesday-womens-bible-study/2029-11-06/
CATEGORIES:Adult,Bible Study,Ladies,Women
END:VEVENT
BEGIN:VEVENT
DTSTART;TZID=America/New_York:20291113T123000
DTEND;TZID=America/New_York:20291113T143000
DTSTAMP:20260424T125842
CREATED:20240102T185554Z
LAST-MODIFIED:20251113T171703Z
UID:10006082-1889267400-1889274600@englewoodchristian.com
SUMMARY:Tuesday Women's Bible Study
DESCRIPTION:
URL:https://englewoodchristian.com/event/tuesday-womens-bible-study/2029-11-13/
CATEGORIES:Adult,Bible Study,Ladies,Women
END:VEVENT
BEGIN:VEVENT
DTSTART;TZID=America/New_York:20291120T123000
DTEND;TZID=America/New_York:20291120T143000
DTSTAMP:20260424T125842
CREATED:20240102T185554Z
LAST-MODIFIED:20251113T171703Z
UID:10006083-1889872200-1889879400@englewoodchristian.com
SUMMARY:Tuesday Women's Bible Study
DESCRIPTION:
URL:https://englewoodchristian.com/event/tuesday-womens-bible-study/2029-11-20/
CATEGORIES:Adult,Bible Study,Ladies,Women
END:VEVENT
BEGIN:VEVENT
DTSTART;TZID=America/New_York:20291127T123000
DTEND;TZID=America/New_York:20291127T143000
DTSTAMP:20260424T125842
CREATED:20240102T185554Z
LAST-MODIFIED:20251113T171703Z
UID:10006084-1890477000-1890484200@englewoodchristian.com
SUMMARY:Tuesday Women's Bible Study
DESCRIPTION:
URL:https://englewoodchristian.com/event/tuesday-womens-bible-study/2029-11-27/
CATEGORIES:Adult,Bible Study,Ladies,Women
END:VEVENT
BEGIN:VEVENT
DTSTART;TZID=America/New_York:20291204T123000
DTEND;TZID=America/New_York:20291204T143000
DTSTAMP:20260424T125842
CREATED:20240102T185554Z
LAST-MODIFIED:20251113T171703Z
UID:10006085-1891081800-1891089000@englewoodchristian.com
SUMMARY:Tuesday Women's Bible Study
DESCRIPTION:
URL:https://englewoodchristian.com/event/tuesday-womens-bible-study/2029-12-04/
CATEGORIES:Adult,Bible Study,Ladies,Women
END:VEVENT
BEGIN:VEVENT
DTSTART;TZID=America/New_York:20291211T123000
DTEND;TZID=America/New_York:20291211T143000
DTSTAMP:20260424T125842
CREATED:20240102T185554Z
LAST-MODIFIED:20251113T171703Z
UID:10006086-1891686600-1891693800@englewoodchristian.com
SUMMARY:Tuesday Women's Bible Study
DESCRIPTION:
URL:https://englewoodchristian.com/event/tuesday-womens-bible-study/2029-12-11/
CATEGORIES:Adult,Bible Study,Ladies,Women
END:VEVENT
BEGIN:VEVENT
DTSTART;TZID=America/New_York:20291218T123000
DTEND;TZID=America/New_York:20291218T143000
DTSTAMP:20260424T125842
CREATED:20240102T185554Z
LAST-MODIFIED:20251113T171703Z
UID:10006087-1892291400-1892298600@englewoodchristian.com
SUMMARY:Tuesday Women's Bible Study
DESCRIPTION:
URL:https://englewoodchristian.com/event/tuesday-womens-bible-study/2029-12-18/
CATEGORIES:Adult,Bible Study,Ladies,Women
END:VEVENT
BEGIN:VEVENT
DTSTART;TZID=America/New_York:20291225T123000
DTEND;TZID=America/New_York:20291225T143000
DTSTAMP:20260424T125842
CREATED:20240102T185554Z
LAST-MODIFIED:20251113T171703Z
UID:10006088-1892896200-1892903400@englewoodchristian.com
SUMMARY:Tuesday Women's Bible Study
DESCRIPTION:
URL:https://englewoodchristian.com/event/tuesday-womens-bible-study/2029-12-25/
CATEGORIES:Adult,Bible Study,Ladies,Women
END:VEVENT
BEGIN:VEVENT
DTSTART;TZID=America/New_York:20300101T123000
DTEND;TZID=America/New_York:20300101T143000
DTSTAMP:20260424T125842
CREATED:20240102T185554Z
LAST-MODIFIED:20251113T171703Z
UID:10006089-1893501000-1893508200@englewoodchristian.com
SUMMARY:Tuesday Women's Bible Study
DESCRIPTION:
URL:https://englewoodchristian.com/event/tuesday-womens-bible-study/2030-01-01/
CATEGORIES:Adult,Bible Study,Ladies,Women
END:VEVENT
BEGIN:VEVENT
DTSTART;TZID=America/New_York:20300108T123000
DTEND;TZID=America/New_York:20300108T143000
DTSTAMP:20260424T125842
CREATED:20240102T185554Z
LAST-MODIFIED:20251113T171703Z
UID:10006090-1894105800-1894113000@englewoodchristian.com
SUMMARY:Tuesday Women's Bible Study
DESCRIPTION:
URL:https://englewoodchristian.com/event/tuesday-womens-bible-study/2030-01-08/
CATEGORIES:Adult,Bible Study,Ladies,Women
END:VEVENT
BEGIN:VEVENT
DTSTART;TZID=America/New_York:20300115T123000
DTEND;TZID=America/New_York:20300115T143000
DTSTAMP:20260424T125842
CREATED:20240102T185554Z
LAST-MODIFIED:20251113T171703Z
UID:10006091-1894710600-1894717800@englewoodchristian.com
SUMMARY:Tuesday Women's Bible Study
DESCRIPTION:
URL:https://englewoodchristian.com/event/tuesday-womens-bible-study/2030-01-15/
CATEGORIES:Adult,Bible Study,Ladies,Women
END:VEVENT
BEGIN:VEVENT
DTSTART;TZID=America/New_York:20300122T123000
DTEND;TZID=America/New_York:20300122T143000
DTSTAMP:20260424T125842
CREATED:20240102T185554Z
LAST-MODIFIED:20251113T171703Z
UID:10006092-1895315400-1895322600@englewoodchristian.com
SUMMARY:Tuesday Women's Bible Study
DESCRIPTION:
URL:https://englewoodchristian.com/event/tuesday-womens-bible-study/2030-01-22/
CATEGORIES:Adult,Bible Study,Ladies,Women
END:VEVENT
BEGIN:VEVENT
DTSTART;TZID=America/New_York:20300129T123000
DTEND;TZID=America/New_York:20300129T143000
DTSTAMP:20260424T125842
CREATED:20240102T185554Z
LAST-MODIFIED:20251113T171703Z
UID:10006093-1895920200-1895927400@englewoodchristian.com
SUMMARY:Tuesday Women's Bible Study
DESCRIPTION:
URL:https://englewoodchristian.com/event/tuesday-womens-bible-study/2030-01-29/
CATEGORIES:Adult,Bible Study,Ladies,Women
END:VEVENT
BEGIN:VEVENT
DTSTART;TZID=America/New_York:20300205T123000
DTEND;TZID=America/New_York:20300205T143000
DTSTAMP:20260424T125842
CREATED:20240102T185554Z
LAST-MODIFIED:20251113T171703Z
UID:10006094-1896525000-1896532200@englewoodchristian.com
SUMMARY:Tuesday Women's Bible Study
DESCRIPTION:
URL:https://englewoodchristian.com/event/tuesday-womens-bible-study/2030-02-05/
CATEGORIES:Adult,Bible Study,Ladies,Women
END:VEVENT
BEGIN:VEVENT
DTSTART;TZID=America/New_York:20300212T123000
DTEND;TZID=America/New_York:20300212T143000
DTSTAMP:20260424T125842
CREATED:20240102T185554Z
LAST-MODIFIED:20251113T171703Z
UID:10006095-1897129800-1897137000@englewoodchristian.com
SUMMARY:Tuesday Women's Bible Study
DESCRIPTION:
URL:https://englewoodchristian.com/event/tuesday-womens-bible-study/2030-02-12/
CATEGORIES:Adult,Bible Study,Ladies,Women
END:VEVENT
BEGIN:VEVENT
DTSTART;TZID=America/New_York:20300219T123000
DTEND;TZID=America/New_York:20300219T143000
DTSTAMP:20260424T125842
CREATED:20240102T185554Z
LAST-MODIFIED:20251113T171703Z
UID:10006096-1897734600-1897741800@englewoodchristian.com
SUMMARY:Tuesday Women's Bible Study
DESCRIPTION:
URL:https://englewoodchristian.com/event/tuesday-womens-bible-study/2030-02-19/
CATEGORIES:Adult,Bible Study,Ladies,Women
END:VEVENT
BEGIN:VEVENT
DTSTART;TZID=America/New_York:20300226T123000
DTEND;TZID=America/New_York:20300226T143000
DTSTAMP:20260424T125842
CREATED:20240102T185554Z
LAST-MODIFIED:20251113T171703Z
UID:10006097-1898339400-1898346600@englewoodchristian.com
SUMMARY:Tuesday Women's Bible Study
DESCRIPTION:
URL:https://englewoodchristian.com/event/tuesday-womens-bible-study/2030-02-26/
CATEGORIES:Adult,Bible Study,Ladies,Women
END:VEVENT
BEGIN:VEVENT
DTSTART;TZID=America/New_York:20300305T123000
DTEND;TZID=America/New_York:20300305T143000
DTSTAMP:20260424T125842
CREATED:20240102T185554Z
LAST-MODIFIED:20251113T171703Z
UID:10006098-1898944200-1898951400@englewoodchristian.com
SUMMARY:Tuesday Women's Bible Study
DESCRIPTION:
URL:https://englewoodchristian.com/event/tuesday-womens-bible-study/2030-03-05/
CATEGORIES:Adult,Bible Study,Ladies,Women
END:VEVENT
BEGIN:VEVENT
DTSTART;TZID=America/New_York:20300312T123000
DTEND;TZID=America/New_York:20300312T143000
DTSTAMP:20260424T125842
CREATED:20240102T185554Z
LAST-MODIFIED:20251113T171703Z
UID:10006099-1899549000-1899556200@englewoodchristian.com
SUMMARY:Tuesday Women's Bible Study
DESCRIPTION:
URL:https://englewoodchristian.com/event/tuesday-womens-bible-study/2030-03-12/
CATEGORIES:Adult,Bible Study,Ladies,Women
END:VEVENT
BEGIN:VEVENT
DTSTART;TZID=America/New_York:20300319T123000
DTEND;TZID=America/New_York:20300319T143000
DTSTAMP:20260424T125842
CREATED:20240102T185554Z
LAST-MODIFIED:20251113T171703Z
UID:10006100-1900153800-1900161000@englewoodchristian.com
SUMMARY:Tuesday Women's Bible Study
DESCRIPTION:
URL:https://englewoodchristian.com/event/tuesday-womens-bible-study/2030-03-19/
CATEGORIES:Adult,Bible Study,Ladies,Women
END:VEVENT
BEGIN:VEVENT
DTSTART;TZID=America/New_York:20300326T123000
DTEND;TZID=America/New_York:20300326T143000
DTSTAMP:20260424T125842
CREATED:20240102T185554Z
LAST-MODIFIED:20251113T171703Z
UID:10006101-1900758600-1900765800@englewoodchristian.com
SUMMARY:Tuesday Women's Bible Study
DESCRIPTION:
URL:https://englewoodchristian.com/event/tuesday-womens-bible-study/2030-03-26/
CATEGORIES:Adult,Bible Study,Ladies,Women
END:VEVENT
BEGIN:VEVENT
DTSTART;TZID=America/New_York:20300402T123000
DTEND;TZID=America/New_York:20300402T143000
DTSTAMP:20260424T125842
CREATED:20240102T185554Z
LAST-MODIFIED:20251113T171703Z
UID:10006102-1901363400-1901370600@englewoodchristian.com
SUMMARY:Tuesday Women's Bible Study
DESCRIPTION:
URL:https://englewoodchristian.com/event/tuesday-womens-bible-study/2030-04-02/
CATEGORIES:Adult,Bible Study,Ladies,Women
END:VEVENT
BEGIN:VEVENT
DTSTART;TZID=America/New_York:20300409T123000
DTEND;TZID=America/New_York:20300409T143000
DTSTAMP:20260424T125842
CREATED:20240102T185554Z
LAST-MODIFIED:20251113T171703Z
UID:10006103-1901968200-1901975400@englewoodchristian.com
SUMMARY:Tuesday Women's Bible Study
DESCRIPTION:
URL:https://englewoodchristian.com/event/tuesday-womens-bible-study/2030-04-09/
CATEGORIES:Adult,Bible Study,Ladies,Women
END:VEVENT
BEGIN:VEVENT
DTSTART;TZID=America/New_York:20300416T123000
DTEND;TZID=America/New_York:20300416T143000
DTSTAMP:20260424T125842
CREATED:20240102T185554Z
LAST-MODIFIED:20251113T171703Z
UID:10006104-1902573000-1902580200@englewoodchristian.com
SUMMARY:Tuesday Women's Bible Study
DESCRIPTION:
URL:https://englewoodchristian.com/event/tuesday-womens-bible-study/2030-04-16/
CATEGORIES:Adult,Bible Study,Ladies,Women
END:VEVENT
BEGIN:VEVENT
DTSTART;TZID=America/New_York:20300423T123000
DTEND;TZID=America/New_York:20300423T143000
DTSTAMP:20260424T125842
CREATED:20240102T185554Z
LAST-MODIFIED:20251113T171703Z
UID:10006105-1903177800-1903185000@englewoodchristian.com
SUMMARY:Tuesday Women's Bible Study
DESCRIPTION:
URL:https://englewoodchristian.com/event/tuesday-womens-bible-study/2030-04-23/
CATEGORIES:Adult,Bible Study,Ladies,Women
END:VEVENT
END:VCALENDAR