BEGIN:VCALENDAR
VERSION:2.0
PRODID:-//Englewood Christian Church - ECPv6.15.20//NONSGML v1.0//EN
CALSCALE:GREGORIAN
METHOD:PUBLISH
X-ORIGINAL-URL:https://englewoodchristian.com
X-WR-CALDESC:Events for Englewood Christian Church
REFRESH-INTERVAL;VALUE=DURATION:PT1H
X-Robots-Tag:noindex
X-PUBLISHED-TTL:PT1H
BEGIN:VTIMEZONE
TZID:America/New_York
BEGIN:DAYLIGHT
TZOFFSETFROM:-0500
TZOFFSETTO:-0400
TZNAME:EDT
DTSTART:20230312T070000
END:DAYLIGHT
BEGIN:STANDARD
TZOFFSETFROM:-0400
TZOFFSETTO:-0500
TZNAME:EST
DTSTART:20231105T060000
END:STANDARD
BEGIN:DAYLIGHT
TZOFFSETFROM:-0500
TZOFFSETTO:-0400
TZNAME:EDT
DTSTART:20240310T070000
END:DAYLIGHT
BEGIN:STANDARD
TZOFFSETFROM:-0400
TZOFFSETTO:-0500
TZNAME:EST
DTSTART:20241103T060000
END:STANDARD
BEGIN:DAYLIGHT
TZOFFSETFROM:-0500
TZOFFSETTO:-0400
TZNAME:EDT
DTSTART:20250309T070000
END:DAYLIGHT
BEGIN:STANDARD
TZOFFSETFROM:-0400
TZOFFSETTO:-0500
TZNAME:EST
DTSTART:20251102T060000
END:STANDARD
END:VTIMEZONE
BEGIN:VEVENT
DTSTART;TZID=America/New_York:20240402T123000
DTEND;TZID=America/New_York:20240402T143000
DTSTAMP:20260425T092655
CREATED:20240102T185554Z
LAST-MODIFIED:20251113T171703Z
UID:10001645-1712061000-1712068200@englewoodchristian.com
SUMMARY:Tuesday Women's Bible Study
DESCRIPTION:
URL:https://englewoodchristian.com/event/tuesday-womens-bible-study/2024-04-02/
CATEGORIES:Adult,Bible Study,Ladies,Women
END:VEVENT
BEGIN:VEVENT
DTSTART;TZID=America/New_York:20240409T123000
DTEND;TZID=America/New_York:20240409T143000
DTSTAMP:20260425T092655
CREATED:20240102T185554Z
LAST-MODIFIED:20251113T171703Z
UID:10001646-1712665800-1712673000@englewoodchristian.com
SUMMARY:Tuesday Women's Bible Study
DESCRIPTION:
URL:https://englewoodchristian.com/event/tuesday-womens-bible-study/2024-04-09/
CATEGORIES:Adult,Bible Study,Ladies,Women
END:VEVENT
BEGIN:VEVENT
DTSTART;TZID=America/New_York:20240413T103000
DTEND;TZID=America/New_York:20240413T113000
DTSTAMP:20260425T092655
CREATED:20240130T032332Z
LAST-MODIFIED:20240130T032426Z
UID:10001897-1713004200-1713007800@englewoodchristian.com
SUMMARY:One Moment
DESCRIPTION:Join us on Saturday\, Feb. 10th as we kick off our 12-week series\, Seeking God by Nancy DeMoss Wolgemuth and Tim Grissom.
URL:https://englewoodchristian.com/event/one-moment/2024-04-13/
CATEGORIES:Adult,Bible Study,Women
END:VEVENT
BEGIN:VEVENT
DTSTART;TZID=America/New_York:20240416T123000
DTEND;TZID=America/New_York:20240416T143000
DTSTAMP:20260425T092655
CREATED:20240102T185554Z
LAST-MODIFIED:20251113T171703Z
UID:10001647-1713270600-1713277800@englewoodchristian.com
SUMMARY:Tuesday Women's Bible Study
DESCRIPTION:
URL:https://englewoodchristian.com/event/tuesday-womens-bible-study/2024-04-16/
CATEGORIES:Adult,Bible Study,Ladies,Women
END:VEVENT
BEGIN:VEVENT
DTSTART;TZID=America/New_York:20240423T123000
DTEND;TZID=America/New_York:20240423T143000
DTSTAMP:20260425T092655
CREATED:20240102T185554Z
LAST-MODIFIED:20251113T171703Z
UID:10001648-1713875400-1713882600@englewoodchristian.com
SUMMARY:Tuesday Women's Bible Study
DESCRIPTION:
URL:https://englewoodchristian.com/event/tuesday-womens-bible-study/2024-04-23/
CATEGORIES:Adult,Bible Study,Ladies,Women
END:VEVENT
BEGIN:VEVENT
DTSTART;TZID=America/New_York:20240427T103000
DTEND;TZID=America/New_York:20240427T113000
DTSTAMP:20260425T092655
CREATED:20240130T032728Z
LAST-MODIFIED:20240130T032843Z
UID:10002017-1714213800-1714217400@englewoodchristian.com
SUMMARY:One Moment
DESCRIPTION:Join us on Saturday\, Seeking God by Nancy DeMoss Wolgemuth and Tim Grissom.
URL:https://englewoodchristian.com/event/one-moment-2/2024-04-27/
CATEGORIES:Adult,Bible Study,Women
END:VEVENT
BEGIN:VEVENT
DTSTART;TZID=America/New_York:20240430T123000
DTEND;TZID=America/New_York:20240430T143000
DTSTAMP:20260425T092655
CREATED:20240102T185554Z
LAST-MODIFIED:20251113T171703Z
UID:10001649-1714480200-1714487400@englewoodchristian.com
SUMMARY:Tuesday Women's Bible Study
DESCRIPTION:
URL:https://englewoodchristian.com/event/tuesday-womens-bible-study/2024-04-30/
CATEGORIES:Adult,Bible Study,Ladies,Women
END:VEVENT
END:VCALENDAR