BEGIN:VCALENDAR
VERSION:2.0
PRODID:-//Englewood Christian Church - ECPv6.15.20//NONSGML v1.0//EN
CALSCALE:GREGORIAN
METHOD:PUBLISH
X-WR-CALNAME:Englewood Christian Church
X-ORIGINAL-URL:https://englewoodchristian.com
X-WR-CALDESC:Events for Englewood Christian Church
REFRESH-INTERVAL;VALUE=DURATION:PT1H
X-Robots-Tag:noindex
X-PUBLISHED-TTL:PT1H
BEGIN:VTIMEZONE
TZID:America/New_York
BEGIN:DAYLIGHT
TZOFFSETFROM:-0500
TZOFFSETTO:-0400
TZNAME:EDT
DTSTART:20280312T070000
END:DAYLIGHT
BEGIN:STANDARD
TZOFFSETFROM:-0400
TZOFFSETTO:-0500
TZNAME:EST
DTSTART:20281105T060000
END:STANDARD
BEGIN:DAYLIGHT
TZOFFSETFROM:-0500
TZOFFSETTO:-0400
TZNAME:EDT
DTSTART:20290311T070000
END:DAYLIGHT
BEGIN:STANDARD
TZOFFSETFROM:-0400
TZOFFSETTO:-0500
TZNAME:EST
DTSTART:20291104T060000
END:STANDARD
BEGIN:DAYLIGHT
TZOFFSETFROM:-0500
TZOFFSETTO:-0400
TZNAME:EDT
DTSTART:20300310T070000
END:DAYLIGHT
BEGIN:STANDARD
TZOFFSETFROM:-0400
TZOFFSETTO:-0500
TZNAME:EST
DTSTART:20301103T060000
END:STANDARD
END:VTIMEZONE
BEGIN:VEVENT
DTSTART;TZID=America/New_York:20290110T100000
DTEND;TZID=America/New_York:20290110T110000
DTSTAMP:20260425T101216
CREATED:20251018T221053Z
LAST-MODIFIED:20251118T210010Z
UID:10005943-1862733600-1862737200@englewoodchristian.com
SUMMARY:Prayer Time
DESCRIPTION:Spend some time with others in prayer at Englewood Christian Church on Wednesdays at 10:00AM.
URL:https://englewoodchristian.com/event/prayer-time/2029-01-10/
LOCATION:Englewood Christian Church\, 9600 Gulfstream Blvd\, Englewood\, FL\, 34224\, United States
CATEGORIES:Public,Wednesday
ORGANIZER;CN="Jim Chandler":MAILTO:jchandler@englewoodchristian.com
END:VEVENT
BEGIN:VEVENT
DTSTART;TZID=America/New_York:20290110T180000
DTEND;TZID=America/New_York:20290110T190000
DTSTAMP:20260425T101216
CREATED:20231031T010623Z
LAST-MODIFIED:20251118T205129Z
UID:10006277-1862762400-1862766000@englewoodchristian.com
SUMMARY:Adult Bible Study
DESCRIPTION:
URL:https://englewoodchristian.com/event/adult-bible-study-3/2029-01-10/
LOCATION:Englewood Christian Church\, 9600 Gulfstream Blvd\, Englewood\, FL\, 34224\, United States
CATEGORIES:Adult,Bible Study,Wednesday
END:VEVENT
BEGIN:VEVENT
DTSTART;TZID=America/New_York:20290117T100000
DTEND;TZID=America/New_York:20290117T110000
DTSTAMP:20260425T101216
CREATED:20251018T221053Z
LAST-MODIFIED:20251118T210010Z
UID:10005944-1863338400-1863342000@englewoodchristian.com
SUMMARY:Prayer Time
DESCRIPTION:Spend some time with others in prayer at Englewood Christian Church on Wednesdays at 10:00AM.
URL:https://englewoodchristian.com/event/prayer-time/2029-01-17/
LOCATION:Englewood Christian Church\, 9600 Gulfstream Blvd\, Englewood\, FL\, 34224\, United States
CATEGORIES:Public,Wednesday
ORGANIZER;CN="Jim Chandler":MAILTO:jchandler@englewoodchristian.com
END:VEVENT
BEGIN:VEVENT
DTSTART;TZID=America/New_York:20290117T180000
DTEND;TZID=America/New_York:20290117T190000
DTSTAMP:20260425T101216
CREATED:20231031T010623Z
LAST-MODIFIED:20251118T205129Z
UID:10006278-1863367200-1863370800@englewoodchristian.com
SUMMARY:Adult Bible Study
DESCRIPTION:
URL:https://englewoodchristian.com/event/adult-bible-study-3/2029-01-17/
LOCATION:Englewood Christian Church\, 9600 Gulfstream Blvd\, Englewood\, FL\, 34224\, United States
CATEGORIES:Adult,Bible Study,Wednesday
END:VEVENT
BEGIN:VEVENT
DTSTART;TZID=America/New_York:20290124T100000
DTEND;TZID=America/New_York:20290124T110000
DTSTAMP:20260425T101216
CREATED:20251018T221053Z
LAST-MODIFIED:20251118T210010Z
UID:10005945-1863943200-1863946800@englewoodchristian.com
SUMMARY:Prayer Time
DESCRIPTION:Spend some time with others in prayer at Englewood Christian Church on Wednesdays at 10:00AM.
URL:https://englewoodchristian.com/event/prayer-time/2029-01-24/
LOCATION:Englewood Christian Church\, 9600 Gulfstream Blvd\, Englewood\, FL\, 34224\, United States
CATEGORIES:Public,Wednesday
ORGANIZER;CN="Jim Chandler":MAILTO:jchandler@englewoodchristian.com
END:VEVENT
BEGIN:VEVENT
DTSTART;TZID=America/New_York:20290124T180000
DTEND;TZID=America/New_York:20290124T190000
DTSTAMP:20260425T101216
CREATED:20231031T010623Z
LAST-MODIFIED:20251118T205129Z
UID:10006279-1863972000-1863975600@englewoodchristian.com
SUMMARY:Adult Bible Study
DESCRIPTION:
URL:https://englewoodchristian.com/event/adult-bible-study-3/2029-01-24/
LOCATION:Englewood Christian Church\, 9600 Gulfstream Blvd\, Englewood\, FL\, 34224\, United States
CATEGORIES:Adult,Bible Study,Wednesday
END:VEVENT
BEGIN:VEVENT
DTSTART;TZID=America/New_York:20290131T100000
DTEND;TZID=America/New_York:20290131T110000
DTSTAMP:20260425T101216
CREATED:20251018T221053Z
LAST-MODIFIED:20251118T210010Z
UID:10005946-1864548000-1864551600@englewoodchristian.com
SUMMARY:Prayer Time
DESCRIPTION:Spend some time with others in prayer at Englewood Christian Church on Wednesdays at 10:00AM.
URL:https://englewoodchristian.com/event/prayer-time/2029-01-31/
LOCATION:Englewood Christian Church\, 9600 Gulfstream Blvd\, Englewood\, FL\, 34224\, United States
CATEGORIES:Public,Wednesday
ORGANIZER;CN="Jim Chandler":MAILTO:jchandler@englewoodchristian.com
END:VEVENT
BEGIN:VEVENT
DTSTART;TZID=America/New_York:20290131T180000
DTEND;TZID=America/New_York:20290131T190000
DTSTAMP:20260425T101216
CREATED:20231031T010623Z
LAST-MODIFIED:20251118T205129Z
UID:10006280-1864576800-1864580400@englewoodchristian.com
SUMMARY:Adult Bible Study
DESCRIPTION:
URL:https://englewoodchristian.com/event/adult-bible-study-3/2029-01-31/
LOCATION:Englewood Christian Church\, 9600 Gulfstream Blvd\, Englewood\, FL\, 34224\, United States
CATEGORIES:Adult,Bible Study,Wednesday
END:VEVENT
BEGIN:VEVENT
DTSTART;TZID=America/New_York:20290207T100000
DTEND;TZID=America/New_York:20290207T110000
DTSTAMP:20260425T101216
CREATED:20251018T221053Z
LAST-MODIFIED:20251118T210010Z
UID:10005947-1865152800-1865156400@englewoodchristian.com
SUMMARY:Prayer Time
DESCRIPTION:Spend some time with others in prayer at Englewood Christian Church on Wednesdays at 10:00AM.
URL:https://englewoodchristian.com/event/prayer-time/2029-02-07/
LOCATION:Englewood Christian Church\, 9600 Gulfstream Blvd\, Englewood\, FL\, 34224\, United States
CATEGORIES:Public,Wednesday
ORGANIZER;CN="Jim Chandler":MAILTO:jchandler@englewoodchristian.com
END:VEVENT
BEGIN:VEVENT
DTSTART;TZID=America/New_York:20290207T180000
DTEND;TZID=America/New_York:20290207T190000
DTSTAMP:20260425T101216
CREATED:20231031T010623Z
LAST-MODIFIED:20251118T205129Z
UID:10006281-1865181600-1865185200@englewoodchristian.com
SUMMARY:Adult Bible Study
DESCRIPTION:
URL:https://englewoodchristian.com/event/adult-bible-study-3/2029-02-07/
LOCATION:Englewood Christian Church\, 9600 Gulfstream Blvd\, Englewood\, FL\, 34224\, United States
CATEGORIES:Adult,Bible Study,Wednesday
END:VEVENT
BEGIN:VEVENT
DTSTART;TZID=America/New_York:20290214T100000
DTEND;TZID=America/New_York:20290214T110000
DTSTAMP:20260425T101216
CREATED:20251018T221053Z
LAST-MODIFIED:20251118T210010Z
UID:10005948-1865757600-1865761200@englewoodchristian.com
SUMMARY:Prayer Time
DESCRIPTION:Spend some time with others in prayer at Englewood Christian Church on Wednesdays at 10:00AM.
URL:https://englewoodchristian.com/event/prayer-time/2029-02-14/
LOCATION:Englewood Christian Church\, 9600 Gulfstream Blvd\, Englewood\, FL\, 34224\, United States
CATEGORIES:Public,Wednesday
ORGANIZER;CN="Jim Chandler":MAILTO:jchandler@englewoodchristian.com
END:VEVENT
BEGIN:VEVENT
DTSTART;TZID=America/New_York:20290214T180000
DTEND;TZID=America/New_York:20290214T190000
DTSTAMP:20260425T101216
CREATED:20231031T010623Z
LAST-MODIFIED:20251118T205129Z
UID:10006282-1865786400-1865790000@englewoodchristian.com
SUMMARY:Adult Bible Study
DESCRIPTION:
URL:https://englewoodchristian.com/event/adult-bible-study-3/2029-02-14/
LOCATION:Englewood Christian Church\, 9600 Gulfstream Blvd\, Englewood\, FL\, 34224\, United States
CATEGORIES:Adult,Bible Study,Wednesday
END:VEVENT
BEGIN:VEVENT
DTSTART;TZID=America/New_York:20290221T100000
DTEND;TZID=America/New_York:20290221T110000
DTSTAMP:20260425T101216
CREATED:20251018T221053Z
LAST-MODIFIED:20251118T210010Z
UID:10005949-1866362400-1866366000@englewoodchristian.com
SUMMARY:Prayer Time
DESCRIPTION:Spend some time with others in prayer at Englewood Christian Church on Wednesdays at 10:00AM.
URL:https://englewoodchristian.com/event/prayer-time/2029-02-21/
LOCATION:Englewood Christian Church\, 9600 Gulfstream Blvd\, Englewood\, FL\, 34224\, United States
CATEGORIES:Public,Wednesday
ORGANIZER;CN="Jim Chandler":MAILTO:jchandler@englewoodchristian.com
END:VEVENT
BEGIN:VEVENT
DTSTART;TZID=America/New_York:20290221T180000
DTEND;TZID=America/New_York:20290221T190000
DTSTAMP:20260425T101216
CREATED:20231031T010623Z
LAST-MODIFIED:20251118T205129Z
UID:10006283-1866391200-1866394800@englewoodchristian.com
SUMMARY:Adult Bible Study
DESCRIPTION:
URL:https://englewoodchristian.com/event/adult-bible-study-3/2029-02-21/
LOCATION:Englewood Christian Church\, 9600 Gulfstream Blvd\, Englewood\, FL\, 34224\, United States
CATEGORIES:Adult,Bible Study,Wednesday
END:VEVENT
BEGIN:VEVENT
DTSTART;TZID=America/New_York:20290228T100000
DTEND;TZID=America/New_York:20290228T110000
DTSTAMP:20260425T101216
CREATED:20251018T221053Z
LAST-MODIFIED:20251118T210010Z
UID:10005950-1866967200-1866970800@englewoodchristian.com
SUMMARY:Prayer Time
DESCRIPTION:Spend some time with others in prayer at Englewood Christian Church on Wednesdays at 10:00AM.
URL:https://englewoodchristian.com/event/prayer-time/2029-02-28/
LOCATION:Englewood Christian Church\, 9600 Gulfstream Blvd\, Englewood\, FL\, 34224\, United States
CATEGORIES:Public,Wednesday
ORGANIZER;CN="Jim Chandler":MAILTO:jchandler@englewoodchristian.com
END:VEVENT
BEGIN:VEVENT
DTSTART;TZID=America/New_York:20290228T180000
DTEND;TZID=America/New_York:20290228T190000
DTSTAMP:20260425T101216
CREATED:20231031T010623Z
LAST-MODIFIED:20251118T205129Z
UID:10006284-1866996000-1866999600@englewoodchristian.com
SUMMARY:Adult Bible Study
DESCRIPTION:
URL:https://englewoodchristian.com/event/adult-bible-study-3/2029-02-28/
LOCATION:Englewood Christian Church\, 9600 Gulfstream Blvd\, Englewood\, FL\, 34224\, United States
CATEGORIES:Adult,Bible Study,Wednesday
END:VEVENT
BEGIN:VEVENT
DTSTART;TZID=America/New_York:20290307T100000
DTEND;TZID=America/New_York:20290307T110000
DTSTAMP:20260425T101216
CREATED:20251018T221053Z
LAST-MODIFIED:20251118T210010Z
UID:10005951-1867572000-1867575600@englewoodchristian.com
SUMMARY:Prayer Time
DESCRIPTION:Spend some time with others in prayer at Englewood Christian Church on Wednesdays at 10:00AM.
URL:https://englewoodchristian.com/event/prayer-time/2029-03-07/
LOCATION:Englewood Christian Church\, 9600 Gulfstream Blvd\, Englewood\, FL\, 34224\, United States
CATEGORIES:Public,Wednesday
ORGANIZER;CN="Jim Chandler":MAILTO:jchandler@englewoodchristian.com
END:VEVENT
BEGIN:VEVENT
DTSTART;TZID=America/New_York:20290307T180000
DTEND;TZID=America/New_York:20290307T190000
DTSTAMP:20260425T101216
CREATED:20231031T010623Z
LAST-MODIFIED:20251118T205129Z
UID:10006285-1867600800-1867604400@englewoodchristian.com
SUMMARY:Adult Bible Study
DESCRIPTION:
URL:https://englewoodchristian.com/event/adult-bible-study-3/2029-03-07/
LOCATION:Englewood Christian Church\, 9600 Gulfstream Blvd\, Englewood\, FL\, 34224\, United States
CATEGORIES:Adult,Bible Study,Wednesday
END:VEVENT
BEGIN:VEVENT
DTSTART;TZID=America/New_York:20290314T100000
DTEND;TZID=America/New_York:20290314T110000
DTSTAMP:20260425T101216
CREATED:20251018T221053Z
LAST-MODIFIED:20251118T210010Z
UID:10005952-1868176800-1868180400@englewoodchristian.com
SUMMARY:Prayer Time
DESCRIPTION:Spend some time with others in prayer at Englewood Christian Church on Wednesdays at 10:00AM.
URL:https://englewoodchristian.com/event/prayer-time/2029-03-14/
LOCATION:Englewood Christian Church\, 9600 Gulfstream Blvd\, Englewood\, FL\, 34224\, United States
CATEGORIES:Public,Wednesday
ORGANIZER;CN="Jim Chandler":MAILTO:jchandler@englewoodchristian.com
END:VEVENT
BEGIN:VEVENT
DTSTART;TZID=America/New_York:20290314T180000
DTEND;TZID=America/New_York:20290314T190000
DTSTAMP:20260425T101216
CREATED:20231031T010623Z
LAST-MODIFIED:20251118T205129Z
UID:10006286-1868205600-1868209200@englewoodchristian.com
SUMMARY:Adult Bible Study
DESCRIPTION:
URL:https://englewoodchristian.com/event/adult-bible-study-3/2029-03-14/
LOCATION:Englewood Christian Church\, 9600 Gulfstream Blvd\, Englewood\, FL\, 34224\, United States
CATEGORIES:Adult,Bible Study,Wednesday
END:VEVENT
BEGIN:VEVENT
DTSTART;TZID=America/New_York:20290321T100000
DTEND;TZID=America/New_York:20290321T110000
DTSTAMP:20260425T101216
CREATED:20251018T221053Z
LAST-MODIFIED:20251118T210010Z
UID:10005953-1868781600-1868785200@englewoodchristian.com
SUMMARY:Prayer Time
DESCRIPTION:Spend some time with others in prayer at Englewood Christian Church on Wednesdays at 10:00AM.
URL:https://englewoodchristian.com/event/prayer-time/2029-03-21/
LOCATION:Englewood Christian Church\, 9600 Gulfstream Blvd\, Englewood\, FL\, 34224\, United States
CATEGORIES:Public,Wednesday
ORGANIZER;CN="Jim Chandler":MAILTO:jchandler@englewoodchristian.com
END:VEVENT
BEGIN:VEVENT
DTSTART;TZID=America/New_York:20290321T180000
DTEND;TZID=America/New_York:20290321T190000
DTSTAMP:20260425T101216
CREATED:20231031T010623Z
LAST-MODIFIED:20251118T205129Z
UID:10006287-1868810400-1868814000@englewoodchristian.com
SUMMARY:Adult Bible Study
DESCRIPTION:
URL:https://englewoodchristian.com/event/adult-bible-study-3/2029-03-21/
LOCATION:Englewood Christian Church\, 9600 Gulfstream Blvd\, Englewood\, FL\, 34224\, United States
CATEGORIES:Adult,Bible Study,Wednesday
END:VEVENT
BEGIN:VEVENT
DTSTART;TZID=America/New_York:20290328T100000
DTEND;TZID=America/New_York:20290328T110000
DTSTAMP:20260425T101216
CREATED:20251018T221053Z
LAST-MODIFIED:20251118T210010Z
UID:10005954-1869386400-1869390000@englewoodchristian.com
SUMMARY:Prayer Time
DESCRIPTION:Spend some time with others in prayer at Englewood Christian Church on Wednesdays at 10:00AM.
URL:https://englewoodchristian.com/event/prayer-time/2029-03-28/
LOCATION:Englewood Christian Church\, 9600 Gulfstream Blvd\, Englewood\, FL\, 34224\, United States
CATEGORIES:Public,Wednesday
ORGANIZER;CN="Jim Chandler":MAILTO:jchandler@englewoodchristian.com
END:VEVENT
BEGIN:VEVENT
DTSTART;TZID=America/New_York:20290328T180000
DTEND;TZID=America/New_York:20290328T190000
DTSTAMP:20260425T101216
CREATED:20231031T010623Z
LAST-MODIFIED:20251118T205129Z
UID:10006288-1869415200-1869418800@englewoodchristian.com
SUMMARY:Adult Bible Study
DESCRIPTION:
URL:https://englewoodchristian.com/event/adult-bible-study-3/2029-03-28/
LOCATION:Englewood Christian Church\, 9600 Gulfstream Blvd\, Englewood\, FL\, 34224\, United States
CATEGORIES:Adult,Bible Study,Wednesday
END:VEVENT
BEGIN:VEVENT
DTSTART;TZID=America/New_York:20290404T100000
DTEND;TZID=America/New_York:20290404T110000
DTSTAMP:20260425T101216
CREATED:20251018T221053Z
LAST-MODIFIED:20251118T210010Z
UID:10005955-1869991200-1869994800@englewoodchristian.com
SUMMARY:Prayer Time
DESCRIPTION:Spend some time with others in prayer at Englewood Christian Church on Wednesdays at 10:00AM.
URL:https://englewoodchristian.com/event/prayer-time/2029-04-04/
LOCATION:Englewood Christian Church\, 9600 Gulfstream Blvd\, Englewood\, FL\, 34224\, United States
CATEGORIES:Public,Wednesday
ORGANIZER;CN="Jim Chandler":MAILTO:jchandler@englewoodchristian.com
END:VEVENT
BEGIN:VEVENT
DTSTART;TZID=America/New_York:20290404T180000
DTEND;TZID=America/New_York:20290404T190000
DTSTAMP:20260425T101216
CREATED:20231031T010623Z
LAST-MODIFIED:20251118T205129Z
UID:10006289-1870020000-1870023600@englewoodchristian.com
SUMMARY:Adult Bible Study
DESCRIPTION:
URL:https://englewoodchristian.com/event/adult-bible-study-3/2029-04-04/
LOCATION:Englewood Christian Church\, 9600 Gulfstream Blvd\, Englewood\, FL\, 34224\, United States
CATEGORIES:Adult,Bible Study,Wednesday
END:VEVENT
BEGIN:VEVENT
DTSTART;TZID=America/New_York:20290411T100000
DTEND;TZID=America/New_York:20290411T110000
DTSTAMP:20260425T101216
CREATED:20251018T221053Z
LAST-MODIFIED:20251118T210010Z
UID:10005956-1870596000-1870599600@englewoodchristian.com
SUMMARY:Prayer Time
DESCRIPTION:Spend some time with others in prayer at Englewood Christian Church on Wednesdays at 10:00AM.
URL:https://englewoodchristian.com/event/prayer-time/2029-04-11/
LOCATION:Englewood Christian Church\, 9600 Gulfstream Blvd\, Englewood\, FL\, 34224\, United States
CATEGORIES:Public,Wednesday
ORGANIZER;CN="Jim Chandler":MAILTO:jchandler@englewoodchristian.com
END:VEVENT
BEGIN:VEVENT
DTSTART;TZID=America/New_York:20290411T180000
DTEND;TZID=America/New_York:20290411T190000
DTSTAMP:20260425T101216
CREATED:20231031T010623Z
LAST-MODIFIED:20251118T205129Z
UID:10006290-1870624800-1870628400@englewoodchristian.com
SUMMARY:Adult Bible Study
DESCRIPTION:
URL:https://englewoodchristian.com/event/adult-bible-study-3/2029-04-11/
LOCATION:Englewood Christian Church\, 9600 Gulfstream Blvd\, Englewood\, FL\, 34224\, United States
CATEGORIES:Adult,Bible Study,Wednesday
END:VEVENT
BEGIN:VEVENT
DTSTART;TZID=America/New_York:20290418T100000
DTEND;TZID=America/New_York:20290418T110000
DTSTAMP:20260425T101216
CREATED:20251018T221053Z
LAST-MODIFIED:20251118T210010Z
UID:10005957-1871200800-1871204400@englewoodchristian.com
SUMMARY:Prayer Time
DESCRIPTION:Spend some time with others in prayer at Englewood Christian Church on Wednesdays at 10:00AM.
URL:https://englewoodchristian.com/event/prayer-time/2029-04-18/
LOCATION:Englewood Christian Church\, 9600 Gulfstream Blvd\, Englewood\, FL\, 34224\, United States
CATEGORIES:Public,Wednesday
ORGANIZER;CN="Jim Chandler":MAILTO:jchandler@englewoodchristian.com
END:VEVENT
BEGIN:VEVENT
DTSTART;TZID=America/New_York:20290418T180000
DTEND;TZID=America/New_York:20290418T190000
DTSTAMP:20260425T101216
CREATED:20231031T010623Z
LAST-MODIFIED:20251118T205129Z
UID:10006291-1871229600-1871233200@englewoodchristian.com
SUMMARY:Adult Bible Study
DESCRIPTION:
URL:https://englewoodchristian.com/event/adult-bible-study-3/2029-04-18/
LOCATION:Englewood Christian Church\, 9600 Gulfstream Blvd\, Englewood\, FL\, 34224\, United States
CATEGORIES:Adult,Bible Study,Wednesday
END:VEVENT
END:VCALENDAR