BEGIN:VCALENDAR
VERSION:2.0
PRODID:-//Englewood Christian Church - ECPv6.15.20//NONSGML v1.0//EN
CALSCALE:GREGORIAN
METHOD:PUBLISH
X-WR-CALNAME:Englewood Christian Church
X-ORIGINAL-URL:https://englewoodchristian.com
X-WR-CALDESC:Events for Englewood Christian Church
REFRESH-INTERVAL;VALUE=DURATION:PT1H
X-Robots-Tag:noindex
X-PUBLISHED-TTL:PT1H
BEGIN:VTIMEZONE
TZID:America/New_York
BEGIN:DAYLIGHT
TZOFFSETFROM:-0500
TZOFFSETTO:-0400
TZNAME:EDT
DTSTART:20260308T070000
END:DAYLIGHT
BEGIN:STANDARD
TZOFFSETFROM:-0400
TZOFFSETTO:-0500
TZNAME:EST
DTSTART:20261101T060000
END:STANDARD
BEGIN:DAYLIGHT
TZOFFSETFROM:-0500
TZOFFSETTO:-0400
TZNAME:EDT
DTSTART:20270314T070000
END:DAYLIGHT
BEGIN:STANDARD
TZOFFSETFROM:-0400
TZOFFSETTO:-0500
TZNAME:EST
DTSTART:20271107T060000
END:STANDARD
BEGIN:DAYLIGHT
TZOFFSETFROM:-0500
TZOFFSETTO:-0400
TZNAME:EDT
DTSTART:20280312T070000
END:DAYLIGHT
BEGIN:STANDARD
TZOFFSETFROM:-0400
TZOFFSETTO:-0500
TZNAME:EST
DTSTART:20281105T060000
END:STANDARD
END:VTIMEZONE
BEGIN:VEVENT
DTSTART;TZID=America/New_York:20270324T180000
DTEND;TZID=America/New_York:20270324T190000
DTSTAMP:20260425T110848
CREATED:20231031T010623Z
LAST-MODIFIED:20251118T205129Z
UID:10001243-1805911200-1805914800@englewoodchristian.com
SUMMARY:Adult Bible Study
DESCRIPTION:
URL:https://englewoodchristian.com/event/adult-bible-study-3/2027-03-24/
LOCATION:Englewood Christian Church\, 9600 Gulfstream Blvd\, Englewood\, FL\, 34224\, United States
CATEGORIES:Adult,Bible Study,Wednesday
END:VEVENT
BEGIN:VEVENT
DTSTART;TZID=America/New_York:20270331T100000
DTEND;TZID=America/New_York:20270331T110000
DTSTAMP:20260425T110848
CREATED:20251018T221053Z
LAST-MODIFIED:20251118T210010Z
UID:10005850-1806487200-1806490800@englewoodchristian.com
SUMMARY:Prayer Time
DESCRIPTION:Spend some time with others in prayer at Englewood Christian Church on Wednesdays at 10:00AM.
URL:https://englewoodchristian.com/event/prayer-time/2027-03-31/
LOCATION:Englewood Christian Church\, 9600 Gulfstream Blvd\, Englewood\, FL\, 34224\, United States
CATEGORIES:Public,Wednesday
ORGANIZER;CN="Jim Chandler":MAILTO:jchandler@englewoodchristian.com
END:VEVENT
BEGIN:VEVENT
DTSTART;TZID=America/New_York:20270331T180000
DTEND;TZID=America/New_York:20270331T190000
DTSTAMP:20260425T110848
CREATED:20231031T010623Z
LAST-MODIFIED:20251118T205129Z
UID:10001244-1806516000-1806519600@englewoodchristian.com
SUMMARY:Adult Bible Study
DESCRIPTION:
URL:https://englewoodchristian.com/event/adult-bible-study-3/2027-03-31/
LOCATION:Englewood Christian Church\, 9600 Gulfstream Blvd\, Englewood\, FL\, 34224\, United States
CATEGORIES:Adult,Bible Study,Wednesday
END:VEVENT
BEGIN:VEVENT
DTSTART;TZID=America/New_York:20270407T100000
DTEND;TZID=America/New_York:20270407T110000
DTSTAMP:20260425T110848
CREATED:20251018T221053Z
LAST-MODIFIED:20251118T210010Z
UID:10005851-1807092000-1807095600@englewoodchristian.com
SUMMARY:Prayer Time
DESCRIPTION:Spend some time with others in prayer at Englewood Christian Church on Wednesdays at 10:00AM.
URL:https://englewoodchristian.com/event/prayer-time/2027-04-07/
LOCATION:Englewood Christian Church\, 9600 Gulfstream Blvd\, Englewood\, FL\, 34224\, United States
CATEGORIES:Public,Wednesday
ORGANIZER;CN="Jim Chandler":MAILTO:jchandler@englewoodchristian.com
END:VEVENT
BEGIN:VEVENT
DTSTART;TZID=America/New_York:20270407T180000
DTEND;TZID=America/New_York:20270407T190000
DTSTAMP:20260425T110848
CREATED:20231031T010623Z
LAST-MODIFIED:20251118T205129Z
UID:10001245-1807120800-1807124400@englewoodchristian.com
SUMMARY:Adult Bible Study
DESCRIPTION:
URL:https://englewoodchristian.com/event/adult-bible-study-3/2027-04-07/
LOCATION:Englewood Christian Church\, 9600 Gulfstream Blvd\, Englewood\, FL\, 34224\, United States
CATEGORIES:Adult,Bible Study,Wednesday
END:VEVENT
BEGIN:VEVENT
DTSTART;TZID=America/New_York:20270414T100000
DTEND;TZID=America/New_York:20270414T110000
DTSTAMP:20260425T110848
CREATED:20251018T221053Z
LAST-MODIFIED:20251118T210010Z
UID:10005852-1807696800-1807700400@englewoodchristian.com
SUMMARY:Prayer Time
DESCRIPTION:Spend some time with others in prayer at Englewood Christian Church on Wednesdays at 10:00AM.
URL:https://englewoodchristian.com/event/prayer-time/2027-04-14/
LOCATION:Englewood Christian Church\, 9600 Gulfstream Blvd\, Englewood\, FL\, 34224\, United States
CATEGORIES:Public,Wednesday
ORGANIZER;CN="Jim Chandler":MAILTO:jchandler@englewoodchristian.com
END:VEVENT
BEGIN:VEVENT
DTSTART;TZID=America/New_York:20270414T180000
DTEND;TZID=America/New_York:20270414T190000
DTSTAMP:20260425T110848
CREATED:20231031T010623Z
LAST-MODIFIED:20251118T205129Z
UID:10001246-1807725600-1807729200@englewoodchristian.com
SUMMARY:Adult Bible Study
DESCRIPTION:
URL:https://englewoodchristian.com/event/adult-bible-study-3/2027-04-14/
LOCATION:Englewood Christian Church\, 9600 Gulfstream Blvd\, Englewood\, FL\, 34224\, United States
CATEGORIES:Adult,Bible Study,Wednesday
END:VEVENT
BEGIN:VEVENT
DTSTART;TZID=America/New_York:20270421T100000
DTEND;TZID=America/New_York:20270421T110000
DTSTAMP:20260425T110848
CREATED:20251018T221053Z
LAST-MODIFIED:20251118T210010Z
UID:10005853-1808301600-1808305200@englewoodchristian.com
SUMMARY:Prayer Time
DESCRIPTION:Spend some time with others in prayer at Englewood Christian Church on Wednesdays at 10:00AM.
URL:https://englewoodchristian.com/event/prayer-time/2027-04-21/
LOCATION:Englewood Christian Church\, 9600 Gulfstream Blvd\, Englewood\, FL\, 34224\, United States
CATEGORIES:Public,Wednesday
ORGANIZER;CN="Jim Chandler":MAILTO:jchandler@englewoodchristian.com
END:VEVENT
BEGIN:VEVENT
DTSTART;TZID=America/New_York:20270421T180000
DTEND;TZID=America/New_York:20270421T190000
DTSTAMP:20260425T110848
CREATED:20231031T010623Z
LAST-MODIFIED:20251118T205129Z
UID:10001247-1808330400-1808334000@englewoodchristian.com
SUMMARY:Adult Bible Study
DESCRIPTION:
URL:https://englewoodchristian.com/event/adult-bible-study-3/2027-04-21/
LOCATION:Englewood Christian Church\, 9600 Gulfstream Blvd\, Englewood\, FL\, 34224\, United States
CATEGORIES:Adult,Bible Study,Wednesday
END:VEVENT
BEGIN:VEVENT
DTSTART;TZID=America/New_York:20270428T100000
DTEND;TZID=America/New_York:20270428T110000
DTSTAMP:20260425T110848
CREATED:20251018T221053Z
LAST-MODIFIED:20251118T210010Z
UID:10005854-1808906400-1808910000@englewoodchristian.com
SUMMARY:Prayer Time
DESCRIPTION:Spend some time with others in prayer at Englewood Christian Church on Wednesdays at 10:00AM.
URL:https://englewoodchristian.com/event/prayer-time/2027-04-28/
LOCATION:Englewood Christian Church\, 9600 Gulfstream Blvd\, Englewood\, FL\, 34224\, United States
CATEGORIES:Public,Wednesday
ORGANIZER;CN="Jim Chandler":MAILTO:jchandler@englewoodchristian.com
END:VEVENT
BEGIN:VEVENT
DTSTART;TZID=America/New_York:20270428T180000
DTEND;TZID=America/New_York:20270428T190000
DTSTAMP:20260425T110848
CREATED:20231031T010623Z
LAST-MODIFIED:20251118T205129Z
UID:10001248-1808935200-1808938800@englewoodchristian.com
SUMMARY:Adult Bible Study
DESCRIPTION:
URL:https://englewoodchristian.com/event/adult-bible-study-3/2027-04-28/
LOCATION:Englewood Christian Church\, 9600 Gulfstream Blvd\, Englewood\, FL\, 34224\, United States
CATEGORIES:Adult,Bible Study,Wednesday
END:VEVENT
BEGIN:VEVENT
DTSTART;TZID=America/New_York:20270505T100000
DTEND;TZID=America/New_York:20270505T110000
DTSTAMP:20260425T110848
CREATED:20251018T221053Z
LAST-MODIFIED:20251118T210010Z
UID:10005855-1809511200-1809514800@englewoodchristian.com
SUMMARY:Prayer Time
DESCRIPTION:Spend some time with others in prayer at Englewood Christian Church on Wednesdays at 10:00AM.
URL:https://englewoodchristian.com/event/prayer-time/2027-05-05/
LOCATION:Englewood Christian Church\, 9600 Gulfstream Blvd\, Englewood\, FL\, 34224\, United States
CATEGORIES:Public,Wednesday
ORGANIZER;CN="Jim Chandler":MAILTO:jchandler@englewoodchristian.com
END:VEVENT
BEGIN:VEVENT
DTSTART;TZID=America/New_York:20270505T180000
DTEND;TZID=America/New_York:20270505T190000
DTSTAMP:20260425T110848
CREATED:20231031T010623Z
LAST-MODIFIED:20251118T205129Z
UID:10001249-1809540000-1809543600@englewoodchristian.com
SUMMARY:Adult Bible Study
DESCRIPTION:
URL:https://englewoodchristian.com/event/adult-bible-study-3/2027-05-05/
LOCATION:Englewood Christian Church\, 9600 Gulfstream Blvd\, Englewood\, FL\, 34224\, United States
CATEGORIES:Adult,Bible Study,Wednesday
END:VEVENT
BEGIN:VEVENT
DTSTART;TZID=America/New_York:20270512T100000
DTEND;TZID=America/New_York:20270512T110000
DTSTAMP:20260425T110848
CREATED:20251018T221053Z
LAST-MODIFIED:20251118T210010Z
UID:10005856-1810116000-1810119600@englewoodchristian.com
SUMMARY:Prayer Time
DESCRIPTION:Spend some time with others in prayer at Englewood Christian Church on Wednesdays at 10:00AM.
URL:https://englewoodchristian.com/event/prayer-time/2027-05-12/
LOCATION:Englewood Christian Church\, 9600 Gulfstream Blvd\, Englewood\, FL\, 34224\, United States
CATEGORIES:Public,Wednesday
ORGANIZER;CN="Jim Chandler":MAILTO:jchandler@englewoodchristian.com
END:VEVENT
BEGIN:VEVENT
DTSTART;TZID=America/New_York:20270512T180000
DTEND;TZID=America/New_York:20270512T190000
DTSTAMP:20260425T110848
CREATED:20231031T010623Z
LAST-MODIFIED:20251118T205129Z
UID:10001250-1810144800-1810148400@englewoodchristian.com
SUMMARY:Adult Bible Study
DESCRIPTION:
URL:https://englewoodchristian.com/event/adult-bible-study-3/2027-05-12/
LOCATION:Englewood Christian Church\, 9600 Gulfstream Blvd\, Englewood\, FL\, 34224\, United States
CATEGORIES:Adult,Bible Study,Wednesday
END:VEVENT
BEGIN:VEVENT
DTSTART;TZID=America/New_York:20270519T100000
DTEND;TZID=America/New_York:20270519T110000
DTSTAMP:20260425T110848
CREATED:20251018T221053Z
LAST-MODIFIED:20251118T210010Z
UID:10005857-1810720800-1810724400@englewoodchristian.com
SUMMARY:Prayer Time
DESCRIPTION:Spend some time with others in prayer at Englewood Christian Church on Wednesdays at 10:00AM.
URL:https://englewoodchristian.com/event/prayer-time/2027-05-19/
LOCATION:Englewood Christian Church\, 9600 Gulfstream Blvd\, Englewood\, FL\, 34224\, United States
CATEGORIES:Public,Wednesday
ORGANIZER;CN="Jim Chandler":MAILTO:jchandler@englewoodchristian.com
END:VEVENT
BEGIN:VEVENT
DTSTART;TZID=America/New_York:20270519T180000
DTEND;TZID=America/New_York:20270519T190000
DTSTAMP:20260425T110848
CREATED:20231031T010623Z
LAST-MODIFIED:20251118T205129Z
UID:10001251-1810749600-1810753200@englewoodchristian.com
SUMMARY:Adult Bible Study
DESCRIPTION:
URL:https://englewoodchristian.com/event/adult-bible-study-3/2027-05-19/
LOCATION:Englewood Christian Church\, 9600 Gulfstream Blvd\, Englewood\, FL\, 34224\, United States
CATEGORIES:Adult,Bible Study,Wednesday
END:VEVENT
BEGIN:VEVENT
DTSTART;TZID=America/New_York:20270526T100000
DTEND;TZID=America/New_York:20270526T110000
DTSTAMP:20260425T110848
CREATED:20251018T221053Z
LAST-MODIFIED:20251118T210010Z
UID:10005858-1811325600-1811329200@englewoodchristian.com
SUMMARY:Prayer Time
DESCRIPTION:Spend some time with others in prayer at Englewood Christian Church on Wednesdays at 10:00AM.
URL:https://englewoodchristian.com/event/prayer-time/2027-05-26/
LOCATION:Englewood Christian Church\, 9600 Gulfstream Blvd\, Englewood\, FL\, 34224\, United States
CATEGORIES:Public,Wednesday
ORGANIZER;CN="Jim Chandler":MAILTO:jchandler@englewoodchristian.com
END:VEVENT
BEGIN:VEVENT
DTSTART;TZID=America/New_York:20270526T180000
DTEND;TZID=America/New_York:20270526T190000
DTSTAMP:20260425T110848
CREATED:20231031T010623Z
LAST-MODIFIED:20251118T205129Z
UID:10001252-1811354400-1811358000@englewoodchristian.com
SUMMARY:Adult Bible Study
DESCRIPTION:
URL:https://englewoodchristian.com/event/adult-bible-study-3/2027-05-26/
LOCATION:Englewood Christian Church\, 9600 Gulfstream Blvd\, Englewood\, FL\, 34224\, United States
CATEGORIES:Adult,Bible Study,Wednesday
END:VEVENT
BEGIN:VEVENT
DTSTART;TZID=America/New_York:20270602T100000
DTEND;TZID=America/New_York:20270602T110000
DTSTAMP:20260425T110848
CREATED:20251018T221053Z
LAST-MODIFIED:20251118T210010Z
UID:10005859-1811930400-1811934000@englewoodchristian.com
SUMMARY:Prayer Time
DESCRIPTION:Spend some time with others in prayer at Englewood Christian Church on Wednesdays at 10:00AM.
URL:https://englewoodchristian.com/event/prayer-time/2027-06-02/
LOCATION:Englewood Christian Church\, 9600 Gulfstream Blvd\, Englewood\, FL\, 34224\, United States
CATEGORIES:Public,Wednesday
ORGANIZER;CN="Jim Chandler":MAILTO:jchandler@englewoodchristian.com
END:VEVENT
BEGIN:VEVENT
DTSTART;TZID=America/New_York:20270602T180000
DTEND;TZID=America/New_York:20270602T190000
DTSTAMP:20260425T110848
CREATED:20231031T010623Z
LAST-MODIFIED:20251118T205129Z
UID:10001253-1811959200-1811962800@englewoodchristian.com
SUMMARY:Adult Bible Study
DESCRIPTION:
URL:https://englewoodchristian.com/event/adult-bible-study-3/2027-06-02/
LOCATION:Englewood Christian Church\, 9600 Gulfstream Blvd\, Englewood\, FL\, 34224\, United States
CATEGORIES:Adult,Bible Study,Wednesday
END:VEVENT
BEGIN:VEVENT
DTSTART;TZID=America/New_York:20270609T100000
DTEND;TZID=America/New_York:20270609T110000
DTSTAMP:20260425T110848
CREATED:20251018T221053Z
LAST-MODIFIED:20251118T210010Z
UID:10005860-1812535200-1812538800@englewoodchristian.com
SUMMARY:Prayer Time
DESCRIPTION:Spend some time with others in prayer at Englewood Christian Church on Wednesdays at 10:00AM.
URL:https://englewoodchristian.com/event/prayer-time/2027-06-09/
LOCATION:Englewood Christian Church\, 9600 Gulfstream Blvd\, Englewood\, FL\, 34224\, United States
CATEGORIES:Public,Wednesday
ORGANIZER;CN="Jim Chandler":MAILTO:jchandler@englewoodchristian.com
END:VEVENT
BEGIN:VEVENT
DTSTART;TZID=America/New_York:20270609T180000
DTEND;TZID=America/New_York:20270609T190000
DTSTAMP:20260425T110848
CREATED:20231031T010623Z
LAST-MODIFIED:20251118T205129Z
UID:10001254-1812564000-1812567600@englewoodchristian.com
SUMMARY:Adult Bible Study
DESCRIPTION:
URL:https://englewoodchristian.com/event/adult-bible-study-3/2027-06-09/
LOCATION:Englewood Christian Church\, 9600 Gulfstream Blvd\, Englewood\, FL\, 34224\, United States
CATEGORIES:Adult,Bible Study,Wednesday
END:VEVENT
BEGIN:VEVENT
DTSTART;TZID=America/New_York:20270616T100000
DTEND;TZID=America/New_York:20270616T110000
DTSTAMP:20260425T110848
CREATED:20251018T221053Z
LAST-MODIFIED:20251118T210010Z
UID:10005861-1813140000-1813143600@englewoodchristian.com
SUMMARY:Prayer Time
DESCRIPTION:Spend some time with others in prayer at Englewood Christian Church on Wednesdays at 10:00AM.
URL:https://englewoodchristian.com/event/prayer-time/2027-06-16/
LOCATION:Englewood Christian Church\, 9600 Gulfstream Blvd\, Englewood\, FL\, 34224\, United States
CATEGORIES:Public,Wednesday
ORGANIZER;CN="Jim Chandler":MAILTO:jchandler@englewoodchristian.com
END:VEVENT
BEGIN:VEVENT
DTSTART;TZID=America/New_York:20270616T180000
DTEND;TZID=America/New_York:20270616T190000
DTSTAMP:20260425T110848
CREATED:20231031T010623Z
LAST-MODIFIED:20251118T205129Z
UID:10001255-1813168800-1813172400@englewoodchristian.com
SUMMARY:Adult Bible Study
DESCRIPTION:
URL:https://englewoodchristian.com/event/adult-bible-study-3/2027-06-16/
LOCATION:Englewood Christian Church\, 9600 Gulfstream Blvd\, Englewood\, FL\, 34224\, United States
CATEGORIES:Adult,Bible Study,Wednesday
END:VEVENT
BEGIN:VEVENT
DTSTART;TZID=America/New_York:20270623T100000
DTEND;TZID=America/New_York:20270623T110000
DTSTAMP:20260425T110848
CREATED:20251018T221053Z
LAST-MODIFIED:20251118T210010Z
UID:10005862-1813744800-1813748400@englewoodchristian.com
SUMMARY:Prayer Time
DESCRIPTION:Spend some time with others in prayer at Englewood Christian Church on Wednesdays at 10:00AM.
URL:https://englewoodchristian.com/event/prayer-time/2027-06-23/
LOCATION:Englewood Christian Church\, 9600 Gulfstream Blvd\, Englewood\, FL\, 34224\, United States
CATEGORIES:Public,Wednesday
ORGANIZER;CN="Jim Chandler":MAILTO:jchandler@englewoodchristian.com
END:VEVENT
BEGIN:VEVENT
DTSTART;TZID=America/New_York:20270623T180000
DTEND;TZID=America/New_York:20270623T190000
DTSTAMP:20260425T110848
CREATED:20231031T010623Z
LAST-MODIFIED:20251118T205129Z
UID:10001256-1813773600-1813777200@englewoodchristian.com
SUMMARY:Adult Bible Study
DESCRIPTION:
URL:https://englewoodchristian.com/event/adult-bible-study-3/2027-06-23/
LOCATION:Englewood Christian Church\, 9600 Gulfstream Blvd\, Englewood\, FL\, 34224\, United States
CATEGORIES:Adult,Bible Study,Wednesday
END:VEVENT
BEGIN:VEVENT
DTSTART;TZID=America/New_York:20270630T100000
DTEND;TZID=America/New_York:20270630T110000
DTSTAMP:20260425T110848
CREATED:20251018T221053Z
LAST-MODIFIED:20251118T210010Z
UID:10005863-1814349600-1814353200@englewoodchristian.com
SUMMARY:Prayer Time
DESCRIPTION:Spend some time with others in prayer at Englewood Christian Church on Wednesdays at 10:00AM.
URL:https://englewoodchristian.com/event/prayer-time/2027-06-30/
LOCATION:Englewood Christian Church\, 9600 Gulfstream Blvd\, Englewood\, FL\, 34224\, United States
CATEGORIES:Public,Wednesday
ORGANIZER;CN="Jim Chandler":MAILTO:jchandler@englewoodchristian.com
END:VEVENT
BEGIN:VEVENT
DTSTART;TZID=America/New_York:20270630T180000
DTEND;TZID=America/New_York:20270630T190000
DTSTAMP:20260425T110848
CREATED:20231031T010623Z
LAST-MODIFIED:20251118T205129Z
UID:10001257-1814378400-1814382000@englewoodchristian.com
SUMMARY:Adult Bible Study
DESCRIPTION:
URL:https://englewoodchristian.com/event/adult-bible-study-3/2027-06-30/
LOCATION:Englewood Christian Church\, 9600 Gulfstream Blvd\, Englewood\, FL\, 34224\, United States
CATEGORIES:Adult,Bible Study,Wednesday
END:VEVENT
BEGIN:VEVENT
DTSTART;TZID=America/New_York:20270707T100000
DTEND;TZID=America/New_York:20270707T110000
DTSTAMP:20260425T110848
CREATED:20251018T221053Z
LAST-MODIFIED:20251118T210010Z
UID:10005864-1814954400-1814958000@englewoodchristian.com
SUMMARY:Prayer Time
DESCRIPTION:Spend some time with others in prayer at Englewood Christian Church on Wednesdays at 10:00AM.
URL:https://englewoodchristian.com/event/prayer-time/2027-07-07/
LOCATION:Englewood Christian Church\, 9600 Gulfstream Blvd\, Englewood\, FL\, 34224\, United States
CATEGORIES:Public,Wednesday
ORGANIZER;CN="Jim Chandler":MAILTO:jchandler@englewoodchristian.com
END:VEVENT
END:VCALENDAR