BEGIN:VCALENDAR
VERSION:2.0
PRODID:-//Englewood Christian Church - ECPv6.15.20//NONSGML v1.0//EN
CALSCALE:GREGORIAN
METHOD:PUBLISH
X-ORIGINAL-URL:https://englewoodchristian.com
X-WR-CALDESC:Events for Englewood Christian Church
REFRESH-INTERVAL;VALUE=DURATION:PT1H
X-Robots-Tag:noindex
X-PUBLISHED-TTL:PT1H
BEGIN:VTIMEZONE
TZID:America/New_York
BEGIN:DAYLIGHT
TZOFFSETFROM:-0500
TZOFFSETTO:-0400
TZNAME:EDT
DTSTART:20280312T070000
END:DAYLIGHT
BEGIN:STANDARD
TZOFFSETFROM:-0400
TZOFFSETTO:-0500
TZNAME:EST
DTSTART:20281105T060000
END:STANDARD
BEGIN:DAYLIGHT
TZOFFSETFROM:-0500
TZOFFSETTO:-0400
TZNAME:EDT
DTSTART:20290311T070000
END:DAYLIGHT
BEGIN:STANDARD
TZOFFSETFROM:-0400
TZOFFSETTO:-0500
TZNAME:EST
DTSTART:20291104T060000
END:STANDARD
BEGIN:DAYLIGHT
TZOFFSETFROM:-0500
TZOFFSETTO:-0400
TZNAME:EDT
DTSTART:20300310T070000
END:DAYLIGHT
BEGIN:STANDARD
TZOFFSETFROM:-0400
TZOFFSETTO:-0500
TZNAME:EST
DTSTART:20301103T060000
END:STANDARD
END:VTIMEZONE
BEGIN:VEVENT
DTSTART;TZID=America/New_York:20290930T093000
DTEND;TZID=America/New_York:20290930T101500
DTSTAMP:20260424T095345
CREATED:20240523T201136Z
LAST-MODIFIED:20240523T201138Z
UID:10005698-1885455000-1885457700@englewoodchristian.com
SUMMARY:Adult Sunday School
DESCRIPTION:
URL:https://englewoodchristian.com/event/adult-sunday-school-2-2-2/2029-09-30/
LOCATION:Englewood Christian Church\, 9600 Gulfstream Blvd\, Englewood\, FL\, 34224\, United States
CATEGORIES:Adult,Sunday,Sunday School
END:VEVENT
BEGIN:VEVENT
DTSTART;TZID=America/New_York:20290930T103000
DTEND;TZID=America/New_York:20290930T113000
DTSTAMP:20260424T095345
CREATED:20240523T200811Z
LAST-MODIFIED:20240523T200813Z
UID:10005654-1885458600-1885462200@englewoodchristian.com
SUMMARY:Sunday Worship Service
DESCRIPTION:
URL:https://englewoodchristian.com/event/sunday-worship-service/2029-09-30/
LOCATION:Englewood Christian Church\, 9600 Gulfstream Blvd\, Englewood\, FL\, 34224\, United States
CATEGORIES:Sunday,Worship Service
END:VEVENT
BEGIN:VEVENT
DTSTART;TZID=America/New_York:20290930T103000
DTEND;TZID=America/New_York:20290930T113000
DTSTAMP:20260424T095345
CREATED:20240523T201009Z
LAST-MODIFIED:20240523T201010Z
UID:10005742-1885458600-1885462200@englewoodchristian.com
SUMMARY:Children's Church
DESCRIPTION:
URL:https://englewoodchristian.com/event/childrens-church-3-2/2029-09-30/
LOCATION:Englewood Christian Church\, 9600 Gulfstream Blvd\, Englewood\, FL\, 34224\, United States
CATEGORIES:Kids,Sunday
ORGANIZER;CN="Andrew Lawson":MAILTO:alawson@englewoodchristian.com
END:VEVENT
BEGIN:VEVENT
DTSTART;TZID=America/New_York:20291007T093000
DTEND;TZID=America/New_York:20291007T101500
DTSTAMP:20260424T095345
CREATED:20240523T201136Z
LAST-MODIFIED:20240523T201138Z
UID:10005699-1886059800-1886062500@englewoodchristian.com
SUMMARY:Adult Sunday School
DESCRIPTION:
URL:https://englewoodchristian.com/event/adult-sunday-school-2-2-2/2029-10-07/
LOCATION:Englewood Christian Church\, 9600 Gulfstream Blvd\, Englewood\, FL\, 34224\, United States
CATEGORIES:Adult,Sunday,Sunday School
END:VEVENT
BEGIN:VEVENT
DTSTART;TZID=America/New_York:20291007T103000
DTEND;TZID=America/New_York:20291007T113000
DTSTAMP:20260424T095345
CREATED:20240523T200811Z
LAST-MODIFIED:20240523T200813Z
UID:10005655-1886063400-1886067000@englewoodchristian.com
SUMMARY:Sunday Worship Service
DESCRIPTION:
URL:https://englewoodchristian.com/event/sunday-worship-service/2029-10-07/
LOCATION:Englewood Christian Church\, 9600 Gulfstream Blvd\, Englewood\, FL\, 34224\, United States
CATEGORIES:Sunday,Worship Service
END:VEVENT
BEGIN:VEVENT
DTSTART;TZID=America/New_York:20291007T103000
DTEND;TZID=America/New_York:20291007T113000
DTSTAMP:20260424T095345
CREATED:20240523T201009Z
LAST-MODIFIED:20240523T201010Z
UID:10005743-1886063400-1886067000@englewoodchristian.com
SUMMARY:Children's Church
DESCRIPTION:
URL:https://englewoodchristian.com/event/childrens-church-3-2/2029-10-07/
LOCATION:Englewood Christian Church\, 9600 Gulfstream Blvd\, Englewood\, FL\, 34224\, United States
CATEGORIES:Kids,Sunday
ORGANIZER;CN="Andrew Lawson":MAILTO:alawson@englewoodchristian.com
END:VEVENT
BEGIN:VEVENT
DTSTART;TZID=America/New_York:20291014T093000
DTEND;TZID=America/New_York:20291014T101500
DTSTAMP:20260424T095345
CREATED:20240523T201136Z
LAST-MODIFIED:20240523T201138Z
UID:10005700-1886664600-1886667300@englewoodchristian.com
SUMMARY:Adult Sunday School
DESCRIPTION:
URL:https://englewoodchristian.com/event/adult-sunday-school-2-2-2/2029-10-14/
LOCATION:Englewood Christian Church\, 9600 Gulfstream Blvd\, Englewood\, FL\, 34224\, United States
CATEGORIES:Adult,Sunday,Sunday School
END:VEVENT
BEGIN:VEVENT
DTSTART;TZID=America/New_York:20291014T103000
DTEND;TZID=America/New_York:20291014T113000
DTSTAMP:20260424T095345
CREATED:20240523T200811Z
LAST-MODIFIED:20240523T200813Z
UID:10005656-1886668200-1886671800@englewoodchristian.com
SUMMARY:Sunday Worship Service
DESCRIPTION:
URL:https://englewoodchristian.com/event/sunday-worship-service/2029-10-14/
LOCATION:Englewood Christian Church\, 9600 Gulfstream Blvd\, Englewood\, FL\, 34224\, United States
CATEGORIES:Sunday,Worship Service
END:VEVENT
BEGIN:VEVENT
DTSTART;TZID=America/New_York:20291014T103000
DTEND;TZID=America/New_York:20291014T113000
DTSTAMP:20260424T095345
CREATED:20240523T201009Z
LAST-MODIFIED:20240523T201010Z
UID:10005744-1886668200-1886671800@englewoodchristian.com
SUMMARY:Children's Church
DESCRIPTION:
URL:https://englewoodchristian.com/event/childrens-church-3-2/2029-10-14/
LOCATION:Englewood Christian Church\, 9600 Gulfstream Blvd\, Englewood\, FL\, 34224\, United States
CATEGORIES:Kids,Sunday
ORGANIZER;CN="Andrew Lawson":MAILTO:alawson@englewoodchristian.com
END:VEVENT
BEGIN:VEVENT
DTSTART;TZID=America/New_York:20291021T093000
DTEND;TZID=America/New_York:20291021T101500
DTSTAMP:20260424T095345
CREATED:20240523T201136Z
LAST-MODIFIED:20240523T201138Z
UID:10005701-1887269400-1887272100@englewoodchristian.com
SUMMARY:Adult Sunday School
DESCRIPTION:
URL:https://englewoodchristian.com/event/adult-sunday-school-2-2-2/2029-10-21/
LOCATION:Englewood Christian Church\, 9600 Gulfstream Blvd\, Englewood\, FL\, 34224\, United States
CATEGORIES:Adult,Sunday,Sunday School
END:VEVENT
BEGIN:VEVENT
DTSTART;TZID=America/New_York:20291021T103000
DTEND;TZID=America/New_York:20291021T113000
DTSTAMP:20260424T095345
CREATED:20240523T200811Z
LAST-MODIFIED:20240523T200813Z
UID:10005657-1887273000-1887276600@englewoodchristian.com
SUMMARY:Sunday Worship Service
DESCRIPTION:
URL:https://englewoodchristian.com/event/sunday-worship-service/2029-10-21/
LOCATION:Englewood Christian Church\, 9600 Gulfstream Blvd\, Englewood\, FL\, 34224\, United States
CATEGORIES:Sunday,Worship Service
END:VEVENT
BEGIN:VEVENT
DTSTART;TZID=America/New_York:20291021T103000
DTEND;TZID=America/New_York:20291021T113000
DTSTAMP:20260424T095345
CREATED:20240523T201009Z
LAST-MODIFIED:20240523T201010Z
UID:10005745-1887273000-1887276600@englewoodchristian.com
SUMMARY:Children's Church
DESCRIPTION:
URL:https://englewoodchristian.com/event/childrens-church-3-2/2029-10-21/
LOCATION:Englewood Christian Church\, 9600 Gulfstream Blvd\, Englewood\, FL\, 34224\, United States
CATEGORIES:Kids,Sunday
ORGANIZER;CN="Andrew Lawson":MAILTO:alawson@englewoodchristian.com
END:VEVENT
BEGIN:VEVENT
DTSTART;TZID=America/New_York:20291028T093000
DTEND;TZID=America/New_York:20291028T101500
DTSTAMP:20260424T095345
CREATED:20240523T201136Z
LAST-MODIFIED:20240523T201138Z
UID:10005702-1887874200-1887876900@englewoodchristian.com
SUMMARY:Adult Sunday School
DESCRIPTION:
URL:https://englewoodchristian.com/event/adult-sunday-school-2-2-2/2029-10-28/
LOCATION:Englewood Christian Church\, 9600 Gulfstream Blvd\, Englewood\, FL\, 34224\, United States
CATEGORIES:Adult,Sunday,Sunday School
END:VEVENT
BEGIN:VEVENT
DTSTART;TZID=America/New_York:20291028T103000
DTEND;TZID=America/New_York:20291028T113000
DTSTAMP:20260424T095345
CREATED:20240523T200811Z
LAST-MODIFIED:20240523T200813Z
UID:10005658-1887877800-1887881400@englewoodchristian.com
SUMMARY:Sunday Worship Service
DESCRIPTION:
URL:https://englewoodchristian.com/event/sunday-worship-service/2029-10-28/
LOCATION:Englewood Christian Church\, 9600 Gulfstream Blvd\, Englewood\, FL\, 34224\, United States
CATEGORIES:Sunday,Worship Service
END:VEVENT
BEGIN:VEVENT
DTSTART;TZID=America/New_York:20291028T103000
DTEND;TZID=America/New_York:20291028T113000
DTSTAMP:20260424T095345
CREATED:20240523T201009Z
LAST-MODIFIED:20240523T201010Z
UID:10005746-1887877800-1887881400@englewoodchristian.com
SUMMARY:Children's Church
DESCRIPTION:
URL:https://englewoodchristian.com/event/childrens-church-3-2/2029-10-28/
LOCATION:Englewood Christian Church\, 9600 Gulfstream Blvd\, Englewood\, FL\, 34224\, United States
CATEGORIES:Kids,Sunday
ORGANIZER;CN="Andrew Lawson":MAILTO:alawson@englewoodchristian.com
END:VEVENT
BEGIN:VEVENT
DTSTART;TZID=America/New_York:20291104T093000
DTEND;TZID=America/New_York:20291104T101500
DTSTAMP:20260424T095345
CREATED:20240523T201136Z
LAST-MODIFIED:20240523T201138Z
UID:10005703-1888479000-1888481700@englewoodchristian.com
SUMMARY:Adult Sunday School
DESCRIPTION:
URL:https://englewoodchristian.com/event/adult-sunday-school-2-2-2/2029-11-04/
LOCATION:Englewood Christian Church\, 9600 Gulfstream Blvd\, Englewood\, FL\, 34224\, United States
CATEGORIES:Adult,Sunday,Sunday School
END:VEVENT
BEGIN:VEVENT
DTSTART;TZID=America/New_York:20291104T103000
DTEND;TZID=America/New_York:20291104T113000
DTSTAMP:20260424T095345
CREATED:20240523T200811Z
LAST-MODIFIED:20240523T200813Z
UID:10005659-1888482600-1888486200@englewoodchristian.com
SUMMARY:Sunday Worship Service
DESCRIPTION:
URL:https://englewoodchristian.com/event/sunday-worship-service/2029-11-04/
LOCATION:Englewood Christian Church\, 9600 Gulfstream Blvd\, Englewood\, FL\, 34224\, United States
CATEGORIES:Sunday,Worship Service
END:VEVENT
BEGIN:VEVENT
DTSTART;TZID=America/New_York:20291104T103000
DTEND;TZID=America/New_York:20291104T113000
DTSTAMP:20260424T095345
CREATED:20240523T201009Z
LAST-MODIFIED:20240523T201010Z
UID:10005747-1888482600-1888486200@englewoodchristian.com
SUMMARY:Children's Church
DESCRIPTION:
URL:https://englewoodchristian.com/event/childrens-church-3-2/2029-11-04/
LOCATION:Englewood Christian Church\, 9600 Gulfstream Blvd\, Englewood\, FL\, 34224\, United States
CATEGORIES:Kids,Sunday
ORGANIZER;CN="Andrew Lawson":MAILTO:alawson@englewoodchristian.com
END:VEVENT
BEGIN:VEVENT
DTSTART;TZID=America/New_York:20291111T093000
DTEND;TZID=America/New_York:20291111T101500
DTSTAMP:20260424T095345
CREATED:20240523T201136Z
LAST-MODIFIED:20240523T201138Z
UID:10005704-1889083800-1889086500@englewoodchristian.com
SUMMARY:Adult Sunday School
DESCRIPTION:
URL:https://englewoodchristian.com/event/adult-sunday-school-2-2-2/2029-11-11/
LOCATION:Englewood Christian Church\, 9600 Gulfstream Blvd\, Englewood\, FL\, 34224\, United States
CATEGORIES:Adult,Sunday,Sunday School
END:VEVENT
BEGIN:VEVENT
DTSTART;TZID=America/New_York:20291111T103000
DTEND;TZID=America/New_York:20291111T113000
DTSTAMP:20260424T095345
CREATED:20240523T200811Z
LAST-MODIFIED:20240523T200813Z
UID:10005660-1889087400-1889091000@englewoodchristian.com
SUMMARY:Sunday Worship Service
DESCRIPTION:
URL:https://englewoodchristian.com/event/sunday-worship-service/2029-11-11/
LOCATION:Englewood Christian Church\, 9600 Gulfstream Blvd\, Englewood\, FL\, 34224\, United States
CATEGORIES:Sunday,Worship Service
END:VEVENT
BEGIN:VEVENT
DTSTART;TZID=America/New_York:20291111T103000
DTEND;TZID=America/New_York:20291111T113000
DTSTAMP:20260424T095345
CREATED:20240523T201009Z
LAST-MODIFIED:20240523T201010Z
UID:10005748-1889087400-1889091000@englewoodchristian.com
SUMMARY:Children's Church
DESCRIPTION:
URL:https://englewoodchristian.com/event/childrens-church-3-2/2029-11-11/
LOCATION:Englewood Christian Church\, 9600 Gulfstream Blvd\, Englewood\, FL\, 34224\, United States
CATEGORIES:Kids,Sunday
ORGANIZER;CN="Andrew Lawson":MAILTO:alawson@englewoodchristian.com
END:VEVENT
BEGIN:VEVENT
DTSTART;TZID=America/New_York:20291118T093000
DTEND;TZID=America/New_York:20291118T101500
DTSTAMP:20260424T095345
CREATED:20240523T201136Z
LAST-MODIFIED:20240523T201138Z
UID:10005705-1889688600-1889691300@englewoodchristian.com
SUMMARY:Adult Sunday School
DESCRIPTION:
URL:https://englewoodchristian.com/event/adult-sunday-school-2-2-2/2029-11-18/
LOCATION:Englewood Christian Church\, 9600 Gulfstream Blvd\, Englewood\, FL\, 34224\, United States
CATEGORIES:Adult,Sunday,Sunday School
END:VEVENT
BEGIN:VEVENT
DTSTART;TZID=America/New_York:20291118T103000
DTEND;TZID=America/New_York:20291118T113000
DTSTAMP:20260424T095345
CREATED:20240523T200811Z
LAST-MODIFIED:20240523T200813Z
UID:10005661-1889692200-1889695800@englewoodchristian.com
SUMMARY:Sunday Worship Service
DESCRIPTION:
URL:https://englewoodchristian.com/event/sunday-worship-service/2029-11-18/
LOCATION:Englewood Christian Church\, 9600 Gulfstream Blvd\, Englewood\, FL\, 34224\, United States
CATEGORIES:Sunday,Worship Service
END:VEVENT
BEGIN:VEVENT
DTSTART;TZID=America/New_York:20291118T103000
DTEND;TZID=America/New_York:20291118T113000
DTSTAMP:20260424T095345
CREATED:20240523T201009Z
LAST-MODIFIED:20240523T201010Z
UID:10005749-1889692200-1889695800@englewoodchristian.com
SUMMARY:Children's Church
DESCRIPTION:
URL:https://englewoodchristian.com/event/childrens-church-3-2/2029-11-18/
LOCATION:Englewood Christian Church\, 9600 Gulfstream Blvd\, Englewood\, FL\, 34224\, United States
CATEGORIES:Kids,Sunday
ORGANIZER;CN="Andrew Lawson":MAILTO:alawson@englewoodchristian.com
END:VEVENT
BEGIN:VEVENT
DTSTART;TZID=America/New_York:20291125T093000
DTEND;TZID=America/New_York:20291125T101500
DTSTAMP:20260424T095345
CREATED:20240523T201136Z
LAST-MODIFIED:20240523T201138Z
UID:10005706-1890293400-1890296100@englewoodchristian.com
SUMMARY:Adult Sunday School
DESCRIPTION:
URL:https://englewoodchristian.com/event/adult-sunday-school-2-2-2/2029-11-25/
LOCATION:Englewood Christian Church\, 9600 Gulfstream Blvd\, Englewood\, FL\, 34224\, United States
CATEGORIES:Adult,Sunday,Sunday School
END:VEVENT
BEGIN:VEVENT
DTSTART;TZID=America/New_York:20291125T103000
DTEND;TZID=America/New_York:20291125T113000
DTSTAMP:20260424T095345
CREATED:20240523T200811Z
LAST-MODIFIED:20240523T200813Z
UID:10005662-1890297000-1890300600@englewoodchristian.com
SUMMARY:Sunday Worship Service
DESCRIPTION:
URL:https://englewoodchristian.com/event/sunday-worship-service/2029-11-25/
LOCATION:Englewood Christian Church\, 9600 Gulfstream Blvd\, Englewood\, FL\, 34224\, United States
CATEGORIES:Sunday,Worship Service
END:VEVENT
BEGIN:VEVENT
DTSTART;TZID=America/New_York:20291125T103000
DTEND;TZID=America/New_York:20291125T113000
DTSTAMP:20260424T095345
CREATED:20240523T201009Z
LAST-MODIFIED:20240523T201010Z
UID:10005750-1890297000-1890300600@englewoodchristian.com
SUMMARY:Children's Church
DESCRIPTION:
URL:https://englewoodchristian.com/event/childrens-church-3-2/2029-11-25/
LOCATION:Englewood Christian Church\, 9600 Gulfstream Blvd\, Englewood\, FL\, 34224\, United States
CATEGORIES:Kids,Sunday
ORGANIZER;CN="Andrew Lawson":MAILTO:alawson@englewoodchristian.com
END:VEVENT
BEGIN:VEVENT
DTSTART;TZID=America/New_York:20291202T093000
DTEND;TZID=America/New_York:20291202T101500
DTSTAMP:20260424T095345
CREATED:20240523T201136Z
LAST-MODIFIED:20240523T201138Z
UID:10005707-1890898200-1890900900@englewoodchristian.com
SUMMARY:Adult Sunday School
DESCRIPTION:
URL:https://englewoodchristian.com/event/adult-sunday-school-2-2-2/2029-12-02/
LOCATION:Englewood Christian Church\, 9600 Gulfstream Blvd\, Englewood\, FL\, 34224\, United States
CATEGORIES:Adult,Sunday,Sunday School
END:VEVENT
BEGIN:VEVENT
DTSTART;TZID=America/New_York:20291202T103000
DTEND;TZID=America/New_York:20291202T113000
DTSTAMP:20260424T095345
CREATED:20240523T200811Z
LAST-MODIFIED:20240523T200813Z
UID:10005663-1890901800-1890905400@englewoodchristian.com
SUMMARY:Sunday Worship Service
DESCRIPTION:
URL:https://englewoodchristian.com/event/sunday-worship-service/2029-12-02/
LOCATION:Englewood Christian Church\, 9600 Gulfstream Blvd\, Englewood\, FL\, 34224\, United States
CATEGORIES:Sunday,Worship Service
END:VEVENT
BEGIN:VEVENT
DTSTART;TZID=America/New_York:20291202T103000
DTEND;TZID=America/New_York:20291202T113000
DTSTAMP:20260424T095345
CREATED:20240523T201009Z
LAST-MODIFIED:20240523T201010Z
UID:10005751-1890901800-1890905400@englewoodchristian.com
SUMMARY:Children's Church
DESCRIPTION:
URL:https://englewoodchristian.com/event/childrens-church-3-2/2029-12-02/
LOCATION:Englewood Christian Church\, 9600 Gulfstream Blvd\, Englewood\, FL\, 34224\, United States
CATEGORIES:Kids,Sunday
ORGANIZER;CN="Andrew Lawson":MAILTO:alawson@englewoodchristian.com
END:VEVENT
END:VCALENDAR