BEGIN:VCALENDAR
VERSION:2.0
PRODID:-//Englewood Christian Church - ECPv6.15.20//NONSGML v1.0//EN
CALSCALE:GREGORIAN
METHOD:PUBLISH
X-WR-CALNAME:Englewood Christian Church
X-ORIGINAL-URL:https://englewoodchristian.com
X-WR-CALDESC:Events for Englewood Christian Church
REFRESH-INTERVAL;VALUE=DURATION:PT1H
X-Robots-Tag:noindex
X-PUBLISHED-TTL:PT1H
BEGIN:VTIMEZONE
TZID:America/New_York
BEGIN:DAYLIGHT
TZOFFSETFROM:-0500
TZOFFSETTO:-0400
TZNAME:EDT
DTSTART:20280312T070000
END:DAYLIGHT
BEGIN:STANDARD
TZOFFSETFROM:-0400
TZOFFSETTO:-0500
TZNAME:EST
DTSTART:20281105T060000
END:STANDARD
BEGIN:DAYLIGHT
TZOFFSETFROM:-0500
TZOFFSETTO:-0400
TZNAME:EDT
DTSTART:20290311T070000
END:DAYLIGHT
BEGIN:STANDARD
TZOFFSETFROM:-0400
TZOFFSETTO:-0500
TZNAME:EST
DTSTART:20291104T060000
END:STANDARD
BEGIN:DAYLIGHT
TZOFFSETFROM:-0500
TZOFFSETTO:-0400
TZNAME:EDT
DTSTART:20300310T070000
END:DAYLIGHT
BEGIN:STANDARD
TZOFFSETFROM:-0400
TZOFFSETTO:-0500
TZNAME:EST
DTSTART:20301103T060000
END:STANDARD
END:VTIMEZONE
BEGIN:VEVENT
DTSTART;TZID=America/New_York:20290624T093000
DTEND;TZID=America/New_York:20290624T101500
DTSTAMP:20260425T072120
CREATED:20240523T201136Z
LAST-MODIFIED:20240523T201138Z
UID:10005684-1876987800-1876990500@englewoodchristian.com
SUMMARY:Adult Sunday School
DESCRIPTION:
URL:https://englewoodchristian.com/event/adult-sunday-school-2-2-2/2029-06-24/
LOCATION:Englewood Christian Church\, 9600 Gulfstream Blvd\, Englewood\, FL\, 34224\, United States
CATEGORIES:Adult,Sunday,Sunday School
END:VEVENT
BEGIN:VEVENT
DTSTART;TZID=America/New_York:20290624T103000
DTEND;TZID=America/New_York:20290624T113000
DTSTAMP:20260425T072120
CREATED:20240523T200811Z
LAST-MODIFIED:20240523T200813Z
UID:10005640-1876991400-1876995000@englewoodchristian.com
SUMMARY:Sunday Worship Service
DESCRIPTION:
URL:https://englewoodchristian.com/event/sunday-worship-service/2029-06-24/
LOCATION:Englewood Christian Church\, 9600 Gulfstream Blvd\, Englewood\, FL\, 34224\, United States
CATEGORIES:Sunday,Worship Service
END:VEVENT
BEGIN:VEVENT
DTSTART;TZID=America/New_York:20290624T103000
DTEND;TZID=America/New_York:20290624T113000
DTSTAMP:20260425T072120
CREATED:20240523T201009Z
LAST-MODIFIED:20240523T201010Z
UID:10005728-1876991400-1876995000@englewoodchristian.com
SUMMARY:Children's Church
DESCRIPTION:
URL:https://englewoodchristian.com/event/childrens-church-3-2/2029-06-24/
LOCATION:Englewood Christian Church\, 9600 Gulfstream Blvd\, Englewood\, FL\, 34224\, United States
CATEGORIES:Kids,Sunday
ORGANIZER;CN="Andrew Lawson":MAILTO:alawson@englewoodchristian.com
END:VEVENT
BEGIN:VEVENT
DTSTART;TZID=America/New_York:20290701T093000
DTEND;TZID=America/New_York:20290701T101500
DTSTAMP:20260425T072120
CREATED:20240523T201136Z
LAST-MODIFIED:20240523T201138Z
UID:10005685-1877592600-1877595300@englewoodchristian.com
SUMMARY:Adult Sunday School
DESCRIPTION:
URL:https://englewoodchristian.com/event/adult-sunday-school-2-2-2/2029-07-01/
LOCATION:Englewood Christian Church\, 9600 Gulfstream Blvd\, Englewood\, FL\, 34224\, United States
CATEGORIES:Adult,Sunday,Sunday School
END:VEVENT
BEGIN:VEVENT
DTSTART;TZID=America/New_York:20290701T103000
DTEND;TZID=America/New_York:20290701T113000
DTSTAMP:20260425T072120
CREATED:20240523T200811Z
LAST-MODIFIED:20240523T200813Z
UID:10005641-1877596200-1877599800@englewoodchristian.com
SUMMARY:Sunday Worship Service
DESCRIPTION:
URL:https://englewoodchristian.com/event/sunday-worship-service/2029-07-01/
LOCATION:Englewood Christian Church\, 9600 Gulfstream Blvd\, Englewood\, FL\, 34224\, United States
CATEGORIES:Sunday,Worship Service
END:VEVENT
BEGIN:VEVENT
DTSTART;TZID=America/New_York:20290701T103000
DTEND;TZID=America/New_York:20290701T113000
DTSTAMP:20260425T072120
CREATED:20240523T201009Z
LAST-MODIFIED:20240523T201010Z
UID:10005729-1877596200-1877599800@englewoodchristian.com
SUMMARY:Children's Church
DESCRIPTION:
URL:https://englewoodchristian.com/event/childrens-church-3-2/2029-07-01/
LOCATION:Englewood Christian Church\, 9600 Gulfstream Blvd\, Englewood\, FL\, 34224\, United States
CATEGORIES:Kids,Sunday
ORGANIZER;CN="Andrew Lawson":MAILTO:alawson@englewoodchristian.com
END:VEVENT
BEGIN:VEVENT
DTSTART;TZID=America/New_York:20290708T093000
DTEND;TZID=America/New_York:20290708T101500
DTSTAMP:20260425T072120
CREATED:20240523T201136Z
LAST-MODIFIED:20240523T201138Z
UID:10005686-1878197400-1878200100@englewoodchristian.com
SUMMARY:Adult Sunday School
DESCRIPTION:
URL:https://englewoodchristian.com/event/adult-sunday-school-2-2-2/2029-07-08/
LOCATION:Englewood Christian Church\, 9600 Gulfstream Blvd\, Englewood\, FL\, 34224\, United States
CATEGORIES:Adult,Sunday,Sunday School
END:VEVENT
BEGIN:VEVENT
DTSTART;TZID=America/New_York:20290708T103000
DTEND;TZID=America/New_York:20290708T113000
DTSTAMP:20260425T072120
CREATED:20240523T200811Z
LAST-MODIFIED:20240523T200813Z
UID:10005642-1878201000-1878204600@englewoodchristian.com
SUMMARY:Sunday Worship Service
DESCRIPTION:
URL:https://englewoodchristian.com/event/sunday-worship-service/2029-07-08/
LOCATION:Englewood Christian Church\, 9600 Gulfstream Blvd\, Englewood\, FL\, 34224\, United States
CATEGORIES:Sunday,Worship Service
END:VEVENT
BEGIN:VEVENT
DTSTART;TZID=America/New_York:20290708T103000
DTEND;TZID=America/New_York:20290708T113000
DTSTAMP:20260425T072120
CREATED:20240523T201009Z
LAST-MODIFIED:20240523T201010Z
UID:10005730-1878201000-1878204600@englewoodchristian.com
SUMMARY:Children's Church
DESCRIPTION:
URL:https://englewoodchristian.com/event/childrens-church-3-2/2029-07-08/
LOCATION:Englewood Christian Church\, 9600 Gulfstream Blvd\, Englewood\, FL\, 34224\, United States
CATEGORIES:Kids,Sunday
ORGANIZER;CN="Andrew Lawson":MAILTO:alawson@englewoodchristian.com
END:VEVENT
BEGIN:VEVENT
DTSTART;TZID=America/New_York:20290715T093000
DTEND;TZID=America/New_York:20290715T101500
DTSTAMP:20260425T072120
CREATED:20240523T201136Z
LAST-MODIFIED:20240523T201138Z
UID:10005687-1878802200-1878804900@englewoodchristian.com
SUMMARY:Adult Sunday School
DESCRIPTION:
URL:https://englewoodchristian.com/event/adult-sunday-school-2-2-2/2029-07-15/
LOCATION:Englewood Christian Church\, 9600 Gulfstream Blvd\, Englewood\, FL\, 34224\, United States
CATEGORIES:Adult,Sunday,Sunday School
END:VEVENT
BEGIN:VEVENT
DTSTART;TZID=America/New_York:20290715T103000
DTEND;TZID=America/New_York:20290715T113000
DTSTAMP:20260425T072120
CREATED:20240523T200811Z
LAST-MODIFIED:20240523T200813Z
UID:10005643-1878805800-1878809400@englewoodchristian.com
SUMMARY:Sunday Worship Service
DESCRIPTION:
URL:https://englewoodchristian.com/event/sunday-worship-service/2029-07-15/
LOCATION:Englewood Christian Church\, 9600 Gulfstream Blvd\, Englewood\, FL\, 34224\, United States
CATEGORIES:Sunday,Worship Service
END:VEVENT
BEGIN:VEVENT
DTSTART;TZID=America/New_York:20290715T103000
DTEND;TZID=America/New_York:20290715T113000
DTSTAMP:20260425T072120
CREATED:20240523T201009Z
LAST-MODIFIED:20240523T201010Z
UID:10005731-1878805800-1878809400@englewoodchristian.com
SUMMARY:Children's Church
DESCRIPTION:
URL:https://englewoodchristian.com/event/childrens-church-3-2/2029-07-15/
LOCATION:Englewood Christian Church\, 9600 Gulfstream Blvd\, Englewood\, FL\, 34224\, United States
CATEGORIES:Kids,Sunday
ORGANIZER;CN="Andrew Lawson":MAILTO:alawson@englewoodchristian.com
END:VEVENT
BEGIN:VEVENT
DTSTART;TZID=America/New_York:20290722T093000
DTEND;TZID=America/New_York:20290722T101500
DTSTAMP:20260425T072120
CREATED:20240523T201136Z
LAST-MODIFIED:20240523T201138Z
UID:10005688-1879407000-1879409700@englewoodchristian.com
SUMMARY:Adult Sunday School
DESCRIPTION:
URL:https://englewoodchristian.com/event/adult-sunday-school-2-2-2/2029-07-22/
LOCATION:Englewood Christian Church\, 9600 Gulfstream Blvd\, Englewood\, FL\, 34224\, United States
CATEGORIES:Adult,Sunday,Sunday School
END:VEVENT
BEGIN:VEVENT
DTSTART;TZID=America/New_York:20290722T103000
DTEND;TZID=America/New_York:20290722T113000
DTSTAMP:20260425T072120
CREATED:20240523T200811Z
LAST-MODIFIED:20240523T200813Z
UID:10005644-1879410600-1879414200@englewoodchristian.com
SUMMARY:Sunday Worship Service
DESCRIPTION:
URL:https://englewoodchristian.com/event/sunday-worship-service/2029-07-22/
LOCATION:Englewood Christian Church\, 9600 Gulfstream Blvd\, Englewood\, FL\, 34224\, United States
CATEGORIES:Sunday,Worship Service
END:VEVENT
BEGIN:VEVENT
DTSTART;TZID=America/New_York:20290722T103000
DTEND;TZID=America/New_York:20290722T113000
DTSTAMP:20260425T072120
CREATED:20240523T201009Z
LAST-MODIFIED:20240523T201010Z
UID:10005732-1879410600-1879414200@englewoodchristian.com
SUMMARY:Children's Church
DESCRIPTION:
URL:https://englewoodchristian.com/event/childrens-church-3-2/2029-07-22/
LOCATION:Englewood Christian Church\, 9600 Gulfstream Blvd\, Englewood\, FL\, 34224\, United States
CATEGORIES:Kids,Sunday
ORGANIZER;CN="Andrew Lawson":MAILTO:alawson@englewoodchristian.com
END:VEVENT
BEGIN:VEVENT
DTSTART;TZID=America/New_York:20290729T093000
DTEND;TZID=America/New_York:20290729T101500
DTSTAMP:20260425T072120
CREATED:20240523T201136Z
LAST-MODIFIED:20240523T201138Z
UID:10005689-1880011800-1880014500@englewoodchristian.com
SUMMARY:Adult Sunday School
DESCRIPTION:
URL:https://englewoodchristian.com/event/adult-sunday-school-2-2-2/2029-07-29/
LOCATION:Englewood Christian Church\, 9600 Gulfstream Blvd\, Englewood\, FL\, 34224\, United States
CATEGORIES:Adult,Sunday,Sunday School
END:VEVENT
BEGIN:VEVENT
DTSTART;TZID=America/New_York:20290729T103000
DTEND;TZID=America/New_York:20290729T113000
DTSTAMP:20260425T072120
CREATED:20240523T200811Z
LAST-MODIFIED:20240523T200813Z
UID:10005645-1880015400-1880019000@englewoodchristian.com
SUMMARY:Sunday Worship Service
DESCRIPTION:
URL:https://englewoodchristian.com/event/sunday-worship-service/2029-07-29/
LOCATION:Englewood Christian Church\, 9600 Gulfstream Blvd\, Englewood\, FL\, 34224\, United States
CATEGORIES:Sunday,Worship Service
END:VEVENT
BEGIN:VEVENT
DTSTART;TZID=America/New_York:20290729T103000
DTEND;TZID=America/New_York:20290729T113000
DTSTAMP:20260425T072120
CREATED:20240523T201009Z
LAST-MODIFIED:20240523T201010Z
UID:10005733-1880015400-1880019000@englewoodchristian.com
SUMMARY:Children's Church
DESCRIPTION:
URL:https://englewoodchristian.com/event/childrens-church-3-2/2029-07-29/
LOCATION:Englewood Christian Church\, 9600 Gulfstream Blvd\, Englewood\, FL\, 34224\, United States
CATEGORIES:Kids,Sunday
ORGANIZER;CN="Andrew Lawson":MAILTO:alawson@englewoodchristian.com
END:VEVENT
BEGIN:VEVENT
DTSTART;TZID=America/New_York:20290805T093000
DTEND;TZID=America/New_York:20290805T101500
DTSTAMP:20260425T072120
CREATED:20240523T201136Z
LAST-MODIFIED:20240523T201138Z
UID:10005690-1880616600-1880619300@englewoodchristian.com
SUMMARY:Adult Sunday School
DESCRIPTION:
URL:https://englewoodchristian.com/event/adult-sunday-school-2-2-2/2029-08-05/
LOCATION:Englewood Christian Church\, 9600 Gulfstream Blvd\, Englewood\, FL\, 34224\, United States
CATEGORIES:Adult,Sunday,Sunday School
END:VEVENT
BEGIN:VEVENT
DTSTART;TZID=America/New_York:20290805T103000
DTEND;TZID=America/New_York:20290805T113000
DTSTAMP:20260425T072120
CREATED:20240523T200811Z
LAST-MODIFIED:20240523T200813Z
UID:10005646-1880620200-1880623800@englewoodchristian.com
SUMMARY:Sunday Worship Service
DESCRIPTION:
URL:https://englewoodchristian.com/event/sunday-worship-service/2029-08-05/
LOCATION:Englewood Christian Church\, 9600 Gulfstream Blvd\, Englewood\, FL\, 34224\, United States
CATEGORIES:Sunday,Worship Service
END:VEVENT
BEGIN:VEVENT
DTSTART;TZID=America/New_York:20290805T103000
DTEND;TZID=America/New_York:20290805T113000
DTSTAMP:20260425T072120
CREATED:20240523T201009Z
LAST-MODIFIED:20240523T201010Z
UID:10005734-1880620200-1880623800@englewoodchristian.com
SUMMARY:Children's Church
DESCRIPTION:
URL:https://englewoodchristian.com/event/childrens-church-3-2/2029-08-05/
LOCATION:Englewood Christian Church\, 9600 Gulfstream Blvd\, Englewood\, FL\, 34224\, United States
CATEGORIES:Kids,Sunday
ORGANIZER;CN="Andrew Lawson":MAILTO:alawson@englewoodchristian.com
END:VEVENT
BEGIN:VEVENT
DTSTART;TZID=America/New_York:20290812T093000
DTEND;TZID=America/New_York:20290812T101500
DTSTAMP:20260425T072120
CREATED:20240523T201136Z
LAST-MODIFIED:20240523T201138Z
UID:10005691-1881221400-1881224100@englewoodchristian.com
SUMMARY:Adult Sunday School
DESCRIPTION:
URL:https://englewoodchristian.com/event/adult-sunday-school-2-2-2/2029-08-12/
LOCATION:Englewood Christian Church\, 9600 Gulfstream Blvd\, Englewood\, FL\, 34224\, United States
CATEGORIES:Adult,Sunday,Sunday School
END:VEVENT
BEGIN:VEVENT
DTSTART;TZID=America/New_York:20290812T103000
DTEND;TZID=America/New_York:20290812T113000
DTSTAMP:20260425T072120
CREATED:20240523T200811Z
LAST-MODIFIED:20240523T200813Z
UID:10005647-1881225000-1881228600@englewoodchristian.com
SUMMARY:Sunday Worship Service
DESCRIPTION:
URL:https://englewoodchristian.com/event/sunday-worship-service/2029-08-12/
LOCATION:Englewood Christian Church\, 9600 Gulfstream Blvd\, Englewood\, FL\, 34224\, United States
CATEGORIES:Sunday,Worship Service
END:VEVENT
BEGIN:VEVENT
DTSTART;TZID=America/New_York:20290812T103000
DTEND;TZID=America/New_York:20290812T113000
DTSTAMP:20260425T072120
CREATED:20240523T201009Z
LAST-MODIFIED:20240523T201010Z
UID:10005735-1881225000-1881228600@englewoodchristian.com
SUMMARY:Children's Church
DESCRIPTION:
URL:https://englewoodchristian.com/event/childrens-church-3-2/2029-08-12/
LOCATION:Englewood Christian Church\, 9600 Gulfstream Blvd\, Englewood\, FL\, 34224\, United States
CATEGORIES:Kids,Sunday
ORGANIZER;CN="Andrew Lawson":MAILTO:alawson@englewoodchristian.com
END:VEVENT
BEGIN:VEVENT
DTSTART;TZID=America/New_York:20290819T093000
DTEND;TZID=America/New_York:20290819T101500
DTSTAMP:20260425T072120
CREATED:20240523T201136Z
LAST-MODIFIED:20240523T201138Z
UID:10005692-1881826200-1881828900@englewoodchristian.com
SUMMARY:Adult Sunday School
DESCRIPTION:
URL:https://englewoodchristian.com/event/adult-sunday-school-2-2-2/2029-08-19/
LOCATION:Englewood Christian Church\, 9600 Gulfstream Blvd\, Englewood\, FL\, 34224\, United States
CATEGORIES:Adult,Sunday,Sunday School
END:VEVENT
BEGIN:VEVENT
DTSTART;TZID=America/New_York:20290819T103000
DTEND;TZID=America/New_York:20290819T113000
DTSTAMP:20260425T072120
CREATED:20240523T200811Z
LAST-MODIFIED:20240523T200813Z
UID:10005648-1881829800-1881833400@englewoodchristian.com
SUMMARY:Sunday Worship Service
DESCRIPTION:
URL:https://englewoodchristian.com/event/sunday-worship-service/2029-08-19/
LOCATION:Englewood Christian Church\, 9600 Gulfstream Blvd\, Englewood\, FL\, 34224\, United States
CATEGORIES:Sunday,Worship Service
END:VEVENT
BEGIN:VEVENT
DTSTART;TZID=America/New_York:20290819T103000
DTEND;TZID=America/New_York:20290819T113000
DTSTAMP:20260425T072120
CREATED:20240523T201009Z
LAST-MODIFIED:20240523T201010Z
UID:10005736-1881829800-1881833400@englewoodchristian.com
SUMMARY:Children's Church
DESCRIPTION:
URL:https://englewoodchristian.com/event/childrens-church-3-2/2029-08-19/
LOCATION:Englewood Christian Church\, 9600 Gulfstream Blvd\, Englewood\, FL\, 34224\, United States
CATEGORIES:Kids,Sunday
ORGANIZER;CN="Andrew Lawson":MAILTO:alawson@englewoodchristian.com
END:VEVENT
BEGIN:VEVENT
DTSTART;TZID=America/New_York:20290826T093000
DTEND;TZID=America/New_York:20290826T101500
DTSTAMP:20260425T072120
CREATED:20240523T201136Z
LAST-MODIFIED:20240523T201138Z
UID:10005693-1882431000-1882433700@englewoodchristian.com
SUMMARY:Adult Sunday School
DESCRIPTION:
URL:https://englewoodchristian.com/event/adult-sunday-school-2-2-2/2029-08-26/
LOCATION:Englewood Christian Church\, 9600 Gulfstream Blvd\, Englewood\, FL\, 34224\, United States
CATEGORIES:Adult,Sunday,Sunday School
END:VEVENT
BEGIN:VEVENT
DTSTART;TZID=America/New_York:20290826T103000
DTEND;TZID=America/New_York:20290826T113000
DTSTAMP:20260425T072120
CREATED:20240523T200811Z
LAST-MODIFIED:20240523T200813Z
UID:10005649-1882434600-1882438200@englewoodchristian.com
SUMMARY:Sunday Worship Service
DESCRIPTION:
URL:https://englewoodchristian.com/event/sunday-worship-service/2029-08-26/
LOCATION:Englewood Christian Church\, 9600 Gulfstream Blvd\, Englewood\, FL\, 34224\, United States
CATEGORIES:Sunday,Worship Service
END:VEVENT
BEGIN:VEVENT
DTSTART;TZID=America/New_York:20290826T103000
DTEND;TZID=America/New_York:20290826T113000
DTSTAMP:20260425T072120
CREATED:20240523T201009Z
LAST-MODIFIED:20240523T201010Z
UID:10005737-1882434600-1882438200@englewoodchristian.com
SUMMARY:Children's Church
DESCRIPTION:
URL:https://englewoodchristian.com/event/childrens-church-3-2/2029-08-26/
LOCATION:Englewood Christian Church\, 9600 Gulfstream Blvd\, Englewood\, FL\, 34224\, United States
CATEGORIES:Kids,Sunday
ORGANIZER;CN="Andrew Lawson":MAILTO:alawson@englewoodchristian.com
END:VEVENT
END:VCALENDAR