BEGIN:VCALENDAR
VERSION:2.0
PRODID:-//Englewood Christian Church - ECPv6.15.20//NONSGML v1.0//EN
CALSCALE:GREGORIAN
METHOD:PUBLISH
X-ORIGINAL-URL:https://englewoodchristian.com
X-WR-CALDESC:Events for Englewood Christian Church
REFRESH-INTERVAL;VALUE=DURATION:PT1H
X-Robots-Tag:noindex
X-PUBLISHED-TTL:PT1H
BEGIN:VTIMEZONE
TZID:America/New_York
BEGIN:DAYLIGHT
TZOFFSETFROM:-0500
TZOFFSETTO:-0400
TZNAME:EDT
DTSTART:20270314T070000
END:DAYLIGHT
BEGIN:STANDARD
TZOFFSETFROM:-0400
TZOFFSETTO:-0500
TZNAME:EST
DTSTART:20271107T060000
END:STANDARD
BEGIN:DAYLIGHT
TZOFFSETFROM:-0500
TZOFFSETTO:-0400
TZNAME:EDT
DTSTART:20280312T070000
END:DAYLIGHT
BEGIN:STANDARD
TZOFFSETFROM:-0400
TZOFFSETTO:-0500
TZNAME:EST
DTSTART:20281105T060000
END:STANDARD
BEGIN:DAYLIGHT
TZOFFSETFROM:-0500
TZOFFSETTO:-0400
TZNAME:EDT
DTSTART:20290311T070000
END:DAYLIGHT
BEGIN:STANDARD
TZOFFSETFROM:-0400
TZOFFSETTO:-0500
TZNAME:EST
DTSTART:20291104T060000
END:STANDARD
END:VTIMEZONE
BEGIN:VEVENT
DTSTART;TZID=America/New_York:20280430T103000
DTEND;TZID=America/New_York:20280430T113000
DTSTAMP:20260424T123715
CREATED:20240523T200811Z
LAST-MODIFIED:20240523T200813Z
UID:10003738-1840703400-1840707000@englewoodchristian.com
SUMMARY:Sunday Worship Service
DESCRIPTION:
URL:https://englewoodchristian.com/event/sunday-worship-service/2028-04-30/
LOCATION:Englewood Christian Church\, 9600 Gulfstream Blvd\, Englewood\, FL\, 34224\, United States
CATEGORIES:Sunday,Worship Service
END:VEVENT
BEGIN:VEVENT
DTSTART;TZID=America/New_York:20280430T103000
DTEND;TZID=America/New_York:20280430T113000
DTSTAMP:20260424T123715
CREATED:20240523T201009Z
LAST-MODIFIED:20240523T201010Z
UID:10003998-1840703400-1840707000@englewoodchristian.com
SUMMARY:Children's Church
DESCRIPTION:
URL:https://englewoodchristian.com/event/childrens-church-3-2/2028-04-30/
LOCATION:Englewood Christian Church\, 9600 Gulfstream Blvd\, Englewood\, FL\, 34224\, United States
CATEGORIES:Kids,Sunday
ORGANIZER;CN="Andrew Lawson":MAILTO:alawson@englewoodchristian.com
END:VEVENT
BEGIN:VEVENT
DTSTART;TZID=America/New_York:20280507T093000
DTEND;TZID=America/New_York:20280507T101500
DTSTAMP:20260424T123715
CREATED:20240523T201136Z
LAST-MODIFIED:20240523T201138Z
UID:10004259-1841304600-1841307300@englewoodchristian.com
SUMMARY:Adult Sunday School
DESCRIPTION:
URL:https://englewoodchristian.com/event/adult-sunday-school-2-2-2/2028-05-07/
LOCATION:Englewood Christian Church\, 9600 Gulfstream Blvd\, Englewood\, FL\, 34224\, United States
CATEGORIES:Adult,Sunday,Sunday School
END:VEVENT
BEGIN:VEVENT
DTSTART;TZID=America/New_York:20280507T103000
DTEND;TZID=America/New_York:20280507T113000
DTSTAMP:20260424T123715
CREATED:20240523T200811Z
LAST-MODIFIED:20240523T200813Z
UID:10003739-1841308200-1841311800@englewoodchristian.com
SUMMARY:Sunday Worship Service
DESCRIPTION:
URL:https://englewoodchristian.com/event/sunday-worship-service/2028-05-07/
LOCATION:Englewood Christian Church\, 9600 Gulfstream Blvd\, Englewood\, FL\, 34224\, United States
CATEGORIES:Sunday,Worship Service
END:VEVENT
BEGIN:VEVENT
DTSTART;TZID=America/New_York:20280507T103000
DTEND;TZID=America/New_York:20280507T113000
DTSTAMP:20260424T123715
CREATED:20240523T201009Z
LAST-MODIFIED:20240523T201010Z
UID:10003999-1841308200-1841311800@englewoodchristian.com
SUMMARY:Children's Church
DESCRIPTION:
URL:https://englewoodchristian.com/event/childrens-church-3-2/2028-05-07/
LOCATION:Englewood Christian Church\, 9600 Gulfstream Blvd\, Englewood\, FL\, 34224\, United States
CATEGORIES:Kids,Sunday
ORGANIZER;CN="Andrew Lawson":MAILTO:alawson@englewoodchristian.com
END:VEVENT
BEGIN:VEVENT
DTSTART;TZID=America/New_York:20280514T093000
DTEND;TZID=America/New_York:20280514T101500
DTSTAMP:20260424T123715
CREATED:20240523T201136Z
LAST-MODIFIED:20240523T201138Z
UID:10004260-1841909400-1841912100@englewoodchristian.com
SUMMARY:Adult Sunday School
DESCRIPTION:
URL:https://englewoodchristian.com/event/adult-sunday-school-2-2-2/2028-05-14/
LOCATION:Englewood Christian Church\, 9600 Gulfstream Blvd\, Englewood\, FL\, 34224\, United States
CATEGORIES:Adult,Sunday,Sunday School
END:VEVENT
BEGIN:VEVENT
DTSTART;TZID=America/New_York:20280514T103000
DTEND;TZID=America/New_York:20280514T113000
DTSTAMP:20260424T123715
CREATED:20240523T200811Z
LAST-MODIFIED:20240523T200813Z
UID:10003740-1841913000-1841916600@englewoodchristian.com
SUMMARY:Sunday Worship Service
DESCRIPTION:
URL:https://englewoodchristian.com/event/sunday-worship-service/2028-05-14/
LOCATION:Englewood Christian Church\, 9600 Gulfstream Blvd\, Englewood\, FL\, 34224\, United States
CATEGORIES:Sunday,Worship Service
END:VEVENT
BEGIN:VEVENT
DTSTART;TZID=America/New_York:20280514T103000
DTEND;TZID=America/New_York:20280514T113000
DTSTAMP:20260424T123715
CREATED:20240523T201009Z
LAST-MODIFIED:20240523T201010Z
UID:10004000-1841913000-1841916600@englewoodchristian.com
SUMMARY:Children's Church
DESCRIPTION:
URL:https://englewoodchristian.com/event/childrens-church-3-2/2028-05-14/
LOCATION:Englewood Christian Church\, 9600 Gulfstream Blvd\, Englewood\, FL\, 34224\, United States
CATEGORIES:Kids,Sunday
ORGANIZER;CN="Andrew Lawson":MAILTO:alawson@englewoodchristian.com
END:VEVENT
BEGIN:VEVENT
DTSTART;TZID=America/New_York:20280521T093000
DTEND;TZID=America/New_York:20280521T101500
DTSTAMP:20260424T123715
CREATED:20240523T201136Z
LAST-MODIFIED:20240523T201138Z
UID:10004261-1842514200-1842516900@englewoodchristian.com
SUMMARY:Adult Sunday School
DESCRIPTION:
URL:https://englewoodchristian.com/event/adult-sunday-school-2-2-2/2028-05-21/
LOCATION:Englewood Christian Church\, 9600 Gulfstream Blvd\, Englewood\, FL\, 34224\, United States
CATEGORIES:Adult,Sunday,Sunday School
END:VEVENT
BEGIN:VEVENT
DTSTART;TZID=America/New_York:20280521T103000
DTEND;TZID=America/New_York:20280521T113000
DTSTAMP:20260424T123715
CREATED:20240523T200811Z
LAST-MODIFIED:20240523T200813Z
UID:10003741-1842517800-1842521400@englewoodchristian.com
SUMMARY:Sunday Worship Service
DESCRIPTION:
URL:https://englewoodchristian.com/event/sunday-worship-service/2028-05-21/
LOCATION:Englewood Christian Church\, 9600 Gulfstream Blvd\, Englewood\, FL\, 34224\, United States
CATEGORIES:Sunday,Worship Service
END:VEVENT
BEGIN:VEVENT
DTSTART;TZID=America/New_York:20280521T103000
DTEND;TZID=America/New_York:20280521T113000
DTSTAMP:20260424T123715
CREATED:20240523T201009Z
LAST-MODIFIED:20240523T201010Z
UID:10004001-1842517800-1842521400@englewoodchristian.com
SUMMARY:Children's Church
DESCRIPTION:
URL:https://englewoodchristian.com/event/childrens-church-3-2/2028-05-21/
LOCATION:Englewood Christian Church\, 9600 Gulfstream Blvd\, Englewood\, FL\, 34224\, United States
CATEGORIES:Kids,Sunday
ORGANIZER;CN="Andrew Lawson":MAILTO:alawson@englewoodchristian.com
END:VEVENT
BEGIN:VEVENT
DTSTART;TZID=America/New_York:20280528T093000
DTEND;TZID=America/New_York:20280528T101500
DTSTAMP:20260424T123715
CREATED:20240523T201136Z
LAST-MODIFIED:20240523T201138Z
UID:10004262-1843119000-1843121700@englewoodchristian.com
SUMMARY:Adult Sunday School
DESCRIPTION:
URL:https://englewoodchristian.com/event/adult-sunday-school-2-2-2/2028-05-28/
LOCATION:Englewood Christian Church\, 9600 Gulfstream Blvd\, Englewood\, FL\, 34224\, United States
CATEGORIES:Adult,Sunday,Sunday School
END:VEVENT
BEGIN:VEVENT
DTSTART;TZID=America/New_York:20280528T103000
DTEND;TZID=America/New_York:20280528T113000
DTSTAMP:20260424T123715
CREATED:20240523T200811Z
LAST-MODIFIED:20240523T200813Z
UID:10003742-1843122600-1843126200@englewoodchristian.com
SUMMARY:Sunday Worship Service
DESCRIPTION:
URL:https://englewoodchristian.com/event/sunday-worship-service/2028-05-28/
LOCATION:Englewood Christian Church\, 9600 Gulfstream Blvd\, Englewood\, FL\, 34224\, United States
CATEGORIES:Sunday,Worship Service
END:VEVENT
BEGIN:VEVENT
DTSTART;TZID=America/New_York:20280528T103000
DTEND;TZID=America/New_York:20280528T113000
DTSTAMP:20260424T123715
CREATED:20240523T201009Z
LAST-MODIFIED:20240523T201010Z
UID:10004002-1843122600-1843126200@englewoodchristian.com
SUMMARY:Children's Church
DESCRIPTION:
URL:https://englewoodchristian.com/event/childrens-church-3-2/2028-05-28/
LOCATION:Englewood Christian Church\, 9600 Gulfstream Blvd\, Englewood\, FL\, 34224\, United States
CATEGORIES:Kids,Sunday
ORGANIZER;CN="Andrew Lawson":MAILTO:alawson@englewoodchristian.com
END:VEVENT
BEGIN:VEVENT
DTSTART;TZID=America/New_York:20280604T093000
DTEND;TZID=America/New_York:20280604T101500
DTSTAMP:20260424T123715
CREATED:20240523T201136Z
LAST-MODIFIED:20240523T201138Z
UID:10004263-1843723800-1843726500@englewoodchristian.com
SUMMARY:Adult Sunday School
DESCRIPTION:
URL:https://englewoodchristian.com/event/adult-sunday-school-2-2-2/2028-06-04/
LOCATION:Englewood Christian Church\, 9600 Gulfstream Blvd\, Englewood\, FL\, 34224\, United States
CATEGORIES:Adult,Sunday,Sunday School
END:VEVENT
BEGIN:VEVENT
DTSTART;TZID=America/New_York:20280604T103000
DTEND;TZID=America/New_York:20280604T113000
DTSTAMP:20260424T123715
CREATED:20240523T200811Z
LAST-MODIFIED:20240523T200813Z
UID:10003743-1843727400-1843731000@englewoodchristian.com
SUMMARY:Sunday Worship Service
DESCRIPTION:
URL:https://englewoodchristian.com/event/sunday-worship-service/2028-06-04/
LOCATION:Englewood Christian Church\, 9600 Gulfstream Blvd\, Englewood\, FL\, 34224\, United States
CATEGORIES:Sunday,Worship Service
END:VEVENT
BEGIN:VEVENT
DTSTART;TZID=America/New_York:20280604T103000
DTEND;TZID=America/New_York:20280604T113000
DTSTAMP:20260424T123715
CREATED:20240523T201009Z
LAST-MODIFIED:20240523T201010Z
UID:10004003-1843727400-1843731000@englewoodchristian.com
SUMMARY:Children's Church
DESCRIPTION:
URL:https://englewoodchristian.com/event/childrens-church-3-2/2028-06-04/
LOCATION:Englewood Christian Church\, 9600 Gulfstream Blvd\, Englewood\, FL\, 34224\, United States
CATEGORIES:Kids,Sunday
ORGANIZER;CN="Andrew Lawson":MAILTO:alawson@englewoodchristian.com
END:VEVENT
BEGIN:VEVENT
DTSTART;TZID=America/New_York:20280611T093000
DTEND;TZID=America/New_York:20280611T101500
DTSTAMP:20260424T123715
CREATED:20240523T201136Z
LAST-MODIFIED:20240523T201138Z
UID:10004264-1844328600-1844331300@englewoodchristian.com
SUMMARY:Adult Sunday School
DESCRIPTION:
URL:https://englewoodchristian.com/event/adult-sunday-school-2-2-2/2028-06-11/
LOCATION:Englewood Christian Church\, 9600 Gulfstream Blvd\, Englewood\, FL\, 34224\, United States
CATEGORIES:Adult,Sunday,Sunday School
END:VEVENT
BEGIN:VEVENT
DTSTART;TZID=America/New_York:20280611T103000
DTEND;TZID=America/New_York:20280611T113000
DTSTAMP:20260424T123715
CREATED:20240523T200811Z
LAST-MODIFIED:20240523T200813Z
UID:10003744-1844332200-1844335800@englewoodchristian.com
SUMMARY:Sunday Worship Service
DESCRIPTION:
URL:https://englewoodchristian.com/event/sunday-worship-service/2028-06-11/
LOCATION:Englewood Christian Church\, 9600 Gulfstream Blvd\, Englewood\, FL\, 34224\, United States
CATEGORIES:Sunday,Worship Service
END:VEVENT
BEGIN:VEVENT
DTSTART;TZID=America/New_York:20280611T103000
DTEND;TZID=America/New_York:20280611T113000
DTSTAMP:20260424T123715
CREATED:20240523T201009Z
LAST-MODIFIED:20240523T201010Z
UID:10004004-1844332200-1844335800@englewoodchristian.com
SUMMARY:Children's Church
DESCRIPTION:
URL:https://englewoodchristian.com/event/childrens-church-3-2/2028-06-11/
LOCATION:Englewood Christian Church\, 9600 Gulfstream Blvd\, Englewood\, FL\, 34224\, United States
CATEGORIES:Kids,Sunday
ORGANIZER;CN="Andrew Lawson":MAILTO:alawson@englewoodchristian.com
END:VEVENT
BEGIN:VEVENT
DTSTART;TZID=America/New_York:20280618T093000
DTEND;TZID=America/New_York:20280618T101500
DTSTAMP:20260424T123715
CREATED:20240523T201136Z
LAST-MODIFIED:20240523T201138Z
UID:10004265-1844933400-1844936100@englewoodchristian.com
SUMMARY:Adult Sunday School
DESCRIPTION:
URL:https://englewoodchristian.com/event/adult-sunday-school-2-2-2/2028-06-18/
LOCATION:Englewood Christian Church\, 9600 Gulfstream Blvd\, Englewood\, FL\, 34224\, United States
CATEGORIES:Adult,Sunday,Sunday School
END:VEVENT
BEGIN:VEVENT
DTSTART;TZID=America/New_York:20280618T103000
DTEND;TZID=America/New_York:20280618T113000
DTSTAMP:20260424T123715
CREATED:20240523T200811Z
LAST-MODIFIED:20240523T200813Z
UID:10003745-1844937000-1844940600@englewoodchristian.com
SUMMARY:Sunday Worship Service
DESCRIPTION:
URL:https://englewoodchristian.com/event/sunday-worship-service/2028-06-18/
LOCATION:Englewood Christian Church\, 9600 Gulfstream Blvd\, Englewood\, FL\, 34224\, United States
CATEGORIES:Sunday,Worship Service
END:VEVENT
BEGIN:VEVENT
DTSTART;TZID=America/New_York:20280618T103000
DTEND;TZID=America/New_York:20280618T113000
DTSTAMP:20260424T123715
CREATED:20240523T201009Z
LAST-MODIFIED:20240523T201010Z
UID:10004005-1844937000-1844940600@englewoodchristian.com
SUMMARY:Children's Church
DESCRIPTION:
URL:https://englewoodchristian.com/event/childrens-church-3-2/2028-06-18/
LOCATION:Englewood Christian Church\, 9600 Gulfstream Blvd\, Englewood\, FL\, 34224\, United States
CATEGORIES:Kids,Sunday
ORGANIZER;CN="Andrew Lawson":MAILTO:alawson@englewoodchristian.com
END:VEVENT
BEGIN:VEVENT
DTSTART;TZID=America/New_York:20280625T093000
DTEND;TZID=America/New_York:20280625T101500
DTSTAMP:20260424T123715
CREATED:20240523T201136Z
LAST-MODIFIED:20240523T201138Z
UID:10004266-1845538200-1845540900@englewoodchristian.com
SUMMARY:Adult Sunday School
DESCRIPTION:
URL:https://englewoodchristian.com/event/adult-sunday-school-2-2-2/2028-06-25/
LOCATION:Englewood Christian Church\, 9600 Gulfstream Blvd\, Englewood\, FL\, 34224\, United States
CATEGORIES:Adult,Sunday,Sunday School
END:VEVENT
BEGIN:VEVENT
DTSTART;TZID=America/New_York:20280625T103000
DTEND;TZID=America/New_York:20280625T113000
DTSTAMP:20260424T123715
CREATED:20240523T200811Z
LAST-MODIFIED:20240523T200813Z
UID:10003746-1845541800-1845545400@englewoodchristian.com
SUMMARY:Sunday Worship Service
DESCRIPTION:
URL:https://englewoodchristian.com/event/sunday-worship-service/2028-06-25/
LOCATION:Englewood Christian Church\, 9600 Gulfstream Blvd\, Englewood\, FL\, 34224\, United States
CATEGORIES:Sunday,Worship Service
END:VEVENT
BEGIN:VEVENT
DTSTART;TZID=America/New_York:20280625T103000
DTEND;TZID=America/New_York:20280625T113000
DTSTAMP:20260424T123715
CREATED:20240523T201009Z
LAST-MODIFIED:20240523T201010Z
UID:10004006-1845541800-1845545400@englewoodchristian.com
SUMMARY:Children's Church
DESCRIPTION:
URL:https://englewoodchristian.com/event/childrens-church-3-2/2028-06-25/
LOCATION:Englewood Christian Church\, 9600 Gulfstream Blvd\, Englewood\, FL\, 34224\, United States
CATEGORIES:Kids,Sunday
ORGANIZER;CN="Andrew Lawson":MAILTO:alawson@englewoodchristian.com
END:VEVENT
BEGIN:VEVENT
DTSTART;TZID=America/New_York:20280702T093000
DTEND;TZID=America/New_York:20280702T101500
DTSTAMP:20260424T123715
CREATED:20240523T201136Z
LAST-MODIFIED:20240523T201138Z
UID:10004267-1846143000-1846145700@englewoodchristian.com
SUMMARY:Adult Sunday School
DESCRIPTION:
URL:https://englewoodchristian.com/event/adult-sunday-school-2-2-2/2028-07-02/
LOCATION:Englewood Christian Church\, 9600 Gulfstream Blvd\, Englewood\, FL\, 34224\, United States
CATEGORIES:Adult,Sunday,Sunday School
END:VEVENT
BEGIN:VEVENT
DTSTART;TZID=America/New_York:20280702T103000
DTEND;TZID=America/New_York:20280702T113000
DTSTAMP:20260424T123715
CREATED:20240523T200811Z
LAST-MODIFIED:20240523T200813Z
UID:10003747-1846146600-1846150200@englewoodchristian.com
SUMMARY:Sunday Worship Service
DESCRIPTION:
URL:https://englewoodchristian.com/event/sunday-worship-service/2028-07-02/
LOCATION:Englewood Christian Church\, 9600 Gulfstream Blvd\, Englewood\, FL\, 34224\, United States
CATEGORIES:Sunday,Worship Service
END:VEVENT
BEGIN:VEVENT
DTSTART;TZID=America/New_York:20280702T103000
DTEND;TZID=America/New_York:20280702T113000
DTSTAMP:20260424T123715
CREATED:20240523T201009Z
LAST-MODIFIED:20240523T201010Z
UID:10004007-1846146600-1846150200@englewoodchristian.com
SUMMARY:Children's Church
DESCRIPTION:
URL:https://englewoodchristian.com/event/childrens-church-3-2/2028-07-02/
LOCATION:Englewood Christian Church\, 9600 Gulfstream Blvd\, Englewood\, FL\, 34224\, United States
CATEGORIES:Kids,Sunday
ORGANIZER;CN="Andrew Lawson":MAILTO:alawson@englewoodchristian.com
END:VEVENT
BEGIN:VEVENT
DTSTART;TZID=America/New_York:20280709T093000
DTEND;TZID=America/New_York:20280709T101500
DTSTAMP:20260424T123715
CREATED:20240523T201136Z
LAST-MODIFIED:20240523T201138Z
UID:10004268-1846747800-1846750500@englewoodchristian.com
SUMMARY:Adult Sunday School
DESCRIPTION:
URL:https://englewoodchristian.com/event/adult-sunday-school-2-2-2/2028-07-09/
LOCATION:Englewood Christian Church\, 9600 Gulfstream Blvd\, Englewood\, FL\, 34224\, United States
CATEGORIES:Adult,Sunday,Sunday School
END:VEVENT
END:VCALENDAR