BEGIN:VCALENDAR
VERSION:2.0
PRODID:-//Englewood Christian Church - ECPv6.15.20//NONSGML v1.0//EN
CALSCALE:GREGORIAN
METHOD:PUBLISH
X-WR-CALNAME:Englewood Christian Church
X-ORIGINAL-URL:https://englewoodchristian.com
X-WR-CALDESC:Events for Englewood Christian Church
REFRESH-INTERVAL;VALUE=DURATION:PT1H
X-Robots-Tag:noindex
X-PUBLISHED-TTL:PT1H
BEGIN:VTIMEZONE
TZID:America/New_York
BEGIN:DAYLIGHT
TZOFFSETFROM:-0500
TZOFFSETTO:-0400
TZNAME:EDT
DTSTART:20280312T070000
END:DAYLIGHT
BEGIN:STANDARD
TZOFFSETFROM:-0400
TZOFFSETTO:-0500
TZNAME:EST
DTSTART:20281105T060000
END:STANDARD
BEGIN:DAYLIGHT
TZOFFSETFROM:-0500
TZOFFSETTO:-0400
TZNAME:EDT
DTSTART:20290311T070000
END:DAYLIGHT
BEGIN:STANDARD
TZOFFSETFROM:-0400
TZOFFSETTO:-0500
TZNAME:EST
DTSTART:20291104T060000
END:STANDARD
BEGIN:DAYLIGHT
TZOFFSETFROM:-0500
TZOFFSETTO:-0400
TZNAME:EDT
DTSTART:20300310T070000
END:DAYLIGHT
BEGIN:STANDARD
TZOFFSETFROM:-0400
TZOFFSETTO:-0500
TZNAME:EST
DTSTART:20301103T060000
END:STANDARD
END:VTIMEZONE
BEGIN:VEVENT
DTSTART;TZID=America/New_York:20290325T103000
DTEND;TZID=America/New_York:20290325T113000
DTSTAMP:20260424T061921
CREATED:20240523T200811Z
LAST-MODIFIED:20240523T200813Z
UID:10003785-1869129000-1869132600@englewoodchristian.com
SUMMARY:Sunday Worship Service
DESCRIPTION:
URL:https://englewoodchristian.com/event/sunday-worship-service/2029-03-25/
LOCATION:Englewood Christian Church\, 9600 Gulfstream Blvd\, Englewood\, FL\, 34224\, United States
CATEGORIES:Sunday,Worship Service
END:VEVENT
BEGIN:VEVENT
DTSTART;TZID=America/New_York:20290325T103000
DTEND;TZID=America/New_York:20290325T113000
DTSTAMP:20260424T061921
CREATED:20240523T201009Z
LAST-MODIFIED:20240523T201010Z
UID:10004045-1869129000-1869132600@englewoodchristian.com
SUMMARY:Children's Church
DESCRIPTION:
URL:https://englewoodchristian.com/event/childrens-church-3-2/2029-03-25/
LOCATION:Englewood Christian Church\, 9600 Gulfstream Blvd\, Englewood\, FL\, 34224\, United States
CATEGORIES:Kids,Sunday
ORGANIZER;CN="Andrew Lawson":MAILTO:alawson@englewoodchristian.com
END:VEVENT
BEGIN:VEVENT
DTSTART;TZID=America/New_York:20290401T093000
DTEND;TZID=America/New_York:20290401T101500
DTSTAMP:20260424T061921
CREATED:20240523T201136Z
LAST-MODIFIED:20240523T201138Z
UID:10004306-1869730200-1869732900@englewoodchristian.com
SUMMARY:Adult Sunday School
DESCRIPTION:
URL:https://englewoodchristian.com/event/adult-sunday-school-2-2-2/2029-04-01/
LOCATION:Englewood Christian Church\, 9600 Gulfstream Blvd\, Englewood\, FL\, 34224\, United States
CATEGORIES:Adult,Sunday,Sunday School
END:VEVENT
BEGIN:VEVENT
DTSTART;TZID=America/New_York:20290401T103000
DTEND;TZID=America/New_York:20290401T113000
DTSTAMP:20260424T061921
CREATED:20240523T200811Z
LAST-MODIFIED:20240523T200813Z
UID:10003786-1869733800-1869737400@englewoodchristian.com
SUMMARY:Sunday Worship Service
DESCRIPTION:
URL:https://englewoodchristian.com/event/sunday-worship-service/2029-04-01/
LOCATION:Englewood Christian Church\, 9600 Gulfstream Blvd\, Englewood\, FL\, 34224\, United States
CATEGORIES:Sunday,Worship Service
END:VEVENT
BEGIN:VEVENT
DTSTART;TZID=America/New_York:20290401T103000
DTEND;TZID=America/New_York:20290401T113000
DTSTAMP:20260424T061921
CREATED:20240523T201009Z
LAST-MODIFIED:20240523T201010Z
UID:10004046-1869733800-1869737400@englewoodchristian.com
SUMMARY:Children's Church
DESCRIPTION:
URL:https://englewoodchristian.com/event/childrens-church-3-2/2029-04-01/
LOCATION:Englewood Christian Church\, 9600 Gulfstream Blvd\, Englewood\, FL\, 34224\, United States
CATEGORIES:Kids,Sunday
ORGANIZER;CN="Andrew Lawson":MAILTO:alawson@englewoodchristian.com
END:VEVENT
BEGIN:VEVENT
DTSTART;TZID=America/New_York:20290408T093000
DTEND;TZID=America/New_York:20290408T101500
DTSTAMP:20260424T061921
CREATED:20240523T201136Z
LAST-MODIFIED:20240523T201138Z
UID:10004307-1870335000-1870337700@englewoodchristian.com
SUMMARY:Adult Sunday School
DESCRIPTION:
URL:https://englewoodchristian.com/event/adult-sunday-school-2-2-2/2029-04-08/
LOCATION:Englewood Christian Church\, 9600 Gulfstream Blvd\, Englewood\, FL\, 34224\, United States
CATEGORIES:Adult,Sunday,Sunday School
END:VEVENT
BEGIN:VEVENT
DTSTART;TZID=America/New_York:20290408T103000
DTEND;TZID=America/New_York:20290408T113000
DTSTAMP:20260424T061921
CREATED:20240523T200811Z
LAST-MODIFIED:20240523T200813Z
UID:10003787-1870338600-1870342200@englewoodchristian.com
SUMMARY:Sunday Worship Service
DESCRIPTION:
URL:https://englewoodchristian.com/event/sunday-worship-service/2029-04-08/
LOCATION:Englewood Christian Church\, 9600 Gulfstream Blvd\, Englewood\, FL\, 34224\, United States
CATEGORIES:Sunday,Worship Service
END:VEVENT
BEGIN:VEVENT
DTSTART;TZID=America/New_York:20290408T103000
DTEND;TZID=America/New_York:20290408T113000
DTSTAMP:20260424T061921
CREATED:20240523T201009Z
LAST-MODIFIED:20240523T201010Z
UID:10004047-1870338600-1870342200@englewoodchristian.com
SUMMARY:Children's Church
DESCRIPTION:
URL:https://englewoodchristian.com/event/childrens-church-3-2/2029-04-08/
LOCATION:Englewood Christian Church\, 9600 Gulfstream Blvd\, Englewood\, FL\, 34224\, United States
CATEGORIES:Kids,Sunday
ORGANIZER;CN="Andrew Lawson":MAILTO:alawson@englewoodchristian.com
END:VEVENT
BEGIN:VEVENT
DTSTART;TZID=America/New_York:20290415T093000
DTEND;TZID=America/New_York:20290415T101500
DTSTAMP:20260424T061921
CREATED:20240523T201136Z
LAST-MODIFIED:20240523T201138Z
UID:10004308-1870939800-1870942500@englewoodchristian.com
SUMMARY:Adult Sunday School
DESCRIPTION:
URL:https://englewoodchristian.com/event/adult-sunday-school-2-2-2/2029-04-15/
LOCATION:Englewood Christian Church\, 9600 Gulfstream Blvd\, Englewood\, FL\, 34224\, United States
CATEGORIES:Adult,Sunday,Sunday School
END:VEVENT
BEGIN:VEVENT
DTSTART;TZID=America/New_York:20290415T103000
DTEND;TZID=America/New_York:20290415T113000
DTSTAMP:20260424T061921
CREATED:20240523T200811Z
LAST-MODIFIED:20240523T200813Z
UID:10003788-1870943400-1870947000@englewoodchristian.com
SUMMARY:Sunday Worship Service
DESCRIPTION:
URL:https://englewoodchristian.com/event/sunday-worship-service/2029-04-15/
LOCATION:Englewood Christian Church\, 9600 Gulfstream Blvd\, Englewood\, FL\, 34224\, United States
CATEGORIES:Sunday,Worship Service
END:VEVENT
BEGIN:VEVENT
DTSTART;TZID=America/New_York:20290415T103000
DTEND;TZID=America/New_York:20290415T113000
DTSTAMP:20260424T061921
CREATED:20240523T201009Z
LAST-MODIFIED:20240523T201010Z
UID:10004048-1870943400-1870947000@englewoodchristian.com
SUMMARY:Children's Church
DESCRIPTION:
URL:https://englewoodchristian.com/event/childrens-church-3-2/2029-04-15/
LOCATION:Englewood Christian Church\, 9600 Gulfstream Blvd\, Englewood\, FL\, 34224\, United States
CATEGORIES:Kids,Sunday
ORGANIZER;CN="Andrew Lawson":MAILTO:alawson@englewoodchristian.com
END:VEVENT
BEGIN:VEVENT
DTSTART;TZID=America/New_York:20290422T093000
DTEND;TZID=America/New_York:20290422T101500
DTSTAMP:20260424T061921
CREATED:20240523T201136Z
LAST-MODIFIED:20240523T201138Z
UID:10004309-1871544600-1871547300@englewoodchristian.com
SUMMARY:Adult Sunday School
DESCRIPTION:
URL:https://englewoodchristian.com/event/adult-sunday-school-2-2-2/2029-04-22/
LOCATION:Englewood Christian Church\, 9600 Gulfstream Blvd\, Englewood\, FL\, 34224\, United States
CATEGORIES:Adult,Sunday,Sunday School
END:VEVENT
BEGIN:VEVENT
DTSTART;TZID=America/New_York:20290422T103000
DTEND;TZID=America/New_York:20290422T113000
DTSTAMP:20260424T061921
CREATED:20240523T200811Z
LAST-MODIFIED:20240523T200813Z
UID:10003789-1871548200-1871551800@englewoodchristian.com
SUMMARY:Sunday Worship Service
DESCRIPTION:
URL:https://englewoodchristian.com/event/sunday-worship-service/2029-04-22/
LOCATION:Englewood Christian Church\, 9600 Gulfstream Blvd\, Englewood\, FL\, 34224\, United States
CATEGORIES:Sunday,Worship Service
END:VEVENT
BEGIN:VEVENT
DTSTART;TZID=America/New_York:20290422T103000
DTEND;TZID=America/New_York:20290422T113000
DTSTAMP:20260424T061921
CREATED:20240523T201009Z
LAST-MODIFIED:20240523T201010Z
UID:10004049-1871548200-1871551800@englewoodchristian.com
SUMMARY:Children's Church
DESCRIPTION:
URL:https://englewoodchristian.com/event/childrens-church-3-2/2029-04-22/
LOCATION:Englewood Christian Church\, 9600 Gulfstream Blvd\, Englewood\, FL\, 34224\, United States
CATEGORIES:Kids,Sunday
ORGANIZER;CN="Andrew Lawson":MAILTO:alawson@englewoodchristian.com
END:VEVENT
BEGIN:VEVENT
DTSTART;TZID=America/New_York:20290429T093000
DTEND;TZID=America/New_York:20290429T101500
DTSTAMP:20260424T061921
CREATED:20240523T201136Z
LAST-MODIFIED:20240523T201138Z
UID:10004310-1872149400-1872152100@englewoodchristian.com
SUMMARY:Adult Sunday School
DESCRIPTION:
URL:https://englewoodchristian.com/event/adult-sunday-school-2-2-2/2029-04-29/
LOCATION:Englewood Christian Church\, 9600 Gulfstream Blvd\, Englewood\, FL\, 34224\, United States
CATEGORIES:Adult,Sunday,Sunday School
END:VEVENT
BEGIN:VEVENT
DTSTART;TZID=America/New_York:20290429T103000
DTEND;TZID=America/New_York:20290429T113000
DTSTAMP:20260424T061921
CREATED:20240523T200811Z
LAST-MODIFIED:20240523T200813Z
UID:10003790-1872153000-1872156600@englewoodchristian.com
SUMMARY:Sunday Worship Service
DESCRIPTION:
URL:https://englewoodchristian.com/event/sunday-worship-service/2029-04-29/
LOCATION:Englewood Christian Church\, 9600 Gulfstream Blvd\, Englewood\, FL\, 34224\, United States
CATEGORIES:Sunday,Worship Service
END:VEVENT
BEGIN:VEVENT
DTSTART;TZID=America/New_York:20290429T103000
DTEND;TZID=America/New_York:20290429T113000
DTSTAMP:20260424T061921
CREATED:20240523T201009Z
LAST-MODIFIED:20240523T201010Z
UID:10004050-1872153000-1872156600@englewoodchristian.com
SUMMARY:Children's Church
DESCRIPTION:
URL:https://englewoodchristian.com/event/childrens-church-3-2/2029-04-29/
LOCATION:Englewood Christian Church\, 9600 Gulfstream Blvd\, Englewood\, FL\, 34224\, United States
CATEGORIES:Kids,Sunday
ORGANIZER;CN="Andrew Lawson":MAILTO:alawson@englewoodchristian.com
END:VEVENT
BEGIN:VEVENT
DTSTART;TZID=America/New_York:20290506T093000
DTEND;TZID=America/New_York:20290506T101500
DTSTAMP:20260424T061921
CREATED:20240523T201136Z
LAST-MODIFIED:20240523T201138Z
UID:10004311-1872754200-1872756900@englewoodchristian.com
SUMMARY:Adult Sunday School
DESCRIPTION:
URL:https://englewoodchristian.com/event/adult-sunday-school-2-2-2/2029-05-06/
LOCATION:Englewood Christian Church\, 9600 Gulfstream Blvd\, Englewood\, FL\, 34224\, United States
CATEGORIES:Adult,Sunday,Sunday School
END:VEVENT
BEGIN:VEVENT
DTSTART;TZID=America/New_York:20290506T103000
DTEND;TZID=America/New_York:20290506T113000
DTSTAMP:20260424T061921
CREATED:20240523T200811Z
LAST-MODIFIED:20240523T200813Z
UID:10003791-1872757800-1872761400@englewoodchristian.com
SUMMARY:Sunday Worship Service
DESCRIPTION:
URL:https://englewoodchristian.com/event/sunday-worship-service/2029-05-06/
LOCATION:Englewood Christian Church\, 9600 Gulfstream Blvd\, Englewood\, FL\, 34224\, United States
CATEGORIES:Sunday,Worship Service
END:VEVENT
BEGIN:VEVENT
DTSTART;TZID=America/New_York:20290506T103000
DTEND;TZID=America/New_York:20290506T113000
DTSTAMP:20260424T061921
CREATED:20240523T201009Z
LAST-MODIFIED:20240523T201010Z
UID:10004051-1872757800-1872761400@englewoodchristian.com
SUMMARY:Children's Church
DESCRIPTION:
URL:https://englewoodchristian.com/event/childrens-church-3-2/2029-05-06/
LOCATION:Englewood Christian Church\, 9600 Gulfstream Blvd\, Englewood\, FL\, 34224\, United States
CATEGORIES:Kids,Sunday
ORGANIZER;CN="Andrew Lawson":MAILTO:alawson@englewoodchristian.com
END:VEVENT
BEGIN:VEVENT
DTSTART;TZID=America/New_York:20290513T093000
DTEND;TZID=America/New_York:20290513T101500
DTSTAMP:20260424T061921
CREATED:20240523T201136Z
LAST-MODIFIED:20240523T201138Z
UID:10004312-1873359000-1873361700@englewoodchristian.com
SUMMARY:Adult Sunday School
DESCRIPTION:
URL:https://englewoodchristian.com/event/adult-sunday-school-2-2-2/2029-05-13/
LOCATION:Englewood Christian Church\, 9600 Gulfstream Blvd\, Englewood\, FL\, 34224\, United States
CATEGORIES:Adult,Sunday,Sunday School
END:VEVENT
BEGIN:VEVENT
DTSTART;TZID=America/New_York:20290513T103000
DTEND;TZID=America/New_York:20290513T113000
DTSTAMP:20260424T061921
CREATED:20240523T200811Z
LAST-MODIFIED:20240523T200813Z
UID:10003792-1873362600-1873366200@englewoodchristian.com
SUMMARY:Sunday Worship Service
DESCRIPTION:
URL:https://englewoodchristian.com/event/sunday-worship-service/2029-05-13/
LOCATION:Englewood Christian Church\, 9600 Gulfstream Blvd\, Englewood\, FL\, 34224\, United States
CATEGORIES:Sunday,Worship Service
END:VEVENT
BEGIN:VEVENT
DTSTART;TZID=America/New_York:20290513T103000
DTEND;TZID=America/New_York:20290513T113000
DTSTAMP:20260424T061921
CREATED:20240523T201009Z
LAST-MODIFIED:20240523T201010Z
UID:10004052-1873362600-1873366200@englewoodchristian.com
SUMMARY:Children's Church
DESCRIPTION:
URL:https://englewoodchristian.com/event/childrens-church-3-2/2029-05-13/
LOCATION:Englewood Christian Church\, 9600 Gulfstream Blvd\, Englewood\, FL\, 34224\, United States
CATEGORIES:Kids,Sunday
ORGANIZER;CN="Andrew Lawson":MAILTO:alawson@englewoodchristian.com
END:VEVENT
BEGIN:VEVENT
DTSTART;TZID=America/New_York:20290520T093000
DTEND;TZID=America/New_York:20290520T101500
DTSTAMP:20260424T061921
CREATED:20240523T201136Z
LAST-MODIFIED:20240523T201138Z
UID:10004313-1873963800-1873966500@englewoodchristian.com
SUMMARY:Adult Sunday School
DESCRIPTION:
URL:https://englewoodchristian.com/event/adult-sunday-school-2-2-2/2029-05-20/
LOCATION:Englewood Christian Church\, 9600 Gulfstream Blvd\, Englewood\, FL\, 34224\, United States
CATEGORIES:Adult,Sunday,Sunday School
END:VEVENT
BEGIN:VEVENT
DTSTART;TZID=America/New_York:20290520T103000
DTEND;TZID=America/New_York:20290520T113000
DTSTAMP:20260424T061921
CREATED:20240523T200811Z
LAST-MODIFIED:20240523T200813Z
UID:10003793-1873967400-1873971000@englewoodchristian.com
SUMMARY:Sunday Worship Service
DESCRIPTION:
URL:https://englewoodchristian.com/event/sunday-worship-service/2029-05-20/
LOCATION:Englewood Christian Church\, 9600 Gulfstream Blvd\, Englewood\, FL\, 34224\, United States
CATEGORIES:Sunday,Worship Service
END:VEVENT
BEGIN:VEVENT
DTSTART;TZID=America/New_York:20290520T103000
DTEND;TZID=America/New_York:20290520T113000
DTSTAMP:20260424T061921
CREATED:20240523T201009Z
LAST-MODIFIED:20240523T201010Z
UID:10004053-1873967400-1873971000@englewoodchristian.com
SUMMARY:Children's Church
DESCRIPTION:
URL:https://englewoodchristian.com/event/childrens-church-3-2/2029-05-20/
LOCATION:Englewood Christian Church\, 9600 Gulfstream Blvd\, Englewood\, FL\, 34224\, United States
CATEGORIES:Kids,Sunday
ORGANIZER;CN="Andrew Lawson":MAILTO:alawson@englewoodchristian.com
END:VEVENT
BEGIN:VEVENT
DTSTART;TZID=America/New_York:20290527T093000
DTEND;TZID=America/New_York:20290527T101500
DTSTAMP:20260424T061921
CREATED:20240523T201136Z
LAST-MODIFIED:20240523T201138Z
UID:10005680-1874568600-1874571300@englewoodchristian.com
SUMMARY:Adult Sunday School
DESCRIPTION:
URL:https://englewoodchristian.com/event/adult-sunday-school-2-2-2/2029-05-27/
LOCATION:Englewood Christian Church\, 9600 Gulfstream Blvd\, Englewood\, FL\, 34224\, United States
CATEGORIES:Adult,Sunday,Sunday School
END:VEVENT
BEGIN:VEVENT
DTSTART;TZID=America/New_York:20290527T103000
DTEND;TZID=America/New_York:20290527T113000
DTSTAMP:20260424T061921
CREATED:20240523T200811Z
LAST-MODIFIED:20240523T200813Z
UID:10005636-1874572200-1874575800@englewoodchristian.com
SUMMARY:Sunday Worship Service
DESCRIPTION:
URL:https://englewoodchristian.com/event/sunday-worship-service/2029-05-27/
LOCATION:Englewood Christian Church\, 9600 Gulfstream Blvd\, Englewood\, FL\, 34224\, United States
CATEGORIES:Sunday,Worship Service
END:VEVENT
BEGIN:VEVENT
DTSTART;TZID=America/New_York:20290527T103000
DTEND;TZID=America/New_York:20290527T113000
DTSTAMP:20260424T061921
CREATED:20240523T201009Z
LAST-MODIFIED:20240523T201010Z
UID:10005724-1874572200-1874575800@englewoodchristian.com
SUMMARY:Children's Church
DESCRIPTION:
URL:https://englewoodchristian.com/event/childrens-church-3-2/2029-05-27/
LOCATION:Englewood Christian Church\, 9600 Gulfstream Blvd\, Englewood\, FL\, 34224\, United States
CATEGORIES:Kids,Sunday
ORGANIZER;CN="Andrew Lawson":MAILTO:alawson@englewoodchristian.com
END:VEVENT
BEGIN:VEVENT
DTSTART;TZID=America/New_York:20290603T093000
DTEND;TZID=America/New_York:20290603T101500
DTSTAMP:20260424T061921
CREATED:20240523T201136Z
LAST-MODIFIED:20240523T201138Z
UID:10005681-1875173400-1875176100@englewoodchristian.com
SUMMARY:Adult Sunday School
DESCRIPTION:
URL:https://englewoodchristian.com/event/adult-sunday-school-2-2-2/2029-06-03/
LOCATION:Englewood Christian Church\, 9600 Gulfstream Blvd\, Englewood\, FL\, 34224\, United States
CATEGORIES:Adult,Sunday,Sunday School
END:VEVENT
END:VCALENDAR