BEGIN:VCALENDAR
VERSION:2.0
PRODID:-//Englewood Christian Church - ECPv6.15.20//NONSGML v1.0//EN
CALSCALE:GREGORIAN
METHOD:PUBLISH
X-ORIGINAL-URL:https://englewoodchristian.com
X-WR-CALDESC:Events for Englewood Christian Church
REFRESH-INTERVAL;VALUE=DURATION:PT1H
X-Robots-Tag:noindex
X-PUBLISHED-TTL:PT1H
BEGIN:VTIMEZONE
TZID:America/New_York
BEGIN:DAYLIGHT
TZOFFSETFROM:-0500
TZOFFSETTO:-0400
TZNAME:EDT
DTSTART:20250309T070000
END:DAYLIGHT
BEGIN:STANDARD
TZOFFSETFROM:-0400
TZOFFSETTO:-0500
TZNAME:EST
DTSTART:20251102T060000
END:STANDARD
BEGIN:DAYLIGHT
TZOFFSETFROM:-0500
TZOFFSETTO:-0400
TZNAME:EDT
DTSTART:20260308T070000
END:DAYLIGHT
BEGIN:STANDARD
TZOFFSETFROM:-0400
TZOFFSETTO:-0500
TZNAME:EST
DTSTART:20261101T060000
END:STANDARD
BEGIN:DAYLIGHT
TZOFFSETFROM:-0500
TZOFFSETTO:-0400
TZNAME:EDT
DTSTART:20270314T070000
END:DAYLIGHT
BEGIN:STANDARD
TZOFFSETFROM:-0400
TZOFFSETTO:-0500
TZNAME:EST
DTSTART:20271107T060000
END:STANDARD
BEGIN:DAYLIGHT
TZOFFSETFROM:-0500
TZOFFSETTO:-0400
TZNAME:EDT
DTSTART:20280312T070000
END:DAYLIGHT
BEGIN:STANDARD
TZOFFSETFROM:-0400
TZOFFSETTO:-0500
TZNAME:EST
DTSTART:20281105T060000
END:STANDARD
END:VTIMEZONE
BEGIN:VEVENT
DTSTART;TZID=America/New_York:20261025T103000
DTEND;TZID=America/New_York:20261025T113000
DTSTAMP:20260425T102138
CREATED:20240523T201009Z
LAST-MODIFIED:20240523T201010Z
UID:10003919-1792924200-1792927800@englewoodchristian.com
SUMMARY:Children's Church
DESCRIPTION:
URL:https://englewoodchristian.com/event/childrens-church-3-2/2026-10-25/
LOCATION:Englewood Christian Church\, 9600 Gulfstream Blvd\, Englewood\, FL\, 34224\, United States
CATEGORIES:Kids,Sunday
ORGANIZER;CN="Andrew Lawson":MAILTO:alawson@englewoodchristian.com
END:VEVENT
BEGIN:VEVENT
DTSTART;TZID=America/New_York:20261101T093000
DTEND;TZID=America/New_York:20261101T101500
DTSTAMP:20260425T102138
CREATED:20240523T201136Z
LAST-MODIFIED:20240523T201138Z
UID:10004180-1793525400-1793528100@englewoodchristian.com
SUMMARY:Adult Sunday School
DESCRIPTION:
URL:https://englewoodchristian.com/event/adult-sunday-school-2-2-2/2026-11-01/
LOCATION:Englewood Christian Church\, 9600 Gulfstream Blvd\, Englewood\, FL\, 34224\, United States
CATEGORIES:Adult,Sunday,Sunday School
END:VEVENT
BEGIN:VEVENT
DTSTART;TZID=America/New_York:20261101T103000
DTEND;TZID=America/New_York:20261101T113000
DTSTAMP:20260425T102138
CREATED:20240523T200811Z
LAST-MODIFIED:20240523T200813Z
UID:10003660-1793529000-1793532600@englewoodchristian.com
SUMMARY:Sunday Worship Service
DESCRIPTION:
URL:https://englewoodchristian.com/event/sunday-worship-service/2026-11-01/
LOCATION:Englewood Christian Church\, 9600 Gulfstream Blvd\, Englewood\, FL\, 34224\, United States
CATEGORIES:Sunday,Worship Service
END:VEVENT
BEGIN:VEVENT
DTSTART;TZID=America/New_York:20261101T103000
DTEND;TZID=America/New_York:20261101T113000
DTSTAMP:20260425T102138
CREATED:20240523T201009Z
LAST-MODIFIED:20240523T201010Z
UID:10003920-1793529000-1793532600@englewoodchristian.com
SUMMARY:Children's Church
DESCRIPTION:
URL:https://englewoodchristian.com/event/childrens-church-3-2/2026-11-01/
LOCATION:Englewood Christian Church\, 9600 Gulfstream Blvd\, Englewood\, FL\, 34224\, United States
CATEGORIES:Kids,Sunday
ORGANIZER;CN="Andrew Lawson":MAILTO:alawson@englewoodchristian.com
END:VEVENT
BEGIN:VEVENT
DTSTART;TZID=America/New_York:20261108T093000
DTEND;TZID=America/New_York:20261108T101500
DTSTAMP:20260425T102138
CREATED:20240523T201136Z
LAST-MODIFIED:20240523T201138Z
UID:10004181-1794130200-1794132900@englewoodchristian.com
SUMMARY:Adult Sunday School
DESCRIPTION:
URL:https://englewoodchristian.com/event/adult-sunday-school-2-2-2/2026-11-08/
LOCATION:Englewood Christian Church\, 9600 Gulfstream Blvd\, Englewood\, FL\, 34224\, United States
CATEGORIES:Adult,Sunday,Sunday School
END:VEVENT
BEGIN:VEVENT
DTSTART;TZID=America/New_York:20261108T103000
DTEND;TZID=America/New_York:20261108T113000
DTSTAMP:20260425T102138
CREATED:20240523T200811Z
LAST-MODIFIED:20240523T200813Z
UID:10003661-1794133800-1794137400@englewoodchristian.com
SUMMARY:Sunday Worship Service
DESCRIPTION:
URL:https://englewoodchristian.com/event/sunday-worship-service/2026-11-08/
LOCATION:Englewood Christian Church\, 9600 Gulfstream Blvd\, Englewood\, FL\, 34224\, United States
CATEGORIES:Sunday,Worship Service
END:VEVENT
BEGIN:VEVENT
DTSTART;TZID=America/New_York:20261108T103000
DTEND;TZID=America/New_York:20261108T113000
DTSTAMP:20260425T102138
CREATED:20240523T201009Z
LAST-MODIFIED:20240523T201010Z
UID:10003921-1794133800-1794137400@englewoodchristian.com
SUMMARY:Children's Church
DESCRIPTION:
URL:https://englewoodchristian.com/event/childrens-church-3-2/2026-11-08/
LOCATION:Englewood Christian Church\, 9600 Gulfstream Blvd\, Englewood\, FL\, 34224\, United States
CATEGORIES:Kids,Sunday
ORGANIZER;CN="Andrew Lawson":MAILTO:alawson@englewoodchristian.com
END:VEVENT
BEGIN:VEVENT
DTSTART;TZID=America/New_York:20261115T093000
DTEND;TZID=America/New_York:20261115T101500
DTSTAMP:20260425T102138
CREATED:20240523T201136Z
LAST-MODIFIED:20240523T201138Z
UID:10004182-1794735000-1794737700@englewoodchristian.com
SUMMARY:Adult Sunday School
DESCRIPTION:
URL:https://englewoodchristian.com/event/adult-sunday-school-2-2-2/2026-11-15/
LOCATION:Englewood Christian Church\, 9600 Gulfstream Blvd\, Englewood\, FL\, 34224\, United States
CATEGORIES:Adult,Sunday,Sunday School
END:VEVENT
BEGIN:VEVENT
DTSTART;TZID=America/New_York:20261115T103000
DTEND;TZID=America/New_York:20261115T113000
DTSTAMP:20260425T102138
CREATED:20240523T200811Z
LAST-MODIFIED:20240523T200813Z
UID:10003662-1794738600-1794742200@englewoodchristian.com
SUMMARY:Sunday Worship Service
DESCRIPTION:
URL:https://englewoodchristian.com/event/sunday-worship-service/2026-11-15/
LOCATION:Englewood Christian Church\, 9600 Gulfstream Blvd\, Englewood\, FL\, 34224\, United States
CATEGORIES:Sunday,Worship Service
END:VEVENT
BEGIN:VEVENT
DTSTART;TZID=America/New_York:20261115T103000
DTEND;TZID=America/New_York:20261115T113000
DTSTAMP:20260425T102138
CREATED:20240523T201009Z
LAST-MODIFIED:20240523T201010Z
UID:10003922-1794738600-1794742200@englewoodchristian.com
SUMMARY:Children's Church
DESCRIPTION:
URL:https://englewoodchristian.com/event/childrens-church-3-2/2026-11-15/
LOCATION:Englewood Christian Church\, 9600 Gulfstream Blvd\, Englewood\, FL\, 34224\, United States
CATEGORIES:Kids,Sunday
ORGANIZER;CN="Andrew Lawson":MAILTO:alawson@englewoodchristian.com
END:VEVENT
BEGIN:VEVENT
DTSTART;TZID=America/New_York:20261122T093000
DTEND;TZID=America/New_York:20261122T101500
DTSTAMP:20260425T102138
CREATED:20240523T201136Z
LAST-MODIFIED:20240523T201138Z
UID:10004183-1795339800-1795342500@englewoodchristian.com
SUMMARY:Adult Sunday School
DESCRIPTION:
URL:https://englewoodchristian.com/event/adult-sunday-school-2-2-2/2026-11-22/
LOCATION:Englewood Christian Church\, 9600 Gulfstream Blvd\, Englewood\, FL\, 34224\, United States
CATEGORIES:Adult,Sunday,Sunday School
END:VEVENT
BEGIN:VEVENT
DTSTART;TZID=America/New_York:20261122T103000
DTEND;TZID=America/New_York:20261122T113000
DTSTAMP:20260425T102138
CREATED:20240523T200811Z
LAST-MODIFIED:20240523T200813Z
UID:10003663-1795343400-1795347000@englewoodchristian.com
SUMMARY:Sunday Worship Service
DESCRIPTION:
URL:https://englewoodchristian.com/event/sunday-worship-service/2026-11-22/
LOCATION:Englewood Christian Church\, 9600 Gulfstream Blvd\, Englewood\, FL\, 34224\, United States
CATEGORIES:Sunday,Worship Service
END:VEVENT
BEGIN:VEVENT
DTSTART;TZID=America/New_York:20261122T103000
DTEND;TZID=America/New_York:20261122T113000
DTSTAMP:20260425T102138
CREATED:20240523T201009Z
LAST-MODIFIED:20240523T201010Z
UID:10003923-1795343400-1795347000@englewoodchristian.com
SUMMARY:Children's Church
DESCRIPTION:
URL:https://englewoodchristian.com/event/childrens-church-3-2/2026-11-22/
LOCATION:Englewood Christian Church\, 9600 Gulfstream Blvd\, Englewood\, FL\, 34224\, United States
CATEGORIES:Kids,Sunday
ORGANIZER;CN="Andrew Lawson":MAILTO:alawson@englewoodchristian.com
END:VEVENT
BEGIN:VEVENT
DTSTART;TZID=America/New_York:20261129T093000
DTEND;TZID=America/New_York:20261129T101500
DTSTAMP:20260425T102138
CREATED:20240523T201136Z
LAST-MODIFIED:20240523T201138Z
UID:10004184-1795944600-1795947300@englewoodchristian.com
SUMMARY:Adult Sunday School
DESCRIPTION:
URL:https://englewoodchristian.com/event/adult-sunday-school-2-2-2/2026-11-29/
LOCATION:Englewood Christian Church\, 9600 Gulfstream Blvd\, Englewood\, FL\, 34224\, United States
CATEGORIES:Adult,Sunday,Sunday School
END:VEVENT
BEGIN:VEVENT
DTSTART;TZID=America/New_York:20261129T103000
DTEND;TZID=America/New_York:20261129T113000
DTSTAMP:20260425T102138
CREATED:20240523T200811Z
LAST-MODIFIED:20240523T200813Z
UID:10003664-1795948200-1795951800@englewoodchristian.com
SUMMARY:Sunday Worship Service
DESCRIPTION:
URL:https://englewoodchristian.com/event/sunday-worship-service/2026-11-29/
LOCATION:Englewood Christian Church\, 9600 Gulfstream Blvd\, Englewood\, FL\, 34224\, United States
CATEGORIES:Sunday,Worship Service
END:VEVENT
BEGIN:VEVENT
DTSTART;TZID=America/New_York:20261129T103000
DTEND;TZID=America/New_York:20261129T113000
DTSTAMP:20260425T102138
CREATED:20240523T201009Z
LAST-MODIFIED:20240523T201010Z
UID:10003924-1795948200-1795951800@englewoodchristian.com
SUMMARY:Children's Church
DESCRIPTION:
URL:https://englewoodchristian.com/event/childrens-church-3-2/2026-11-29/
LOCATION:Englewood Christian Church\, 9600 Gulfstream Blvd\, Englewood\, FL\, 34224\, United States
CATEGORIES:Kids,Sunday
ORGANIZER;CN="Andrew Lawson":MAILTO:alawson@englewoodchristian.com
END:VEVENT
BEGIN:VEVENT
DTSTART;TZID=America/New_York:20261206T093000
DTEND;TZID=America/New_York:20261206T101500
DTSTAMP:20260425T102138
CREATED:20240523T201136Z
LAST-MODIFIED:20240523T201138Z
UID:10004185-1796549400-1796552100@englewoodchristian.com
SUMMARY:Adult Sunday School
DESCRIPTION:
URL:https://englewoodchristian.com/event/adult-sunday-school-2-2-2/2026-12-06/
LOCATION:Englewood Christian Church\, 9600 Gulfstream Blvd\, Englewood\, FL\, 34224\, United States
CATEGORIES:Adult,Sunday,Sunday School
END:VEVENT
BEGIN:VEVENT
DTSTART;TZID=America/New_York:20261206T103000
DTEND;TZID=America/New_York:20261206T113000
DTSTAMP:20260425T102138
CREATED:20240523T200811Z
LAST-MODIFIED:20240523T200813Z
UID:10003665-1796553000-1796556600@englewoodchristian.com
SUMMARY:Sunday Worship Service
DESCRIPTION:
URL:https://englewoodchristian.com/event/sunday-worship-service/2026-12-06/
LOCATION:Englewood Christian Church\, 9600 Gulfstream Blvd\, Englewood\, FL\, 34224\, United States
CATEGORIES:Sunday,Worship Service
END:VEVENT
BEGIN:VEVENT
DTSTART;TZID=America/New_York:20261206T103000
DTEND;TZID=America/New_York:20261206T113000
DTSTAMP:20260425T102138
CREATED:20240523T201009Z
LAST-MODIFIED:20240523T201010Z
UID:10003925-1796553000-1796556600@englewoodchristian.com
SUMMARY:Children's Church
DESCRIPTION:
URL:https://englewoodchristian.com/event/childrens-church-3-2/2026-12-06/
LOCATION:Englewood Christian Church\, 9600 Gulfstream Blvd\, Englewood\, FL\, 34224\, United States
CATEGORIES:Kids,Sunday
ORGANIZER;CN="Andrew Lawson":MAILTO:alawson@englewoodchristian.com
END:VEVENT
BEGIN:VEVENT
DTSTART;TZID=America/New_York:20261213T093000
DTEND;TZID=America/New_York:20261213T101500
DTSTAMP:20260425T102138
CREATED:20240523T201136Z
LAST-MODIFIED:20240523T201138Z
UID:10004186-1797154200-1797156900@englewoodchristian.com
SUMMARY:Adult Sunday School
DESCRIPTION:
URL:https://englewoodchristian.com/event/adult-sunday-school-2-2-2/2026-12-13/
LOCATION:Englewood Christian Church\, 9600 Gulfstream Blvd\, Englewood\, FL\, 34224\, United States
CATEGORIES:Adult,Sunday,Sunday School
END:VEVENT
BEGIN:VEVENT
DTSTART;TZID=America/New_York:20261213T103000
DTEND;TZID=America/New_York:20261213T113000
DTSTAMP:20260425T102138
CREATED:20240523T200811Z
LAST-MODIFIED:20240523T200813Z
UID:10003666-1797157800-1797161400@englewoodchristian.com
SUMMARY:Sunday Worship Service
DESCRIPTION:
URL:https://englewoodchristian.com/event/sunday-worship-service/2026-12-13/
LOCATION:Englewood Christian Church\, 9600 Gulfstream Blvd\, Englewood\, FL\, 34224\, United States
CATEGORIES:Sunday,Worship Service
END:VEVENT
BEGIN:VEVENT
DTSTART;TZID=America/New_York:20261213T103000
DTEND;TZID=America/New_York:20261213T113000
DTSTAMP:20260425T102138
CREATED:20240523T201009Z
LAST-MODIFIED:20240523T201010Z
UID:10003926-1797157800-1797161400@englewoodchristian.com
SUMMARY:Children's Church
DESCRIPTION:
URL:https://englewoodchristian.com/event/childrens-church-3-2/2026-12-13/
LOCATION:Englewood Christian Church\, 9600 Gulfstream Blvd\, Englewood\, FL\, 34224\, United States
CATEGORIES:Kids,Sunday
ORGANIZER;CN="Andrew Lawson":MAILTO:alawson@englewoodchristian.com
END:VEVENT
BEGIN:VEVENT
DTSTART;TZID=America/New_York:20261220T093000
DTEND;TZID=America/New_York:20261220T101500
DTSTAMP:20260425T102138
CREATED:20240523T201136Z
LAST-MODIFIED:20240523T201138Z
UID:10004187-1797759000-1797761700@englewoodchristian.com
SUMMARY:Adult Sunday School
DESCRIPTION:
URL:https://englewoodchristian.com/event/adult-sunday-school-2-2-2/2026-12-20/
LOCATION:Englewood Christian Church\, 9600 Gulfstream Blvd\, Englewood\, FL\, 34224\, United States
CATEGORIES:Adult,Sunday,Sunday School
END:VEVENT
BEGIN:VEVENT
DTSTART;TZID=America/New_York:20261220T103000
DTEND;TZID=America/New_York:20261220T113000
DTSTAMP:20260425T102138
CREATED:20240523T200811Z
LAST-MODIFIED:20240523T200813Z
UID:10003667-1797762600-1797766200@englewoodchristian.com
SUMMARY:Sunday Worship Service
DESCRIPTION:
URL:https://englewoodchristian.com/event/sunday-worship-service/2026-12-20/
LOCATION:Englewood Christian Church\, 9600 Gulfstream Blvd\, Englewood\, FL\, 34224\, United States
CATEGORIES:Sunday,Worship Service
END:VEVENT
BEGIN:VEVENT
DTSTART;TZID=America/New_York:20261220T103000
DTEND;TZID=America/New_York:20261220T113000
DTSTAMP:20260425T102138
CREATED:20240523T201009Z
LAST-MODIFIED:20240523T201010Z
UID:10003927-1797762600-1797766200@englewoodchristian.com
SUMMARY:Children's Church
DESCRIPTION:
URL:https://englewoodchristian.com/event/childrens-church-3-2/2026-12-20/
LOCATION:Englewood Christian Church\, 9600 Gulfstream Blvd\, Englewood\, FL\, 34224\, United States
CATEGORIES:Kids,Sunday
ORGANIZER;CN="Andrew Lawson":MAILTO:alawson@englewoodchristian.com
END:VEVENT
BEGIN:VEVENT
DTSTART;TZID=America/New_York:20261227T093000
DTEND;TZID=America/New_York:20261227T101500
DTSTAMP:20260425T102138
CREATED:20240523T201136Z
LAST-MODIFIED:20240523T201138Z
UID:10004188-1798363800-1798366500@englewoodchristian.com
SUMMARY:Adult Sunday School
DESCRIPTION:
URL:https://englewoodchristian.com/event/adult-sunday-school-2-2-2/2026-12-27/
LOCATION:Englewood Christian Church\, 9600 Gulfstream Blvd\, Englewood\, FL\, 34224\, United States
CATEGORIES:Adult,Sunday,Sunday School
END:VEVENT
BEGIN:VEVENT
DTSTART;TZID=America/New_York:20261227T103000
DTEND;TZID=America/New_York:20261227T113000
DTSTAMP:20260425T102138
CREATED:20240523T200811Z
LAST-MODIFIED:20240523T200813Z
UID:10003668-1798367400-1798371000@englewoodchristian.com
SUMMARY:Sunday Worship Service
DESCRIPTION:
URL:https://englewoodchristian.com/event/sunday-worship-service/2026-12-27/
LOCATION:Englewood Christian Church\, 9600 Gulfstream Blvd\, Englewood\, FL\, 34224\, United States
CATEGORIES:Sunday,Worship Service
END:VEVENT
BEGIN:VEVENT
DTSTART;TZID=America/New_York:20261227T103000
DTEND;TZID=America/New_York:20261227T113000
DTSTAMP:20260425T102138
CREATED:20240523T201009Z
LAST-MODIFIED:20240523T201010Z
UID:10003928-1798367400-1798371000@englewoodchristian.com
SUMMARY:Children's Church
DESCRIPTION:
URL:https://englewoodchristian.com/event/childrens-church-3-2/2026-12-27/
LOCATION:Englewood Christian Church\, 9600 Gulfstream Blvd\, Englewood\, FL\, 34224\, United States
CATEGORIES:Kids,Sunday
ORGANIZER;CN="Andrew Lawson":MAILTO:alawson@englewoodchristian.com
END:VEVENT
BEGIN:VEVENT
DTSTART;TZID=America/New_York:20270103T093000
DTEND;TZID=America/New_York:20270103T101500
DTSTAMP:20260425T102138
CREATED:20240523T201136Z
LAST-MODIFIED:20240523T201138Z
UID:10004189-1798968600-1798971300@englewoodchristian.com
SUMMARY:Adult Sunday School
DESCRIPTION:
URL:https://englewoodchristian.com/event/adult-sunday-school-2-2-2/2027-01-03/
LOCATION:Englewood Christian Church\, 9600 Gulfstream Blvd\, Englewood\, FL\, 34224\, United States
CATEGORIES:Adult,Sunday,Sunday School
END:VEVENT
BEGIN:VEVENT
DTSTART;TZID=America/New_York:20270103T103000
DTEND;TZID=America/New_York:20270103T113000
DTSTAMP:20260425T102138
CREATED:20240523T200811Z
LAST-MODIFIED:20240523T200813Z
UID:10003669-1798972200-1798975800@englewoodchristian.com
SUMMARY:Sunday Worship Service
DESCRIPTION:
URL:https://englewoodchristian.com/event/sunday-worship-service/2027-01-03/
LOCATION:Englewood Christian Church\, 9600 Gulfstream Blvd\, Englewood\, FL\, 34224\, United States
CATEGORIES:Sunday,Worship Service
END:VEVENT
END:VCALENDAR