BEGIN:VCALENDAR
VERSION:2.0
PRODID:-//Englewood Christian Church - ECPv6.15.20//NONSGML v1.0//EN
CALSCALE:GREGORIAN
METHOD:PUBLISH
X-WR-CALNAME:Englewood Christian Church
X-ORIGINAL-URL:https://englewoodchristian.com
X-WR-CALDESC:Events for Englewood Christian Church
REFRESH-INTERVAL;VALUE=DURATION:PT1H
X-Robots-Tag:noindex
X-PUBLISHED-TTL:PT1H
BEGIN:VTIMEZONE
TZID:America/New_York
BEGIN:DAYLIGHT
TZOFFSETFROM:-0500
TZOFFSETTO:-0400
TZNAME:EDT
DTSTART:20270314T070000
END:DAYLIGHT
BEGIN:STANDARD
TZOFFSETFROM:-0400
TZOFFSETTO:-0500
TZNAME:EST
DTSTART:20271107T060000
END:STANDARD
BEGIN:DAYLIGHT
TZOFFSETFROM:-0500
TZOFFSETTO:-0400
TZNAME:EDT
DTSTART:20280312T070000
END:DAYLIGHT
BEGIN:STANDARD
TZOFFSETFROM:-0400
TZOFFSETTO:-0500
TZNAME:EST
DTSTART:20281105T060000
END:STANDARD
BEGIN:DAYLIGHT
TZOFFSETFROM:-0500
TZOFFSETTO:-0400
TZNAME:EDT
DTSTART:20290311T070000
END:DAYLIGHT
BEGIN:STANDARD
TZOFFSETFROM:-0400
TZOFFSETTO:-0500
TZNAME:EST
DTSTART:20291104T060000
END:STANDARD
BEGIN:DAYLIGHT
TZOFFSETFROM:-0500
TZOFFSETTO:-0400
TZNAME:EDT
DTSTART:20300310T070000
END:DAYLIGHT
BEGIN:STANDARD
TZOFFSETFROM:-0400
TZOFFSETTO:-0500
TZNAME:EST
DTSTART:20301103T060000
END:STANDARD
END:VTIMEZONE
BEGIN:VEVENT
DTSTART;TZID=America/New_York:20281119T103000
DTEND;TZID=America/New_York:20281119T113000
DTSTAMP:20260425T063847
CREATED:20240523T201009Z
LAST-MODIFIED:20240523T201010Z
UID:10004027-1858242600-1858246200@englewoodchristian.com
SUMMARY:Children's Church
DESCRIPTION:
URL:https://englewoodchristian.com/event/childrens-church-3-2/2028-11-19/
LOCATION:Englewood Christian Church\, 9600 Gulfstream Blvd\, Englewood\, FL\, 34224\, United States
CATEGORIES:Kids,Sunday
ORGANIZER;CN="Andrew Lawson":MAILTO:alawson@englewoodchristian.com
END:VEVENT
BEGIN:VEVENT
DTSTART;TZID=America/New_York:20281126T093000
DTEND;TZID=America/New_York:20281126T101500
DTSTAMP:20260425T063847
CREATED:20240523T201136Z
LAST-MODIFIED:20240523T201138Z
UID:10004288-1858843800-1858846500@englewoodchristian.com
SUMMARY:Adult Sunday School
DESCRIPTION:
URL:https://englewoodchristian.com/event/adult-sunday-school-2-2-2/2028-11-26/
LOCATION:Englewood Christian Church\, 9600 Gulfstream Blvd\, Englewood\, FL\, 34224\, United States
CATEGORIES:Adult,Sunday,Sunday School
END:VEVENT
BEGIN:VEVENT
DTSTART;TZID=America/New_York:20281126T103000
DTEND;TZID=America/New_York:20281126T113000
DTSTAMP:20260425T063847
CREATED:20240523T200811Z
LAST-MODIFIED:20240523T200813Z
UID:10003768-1858847400-1858851000@englewoodchristian.com
SUMMARY:Sunday Worship Service
DESCRIPTION:
URL:https://englewoodchristian.com/event/sunday-worship-service/2028-11-26/
LOCATION:Englewood Christian Church\, 9600 Gulfstream Blvd\, Englewood\, FL\, 34224\, United States
CATEGORIES:Sunday,Worship Service
END:VEVENT
BEGIN:VEVENT
DTSTART;TZID=America/New_York:20281126T103000
DTEND;TZID=America/New_York:20281126T113000
DTSTAMP:20260425T063847
CREATED:20240523T201009Z
LAST-MODIFIED:20240523T201010Z
UID:10004028-1858847400-1858851000@englewoodchristian.com
SUMMARY:Children's Church
DESCRIPTION:
URL:https://englewoodchristian.com/event/childrens-church-3-2/2028-11-26/
LOCATION:Englewood Christian Church\, 9600 Gulfstream Blvd\, Englewood\, FL\, 34224\, United States
CATEGORIES:Kids,Sunday
ORGANIZER;CN="Andrew Lawson":MAILTO:alawson@englewoodchristian.com
END:VEVENT
BEGIN:VEVENT
DTSTART;TZID=America/New_York:20281203T093000
DTEND;TZID=America/New_York:20281203T101500
DTSTAMP:20260425T063847
CREATED:20240523T201136Z
LAST-MODIFIED:20240523T201138Z
UID:10004289-1859448600-1859451300@englewoodchristian.com
SUMMARY:Adult Sunday School
DESCRIPTION:
URL:https://englewoodchristian.com/event/adult-sunday-school-2-2-2/2028-12-03/
LOCATION:Englewood Christian Church\, 9600 Gulfstream Blvd\, Englewood\, FL\, 34224\, United States
CATEGORIES:Adult,Sunday,Sunday School
END:VEVENT
BEGIN:VEVENT
DTSTART;TZID=America/New_York:20281203T103000
DTEND;TZID=America/New_York:20281203T113000
DTSTAMP:20260425T063847
CREATED:20240523T200811Z
LAST-MODIFIED:20240523T200813Z
UID:10003769-1859452200-1859455800@englewoodchristian.com
SUMMARY:Sunday Worship Service
DESCRIPTION:
URL:https://englewoodchristian.com/event/sunday-worship-service/2028-12-03/
LOCATION:Englewood Christian Church\, 9600 Gulfstream Blvd\, Englewood\, FL\, 34224\, United States
CATEGORIES:Sunday,Worship Service
END:VEVENT
BEGIN:VEVENT
DTSTART;TZID=America/New_York:20281203T103000
DTEND;TZID=America/New_York:20281203T113000
DTSTAMP:20260425T063847
CREATED:20240523T201009Z
LAST-MODIFIED:20240523T201010Z
UID:10004029-1859452200-1859455800@englewoodchristian.com
SUMMARY:Children's Church
DESCRIPTION:
URL:https://englewoodchristian.com/event/childrens-church-3-2/2028-12-03/
LOCATION:Englewood Christian Church\, 9600 Gulfstream Blvd\, Englewood\, FL\, 34224\, United States
CATEGORIES:Kids,Sunday
ORGANIZER;CN="Andrew Lawson":MAILTO:alawson@englewoodchristian.com
END:VEVENT
BEGIN:VEVENT
DTSTART;TZID=America/New_York:20281210T093000
DTEND;TZID=America/New_York:20281210T101500
DTSTAMP:20260425T063847
CREATED:20240523T201136Z
LAST-MODIFIED:20240523T201138Z
UID:10004290-1860053400-1860056100@englewoodchristian.com
SUMMARY:Adult Sunday School
DESCRIPTION:
URL:https://englewoodchristian.com/event/adult-sunday-school-2-2-2/2028-12-10/
LOCATION:Englewood Christian Church\, 9600 Gulfstream Blvd\, Englewood\, FL\, 34224\, United States
CATEGORIES:Adult,Sunday,Sunday School
END:VEVENT
BEGIN:VEVENT
DTSTART;TZID=America/New_York:20281210T103000
DTEND;TZID=America/New_York:20281210T113000
DTSTAMP:20260425T063847
CREATED:20240523T200811Z
LAST-MODIFIED:20240523T200813Z
UID:10003770-1860057000-1860060600@englewoodchristian.com
SUMMARY:Sunday Worship Service
DESCRIPTION:
URL:https://englewoodchristian.com/event/sunday-worship-service/2028-12-10/
LOCATION:Englewood Christian Church\, 9600 Gulfstream Blvd\, Englewood\, FL\, 34224\, United States
CATEGORIES:Sunday,Worship Service
END:VEVENT
BEGIN:VEVENT
DTSTART;TZID=America/New_York:20281210T103000
DTEND;TZID=America/New_York:20281210T113000
DTSTAMP:20260425T063847
CREATED:20240523T201009Z
LAST-MODIFIED:20240523T201010Z
UID:10004030-1860057000-1860060600@englewoodchristian.com
SUMMARY:Children's Church
DESCRIPTION:
URL:https://englewoodchristian.com/event/childrens-church-3-2/2028-12-10/
LOCATION:Englewood Christian Church\, 9600 Gulfstream Blvd\, Englewood\, FL\, 34224\, United States
CATEGORIES:Kids,Sunday
ORGANIZER;CN="Andrew Lawson":MAILTO:alawson@englewoodchristian.com
END:VEVENT
BEGIN:VEVENT
DTSTART;TZID=America/New_York:20281217T093000
DTEND;TZID=America/New_York:20281217T101500
DTSTAMP:20260425T063847
CREATED:20240523T201136Z
LAST-MODIFIED:20240523T201138Z
UID:10004291-1860658200-1860660900@englewoodchristian.com
SUMMARY:Adult Sunday School
DESCRIPTION:
URL:https://englewoodchristian.com/event/adult-sunday-school-2-2-2/2028-12-17/
LOCATION:Englewood Christian Church\, 9600 Gulfstream Blvd\, Englewood\, FL\, 34224\, United States
CATEGORIES:Adult,Sunday,Sunday School
END:VEVENT
BEGIN:VEVENT
DTSTART;TZID=America/New_York:20281217T103000
DTEND;TZID=America/New_York:20281217T113000
DTSTAMP:20260425T063847
CREATED:20240523T200811Z
LAST-MODIFIED:20240523T200813Z
UID:10003771-1860661800-1860665400@englewoodchristian.com
SUMMARY:Sunday Worship Service
DESCRIPTION:
URL:https://englewoodchristian.com/event/sunday-worship-service/2028-12-17/
LOCATION:Englewood Christian Church\, 9600 Gulfstream Blvd\, Englewood\, FL\, 34224\, United States
CATEGORIES:Sunday,Worship Service
END:VEVENT
BEGIN:VEVENT
DTSTART;TZID=America/New_York:20281217T103000
DTEND;TZID=America/New_York:20281217T113000
DTSTAMP:20260425T063847
CREATED:20240523T201009Z
LAST-MODIFIED:20240523T201010Z
UID:10004031-1860661800-1860665400@englewoodchristian.com
SUMMARY:Children's Church
DESCRIPTION:
URL:https://englewoodchristian.com/event/childrens-church-3-2/2028-12-17/
LOCATION:Englewood Christian Church\, 9600 Gulfstream Blvd\, Englewood\, FL\, 34224\, United States
CATEGORIES:Kids,Sunday
ORGANIZER;CN="Andrew Lawson":MAILTO:alawson@englewoodchristian.com
END:VEVENT
BEGIN:VEVENT
DTSTART;TZID=America/New_York:20281224T093000
DTEND;TZID=America/New_York:20281224T101500
DTSTAMP:20260425T063847
CREATED:20240523T201136Z
LAST-MODIFIED:20240523T201138Z
UID:10004292-1861263000-1861265700@englewoodchristian.com
SUMMARY:Adult Sunday School
DESCRIPTION:
URL:https://englewoodchristian.com/event/adult-sunday-school-2-2-2/2028-12-24/
LOCATION:Englewood Christian Church\, 9600 Gulfstream Blvd\, Englewood\, FL\, 34224\, United States
CATEGORIES:Adult,Sunday,Sunday School
END:VEVENT
BEGIN:VEVENT
DTSTART;TZID=America/New_York:20281224T103000
DTEND;TZID=America/New_York:20281224T113000
DTSTAMP:20260425T063847
CREATED:20240523T200811Z
LAST-MODIFIED:20240523T200813Z
UID:10003772-1861266600-1861270200@englewoodchristian.com
SUMMARY:Sunday Worship Service
DESCRIPTION:
URL:https://englewoodchristian.com/event/sunday-worship-service/2028-12-24/
LOCATION:Englewood Christian Church\, 9600 Gulfstream Blvd\, Englewood\, FL\, 34224\, United States
CATEGORIES:Sunday,Worship Service
END:VEVENT
BEGIN:VEVENT
DTSTART;TZID=America/New_York:20281224T103000
DTEND;TZID=America/New_York:20281224T113000
DTSTAMP:20260425T063847
CREATED:20240523T201009Z
LAST-MODIFIED:20240523T201010Z
UID:10004032-1861266600-1861270200@englewoodchristian.com
SUMMARY:Children's Church
DESCRIPTION:
URL:https://englewoodchristian.com/event/childrens-church-3-2/2028-12-24/
LOCATION:Englewood Christian Church\, 9600 Gulfstream Blvd\, Englewood\, FL\, 34224\, United States
CATEGORIES:Kids,Sunday
ORGANIZER;CN="Andrew Lawson":MAILTO:alawson@englewoodchristian.com
END:VEVENT
BEGIN:VEVENT
DTSTART;TZID=America/New_York:20281231T093000
DTEND;TZID=America/New_York:20281231T101500
DTSTAMP:20260425T063847
CREATED:20240523T201136Z
LAST-MODIFIED:20240523T201138Z
UID:10004293-1861867800-1861870500@englewoodchristian.com
SUMMARY:Adult Sunday School
DESCRIPTION:
URL:https://englewoodchristian.com/event/adult-sunday-school-2-2-2/2028-12-31/
LOCATION:Englewood Christian Church\, 9600 Gulfstream Blvd\, Englewood\, FL\, 34224\, United States
CATEGORIES:Adult,Sunday,Sunday School
END:VEVENT
BEGIN:VEVENT
DTSTART;TZID=America/New_York:20281231T103000
DTEND;TZID=America/New_York:20281231T113000
DTSTAMP:20260425T063847
CREATED:20240523T200811Z
LAST-MODIFIED:20240523T200813Z
UID:10003773-1861871400-1861875000@englewoodchristian.com
SUMMARY:Sunday Worship Service
DESCRIPTION:
URL:https://englewoodchristian.com/event/sunday-worship-service/2028-12-31/
LOCATION:Englewood Christian Church\, 9600 Gulfstream Blvd\, Englewood\, FL\, 34224\, United States
CATEGORIES:Sunday,Worship Service
END:VEVENT
BEGIN:VEVENT
DTSTART;TZID=America/New_York:20281231T103000
DTEND;TZID=America/New_York:20281231T113000
DTSTAMP:20260425T063847
CREATED:20240523T201009Z
LAST-MODIFIED:20240523T201010Z
UID:10004033-1861871400-1861875000@englewoodchristian.com
SUMMARY:Children's Church
DESCRIPTION:
URL:https://englewoodchristian.com/event/childrens-church-3-2/2028-12-31/
LOCATION:Englewood Christian Church\, 9600 Gulfstream Blvd\, Englewood\, FL\, 34224\, United States
CATEGORIES:Kids,Sunday
ORGANIZER;CN="Andrew Lawson":MAILTO:alawson@englewoodchristian.com
END:VEVENT
BEGIN:VEVENT
DTSTART;TZID=America/New_York:20290107T093000
DTEND;TZID=America/New_York:20290107T101500
DTSTAMP:20260425T063847
CREATED:20240523T201136Z
LAST-MODIFIED:20240523T201138Z
UID:10004294-1862472600-1862475300@englewoodchristian.com
SUMMARY:Adult Sunday School
DESCRIPTION:
URL:https://englewoodchristian.com/event/adult-sunday-school-2-2-2/2029-01-07/
LOCATION:Englewood Christian Church\, 9600 Gulfstream Blvd\, Englewood\, FL\, 34224\, United States
CATEGORIES:Adult,Sunday,Sunday School
END:VEVENT
BEGIN:VEVENT
DTSTART;TZID=America/New_York:20290107T103000
DTEND;TZID=America/New_York:20290107T113000
DTSTAMP:20260425T063847
CREATED:20240523T200811Z
LAST-MODIFIED:20240523T200813Z
UID:10003774-1862476200-1862479800@englewoodchristian.com
SUMMARY:Sunday Worship Service
DESCRIPTION:
URL:https://englewoodchristian.com/event/sunday-worship-service/2029-01-07/
LOCATION:Englewood Christian Church\, 9600 Gulfstream Blvd\, Englewood\, FL\, 34224\, United States
CATEGORIES:Sunday,Worship Service
END:VEVENT
BEGIN:VEVENT
DTSTART;TZID=America/New_York:20290107T103000
DTEND;TZID=America/New_York:20290107T113000
DTSTAMP:20260425T063847
CREATED:20240523T201009Z
LAST-MODIFIED:20240523T201010Z
UID:10004034-1862476200-1862479800@englewoodchristian.com
SUMMARY:Children's Church
DESCRIPTION:
URL:https://englewoodchristian.com/event/childrens-church-3-2/2029-01-07/
LOCATION:Englewood Christian Church\, 9600 Gulfstream Blvd\, Englewood\, FL\, 34224\, United States
CATEGORIES:Kids,Sunday
ORGANIZER;CN="Andrew Lawson":MAILTO:alawson@englewoodchristian.com
END:VEVENT
BEGIN:VEVENT
DTSTART;TZID=America/New_York:20290114T093000
DTEND;TZID=America/New_York:20290114T101500
DTSTAMP:20260425T063847
CREATED:20240523T201136Z
LAST-MODIFIED:20240523T201138Z
UID:10004295-1863077400-1863080100@englewoodchristian.com
SUMMARY:Adult Sunday School
DESCRIPTION:
URL:https://englewoodchristian.com/event/adult-sunday-school-2-2-2/2029-01-14/
LOCATION:Englewood Christian Church\, 9600 Gulfstream Blvd\, Englewood\, FL\, 34224\, United States
CATEGORIES:Adult,Sunday,Sunday School
END:VEVENT
BEGIN:VEVENT
DTSTART;TZID=America/New_York:20290114T103000
DTEND;TZID=America/New_York:20290114T113000
DTSTAMP:20260425T063847
CREATED:20240523T200811Z
LAST-MODIFIED:20240523T200813Z
UID:10003775-1863081000-1863084600@englewoodchristian.com
SUMMARY:Sunday Worship Service
DESCRIPTION:
URL:https://englewoodchristian.com/event/sunday-worship-service/2029-01-14/
LOCATION:Englewood Christian Church\, 9600 Gulfstream Blvd\, Englewood\, FL\, 34224\, United States
CATEGORIES:Sunday,Worship Service
END:VEVENT
BEGIN:VEVENT
DTSTART;TZID=America/New_York:20290114T103000
DTEND;TZID=America/New_York:20290114T113000
DTSTAMP:20260425T063847
CREATED:20240523T201009Z
LAST-MODIFIED:20240523T201010Z
UID:10004035-1863081000-1863084600@englewoodchristian.com
SUMMARY:Children's Church
DESCRIPTION:
URL:https://englewoodchristian.com/event/childrens-church-3-2/2029-01-14/
LOCATION:Englewood Christian Church\, 9600 Gulfstream Blvd\, Englewood\, FL\, 34224\, United States
CATEGORIES:Kids,Sunday
ORGANIZER;CN="Andrew Lawson":MAILTO:alawson@englewoodchristian.com
END:VEVENT
BEGIN:VEVENT
DTSTART;TZID=America/New_York:20290121T093000
DTEND;TZID=America/New_York:20290121T101500
DTSTAMP:20260425T063847
CREATED:20240523T201136Z
LAST-MODIFIED:20240523T201138Z
UID:10004296-1863682200-1863684900@englewoodchristian.com
SUMMARY:Adult Sunday School
DESCRIPTION:
URL:https://englewoodchristian.com/event/adult-sunday-school-2-2-2/2029-01-21/
LOCATION:Englewood Christian Church\, 9600 Gulfstream Blvd\, Englewood\, FL\, 34224\, United States
CATEGORIES:Adult,Sunday,Sunday School
END:VEVENT
BEGIN:VEVENT
DTSTART;TZID=America/New_York:20290121T103000
DTEND;TZID=America/New_York:20290121T113000
DTSTAMP:20260425T063847
CREATED:20240523T200811Z
LAST-MODIFIED:20240523T200813Z
UID:10003776-1863685800-1863689400@englewoodchristian.com
SUMMARY:Sunday Worship Service
DESCRIPTION:
URL:https://englewoodchristian.com/event/sunday-worship-service/2029-01-21/
LOCATION:Englewood Christian Church\, 9600 Gulfstream Blvd\, Englewood\, FL\, 34224\, United States
CATEGORIES:Sunday,Worship Service
END:VEVENT
BEGIN:VEVENT
DTSTART;TZID=America/New_York:20290121T103000
DTEND;TZID=America/New_York:20290121T113000
DTSTAMP:20260425T063847
CREATED:20240523T201009Z
LAST-MODIFIED:20240523T201010Z
UID:10004036-1863685800-1863689400@englewoodchristian.com
SUMMARY:Children's Church
DESCRIPTION:
URL:https://englewoodchristian.com/event/childrens-church-3-2/2029-01-21/
LOCATION:Englewood Christian Church\, 9600 Gulfstream Blvd\, Englewood\, FL\, 34224\, United States
CATEGORIES:Kids,Sunday
ORGANIZER;CN="Andrew Lawson":MAILTO:alawson@englewoodchristian.com
END:VEVENT
BEGIN:VEVENT
DTSTART;TZID=America/New_York:20290128T093000
DTEND;TZID=America/New_York:20290128T101500
DTSTAMP:20260425T063847
CREATED:20240523T201136Z
LAST-MODIFIED:20240523T201138Z
UID:10004297-1864287000-1864289700@englewoodchristian.com
SUMMARY:Adult Sunday School
DESCRIPTION:
URL:https://englewoodchristian.com/event/adult-sunday-school-2-2-2/2029-01-28/
LOCATION:Englewood Christian Church\, 9600 Gulfstream Blvd\, Englewood\, FL\, 34224\, United States
CATEGORIES:Adult,Sunday,Sunday School
END:VEVENT
BEGIN:VEVENT
DTSTART;TZID=America/New_York:20290128T103000
DTEND;TZID=America/New_York:20290128T113000
DTSTAMP:20260425T063847
CREATED:20240523T200811Z
LAST-MODIFIED:20240523T200813Z
UID:10003777-1864290600-1864294200@englewoodchristian.com
SUMMARY:Sunday Worship Service
DESCRIPTION:
URL:https://englewoodchristian.com/event/sunday-worship-service/2029-01-28/
LOCATION:Englewood Christian Church\, 9600 Gulfstream Blvd\, Englewood\, FL\, 34224\, United States
CATEGORIES:Sunday,Worship Service
END:VEVENT
END:VCALENDAR