BEGIN:VCALENDAR
VERSION:2.0
PRODID:-//Englewood Christian Church - ECPv6.15.20//NONSGML v1.0//EN
CALSCALE:GREGORIAN
METHOD:PUBLISH
X-WR-CALNAME:Englewood Christian Church
X-ORIGINAL-URL:https://englewoodchristian.com
X-WR-CALDESC:Events for Englewood Christian Church
REFRESH-INTERVAL;VALUE=DURATION:PT1H
X-Robots-Tag:noindex
X-PUBLISHED-TTL:PT1H
BEGIN:VTIMEZONE
TZID:America/New_York
BEGIN:DAYLIGHT
TZOFFSETFROM:-0500
TZOFFSETTO:-0400
TZNAME:EDT
DTSTART:20270314T070000
END:DAYLIGHT
BEGIN:STANDARD
TZOFFSETFROM:-0400
TZOFFSETTO:-0500
TZNAME:EST
DTSTART:20271107T060000
END:STANDARD
BEGIN:DAYLIGHT
TZOFFSETFROM:-0500
TZOFFSETTO:-0400
TZNAME:EDT
DTSTART:20280312T070000
END:DAYLIGHT
BEGIN:STANDARD
TZOFFSETFROM:-0400
TZOFFSETTO:-0500
TZNAME:EST
DTSTART:20281105T060000
END:STANDARD
BEGIN:DAYLIGHT
TZOFFSETFROM:-0500
TZOFFSETTO:-0400
TZNAME:EDT
DTSTART:20290311T070000
END:DAYLIGHT
BEGIN:STANDARD
TZOFFSETFROM:-0400
TZOFFSETTO:-0500
TZNAME:EST
DTSTART:20291104T060000
END:STANDARD
END:VTIMEZONE
BEGIN:VEVENT
DTSTART;TZID=America/New_York:20280102T103000
DTEND;TZID=America/New_York:20280102T113000
DTSTAMP:20260424T061920
CREATED:20240523T201009Z
LAST-MODIFIED:20240523T201010Z
UID:10003981-1830421800-1830425400@englewoodchristian.com
SUMMARY:Children's Church
DESCRIPTION:
URL:https://englewoodchristian.com/event/childrens-church-3-2/2028-01-02/
LOCATION:Englewood Christian Church\, 9600 Gulfstream Blvd\, Englewood\, FL\, 34224\, United States
CATEGORIES:Kids,Sunday
ORGANIZER;CN="Andrew Lawson":MAILTO:alawson@englewoodchristian.com
END:VEVENT
BEGIN:VEVENT
DTSTART;TZID=America/New_York:20280109T093000
DTEND;TZID=America/New_York:20280109T101500
DTSTAMP:20260424T061920
CREATED:20240523T201136Z
LAST-MODIFIED:20240523T201138Z
UID:10004242-1831023000-1831025700@englewoodchristian.com
SUMMARY:Adult Sunday School
DESCRIPTION:
URL:https://englewoodchristian.com/event/adult-sunday-school-2-2-2/2028-01-09/
LOCATION:Englewood Christian Church\, 9600 Gulfstream Blvd\, Englewood\, FL\, 34224\, United States
CATEGORIES:Adult,Sunday,Sunday School
END:VEVENT
BEGIN:VEVENT
DTSTART;TZID=America/New_York:20280109T103000
DTEND;TZID=America/New_York:20280109T113000
DTSTAMP:20260424T061920
CREATED:20240523T200811Z
LAST-MODIFIED:20240523T200813Z
UID:10003722-1831026600-1831030200@englewoodchristian.com
SUMMARY:Sunday Worship Service
DESCRIPTION:
URL:https://englewoodchristian.com/event/sunday-worship-service/2028-01-09/
LOCATION:Englewood Christian Church\, 9600 Gulfstream Blvd\, Englewood\, FL\, 34224\, United States
CATEGORIES:Sunday,Worship Service
END:VEVENT
BEGIN:VEVENT
DTSTART;TZID=America/New_York:20280109T103000
DTEND;TZID=America/New_York:20280109T113000
DTSTAMP:20260424T061920
CREATED:20240523T201009Z
LAST-MODIFIED:20240523T201010Z
UID:10003982-1831026600-1831030200@englewoodchristian.com
SUMMARY:Children's Church
DESCRIPTION:
URL:https://englewoodchristian.com/event/childrens-church-3-2/2028-01-09/
LOCATION:Englewood Christian Church\, 9600 Gulfstream Blvd\, Englewood\, FL\, 34224\, United States
CATEGORIES:Kids,Sunday
ORGANIZER;CN="Andrew Lawson":MAILTO:alawson@englewoodchristian.com
END:VEVENT
BEGIN:VEVENT
DTSTART;TZID=America/New_York:20280116T093000
DTEND;TZID=America/New_York:20280116T101500
DTSTAMP:20260424T061920
CREATED:20240523T201136Z
LAST-MODIFIED:20240523T201138Z
UID:10004243-1831627800-1831630500@englewoodchristian.com
SUMMARY:Adult Sunday School
DESCRIPTION:
URL:https://englewoodchristian.com/event/adult-sunday-school-2-2-2/2028-01-16/
LOCATION:Englewood Christian Church\, 9600 Gulfstream Blvd\, Englewood\, FL\, 34224\, United States
CATEGORIES:Adult,Sunday,Sunday School
END:VEVENT
BEGIN:VEVENT
DTSTART;TZID=America/New_York:20280116T103000
DTEND;TZID=America/New_York:20280116T113000
DTSTAMP:20260424T061920
CREATED:20240523T200811Z
LAST-MODIFIED:20240523T200813Z
UID:10003723-1831631400-1831635000@englewoodchristian.com
SUMMARY:Sunday Worship Service
DESCRIPTION:
URL:https://englewoodchristian.com/event/sunday-worship-service/2028-01-16/
LOCATION:Englewood Christian Church\, 9600 Gulfstream Blvd\, Englewood\, FL\, 34224\, United States
CATEGORIES:Sunday,Worship Service
END:VEVENT
BEGIN:VEVENT
DTSTART;TZID=America/New_York:20280116T103000
DTEND;TZID=America/New_York:20280116T113000
DTSTAMP:20260424T061920
CREATED:20240523T201009Z
LAST-MODIFIED:20240523T201010Z
UID:10003983-1831631400-1831635000@englewoodchristian.com
SUMMARY:Children's Church
DESCRIPTION:
URL:https://englewoodchristian.com/event/childrens-church-3-2/2028-01-16/
LOCATION:Englewood Christian Church\, 9600 Gulfstream Blvd\, Englewood\, FL\, 34224\, United States
CATEGORIES:Kids,Sunday
ORGANIZER;CN="Andrew Lawson":MAILTO:alawson@englewoodchristian.com
END:VEVENT
BEGIN:VEVENT
DTSTART;TZID=America/New_York:20280123T093000
DTEND;TZID=America/New_York:20280123T101500
DTSTAMP:20260424T061920
CREATED:20240523T201136Z
LAST-MODIFIED:20240523T201138Z
UID:10004244-1832232600-1832235300@englewoodchristian.com
SUMMARY:Adult Sunday School
DESCRIPTION:
URL:https://englewoodchristian.com/event/adult-sunday-school-2-2-2/2028-01-23/
LOCATION:Englewood Christian Church\, 9600 Gulfstream Blvd\, Englewood\, FL\, 34224\, United States
CATEGORIES:Adult,Sunday,Sunday School
END:VEVENT
BEGIN:VEVENT
DTSTART;TZID=America/New_York:20280123T103000
DTEND;TZID=America/New_York:20280123T113000
DTSTAMP:20260424T061920
CREATED:20240523T200811Z
LAST-MODIFIED:20240523T200813Z
UID:10003724-1832236200-1832239800@englewoodchristian.com
SUMMARY:Sunday Worship Service
DESCRIPTION:
URL:https://englewoodchristian.com/event/sunday-worship-service/2028-01-23/
LOCATION:Englewood Christian Church\, 9600 Gulfstream Blvd\, Englewood\, FL\, 34224\, United States
CATEGORIES:Sunday,Worship Service
END:VEVENT
BEGIN:VEVENT
DTSTART;TZID=America/New_York:20280123T103000
DTEND;TZID=America/New_York:20280123T113000
DTSTAMP:20260424T061920
CREATED:20240523T201009Z
LAST-MODIFIED:20240523T201010Z
UID:10003984-1832236200-1832239800@englewoodchristian.com
SUMMARY:Children's Church
DESCRIPTION:
URL:https://englewoodchristian.com/event/childrens-church-3-2/2028-01-23/
LOCATION:Englewood Christian Church\, 9600 Gulfstream Blvd\, Englewood\, FL\, 34224\, United States
CATEGORIES:Kids,Sunday
ORGANIZER;CN="Andrew Lawson":MAILTO:alawson@englewoodchristian.com
END:VEVENT
BEGIN:VEVENT
DTSTART;TZID=America/New_York:20280130T093000
DTEND;TZID=America/New_York:20280130T101500
DTSTAMP:20260424T061920
CREATED:20240523T201136Z
LAST-MODIFIED:20240523T201138Z
UID:10004245-1832837400-1832840100@englewoodchristian.com
SUMMARY:Adult Sunday School
DESCRIPTION:
URL:https://englewoodchristian.com/event/adult-sunday-school-2-2-2/2028-01-30/
LOCATION:Englewood Christian Church\, 9600 Gulfstream Blvd\, Englewood\, FL\, 34224\, United States
CATEGORIES:Adult,Sunday,Sunday School
END:VEVENT
BEGIN:VEVENT
DTSTART;TZID=America/New_York:20280130T103000
DTEND;TZID=America/New_York:20280130T113000
DTSTAMP:20260424T061920
CREATED:20240523T200811Z
LAST-MODIFIED:20240523T200813Z
UID:10003725-1832841000-1832844600@englewoodchristian.com
SUMMARY:Sunday Worship Service
DESCRIPTION:
URL:https://englewoodchristian.com/event/sunday-worship-service/2028-01-30/
LOCATION:Englewood Christian Church\, 9600 Gulfstream Blvd\, Englewood\, FL\, 34224\, United States
CATEGORIES:Sunday,Worship Service
END:VEVENT
BEGIN:VEVENT
DTSTART;TZID=America/New_York:20280130T103000
DTEND;TZID=America/New_York:20280130T113000
DTSTAMP:20260424T061920
CREATED:20240523T201009Z
LAST-MODIFIED:20240523T201010Z
UID:10003985-1832841000-1832844600@englewoodchristian.com
SUMMARY:Children's Church
DESCRIPTION:
URL:https://englewoodchristian.com/event/childrens-church-3-2/2028-01-30/
LOCATION:Englewood Christian Church\, 9600 Gulfstream Blvd\, Englewood\, FL\, 34224\, United States
CATEGORIES:Kids,Sunday
ORGANIZER;CN="Andrew Lawson":MAILTO:alawson@englewoodchristian.com
END:VEVENT
BEGIN:VEVENT
DTSTART;TZID=America/New_York:20280206T093000
DTEND;TZID=America/New_York:20280206T101500
DTSTAMP:20260424T061920
CREATED:20240523T201136Z
LAST-MODIFIED:20240523T201138Z
UID:10004246-1833442200-1833444900@englewoodchristian.com
SUMMARY:Adult Sunday School
DESCRIPTION:
URL:https://englewoodchristian.com/event/adult-sunday-school-2-2-2/2028-02-06/
LOCATION:Englewood Christian Church\, 9600 Gulfstream Blvd\, Englewood\, FL\, 34224\, United States
CATEGORIES:Adult,Sunday,Sunday School
END:VEVENT
BEGIN:VEVENT
DTSTART;TZID=America/New_York:20280206T103000
DTEND;TZID=America/New_York:20280206T113000
DTSTAMP:20260424T061920
CREATED:20240523T200811Z
LAST-MODIFIED:20240523T200813Z
UID:10003726-1833445800-1833449400@englewoodchristian.com
SUMMARY:Sunday Worship Service
DESCRIPTION:
URL:https://englewoodchristian.com/event/sunday-worship-service/2028-02-06/
LOCATION:Englewood Christian Church\, 9600 Gulfstream Blvd\, Englewood\, FL\, 34224\, United States
CATEGORIES:Sunday,Worship Service
END:VEVENT
BEGIN:VEVENT
DTSTART;TZID=America/New_York:20280206T103000
DTEND;TZID=America/New_York:20280206T113000
DTSTAMP:20260424T061920
CREATED:20240523T201009Z
LAST-MODIFIED:20240523T201010Z
UID:10003986-1833445800-1833449400@englewoodchristian.com
SUMMARY:Children's Church
DESCRIPTION:
URL:https://englewoodchristian.com/event/childrens-church-3-2/2028-02-06/
LOCATION:Englewood Christian Church\, 9600 Gulfstream Blvd\, Englewood\, FL\, 34224\, United States
CATEGORIES:Kids,Sunday
ORGANIZER;CN="Andrew Lawson":MAILTO:alawson@englewoodchristian.com
END:VEVENT
BEGIN:VEVENT
DTSTART;TZID=America/New_York:20280213T093000
DTEND;TZID=America/New_York:20280213T101500
DTSTAMP:20260424T061920
CREATED:20240523T201136Z
LAST-MODIFIED:20240523T201138Z
UID:10004247-1834047000-1834049700@englewoodchristian.com
SUMMARY:Adult Sunday School
DESCRIPTION:
URL:https://englewoodchristian.com/event/adult-sunday-school-2-2-2/2028-02-13/
LOCATION:Englewood Christian Church\, 9600 Gulfstream Blvd\, Englewood\, FL\, 34224\, United States
CATEGORIES:Adult,Sunday,Sunday School
END:VEVENT
BEGIN:VEVENT
DTSTART;TZID=America/New_York:20280213T103000
DTEND;TZID=America/New_York:20280213T113000
DTSTAMP:20260424T061920
CREATED:20240523T200811Z
LAST-MODIFIED:20240523T200813Z
UID:10003727-1834050600-1834054200@englewoodchristian.com
SUMMARY:Sunday Worship Service
DESCRIPTION:
URL:https://englewoodchristian.com/event/sunday-worship-service/2028-02-13/
LOCATION:Englewood Christian Church\, 9600 Gulfstream Blvd\, Englewood\, FL\, 34224\, United States
CATEGORIES:Sunday,Worship Service
END:VEVENT
BEGIN:VEVENT
DTSTART;TZID=America/New_York:20280213T103000
DTEND;TZID=America/New_York:20280213T113000
DTSTAMP:20260424T061920
CREATED:20240523T201009Z
LAST-MODIFIED:20240523T201010Z
UID:10003987-1834050600-1834054200@englewoodchristian.com
SUMMARY:Children's Church
DESCRIPTION:
URL:https://englewoodchristian.com/event/childrens-church-3-2/2028-02-13/
LOCATION:Englewood Christian Church\, 9600 Gulfstream Blvd\, Englewood\, FL\, 34224\, United States
CATEGORIES:Kids,Sunday
ORGANIZER;CN="Andrew Lawson":MAILTO:alawson@englewoodchristian.com
END:VEVENT
BEGIN:VEVENT
DTSTART;TZID=America/New_York:20280220T093000
DTEND;TZID=America/New_York:20280220T101500
DTSTAMP:20260424T061920
CREATED:20240523T201136Z
LAST-MODIFIED:20240523T201138Z
UID:10004248-1834651800-1834654500@englewoodchristian.com
SUMMARY:Adult Sunday School
DESCRIPTION:
URL:https://englewoodchristian.com/event/adult-sunday-school-2-2-2/2028-02-20/
LOCATION:Englewood Christian Church\, 9600 Gulfstream Blvd\, Englewood\, FL\, 34224\, United States
CATEGORIES:Adult,Sunday,Sunday School
END:VEVENT
BEGIN:VEVENT
DTSTART;TZID=America/New_York:20280220T103000
DTEND;TZID=America/New_York:20280220T113000
DTSTAMP:20260424T061920
CREATED:20240523T200811Z
LAST-MODIFIED:20240523T200813Z
UID:10003728-1834655400-1834659000@englewoodchristian.com
SUMMARY:Sunday Worship Service
DESCRIPTION:
URL:https://englewoodchristian.com/event/sunday-worship-service/2028-02-20/
LOCATION:Englewood Christian Church\, 9600 Gulfstream Blvd\, Englewood\, FL\, 34224\, United States
CATEGORIES:Sunday,Worship Service
END:VEVENT
BEGIN:VEVENT
DTSTART;TZID=America/New_York:20280220T103000
DTEND;TZID=America/New_York:20280220T113000
DTSTAMP:20260424T061920
CREATED:20240523T201009Z
LAST-MODIFIED:20240523T201010Z
UID:10003988-1834655400-1834659000@englewoodchristian.com
SUMMARY:Children's Church
DESCRIPTION:
URL:https://englewoodchristian.com/event/childrens-church-3-2/2028-02-20/
LOCATION:Englewood Christian Church\, 9600 Gulfstream Blvd\, Englewood\, FL\, 34224\, United States
CATEGORIES:Kids,Sunday
ORGANIZER;CN="Andrew Lawson":MAILTO:alawson@englewoodchristian.com
END:VEVENT
BEGIN:VEVENT
DTSTART;TZID=America/New_York:20280227T093000
DTEND;TZID=America/New_York:20280227T101500
DTSTAMP:20260424T061920
CREATED:20240523T201136Z
LAST-MODIFIED:20240523T201138Z
UID:10004249-1835256600-1835259300@englewoodchristian.com
SUMMARY:Adult Sunday School
DESCRIPTION:
URL:https://englewoodchristian.com/event/adult-sunday-school-2-2-2/2028-02-27/
LOCATION:Englewood Christian Church\, 9600 Gulfstream Blvd\, Englewood\, FL\, 34224\, United States
CATEGORIES:Adult,Sunday,Sunday School
END:VEVENT
BEGIN:VEVENT
DTSTART;TZID=America/New_York:20280227T103000
DTEND;TZID=America/New_York:20280227T113000
DTSTAMP:20260424T061920
CREATED:20240523T200811Z
LAST-MODIFIED:20240523T200813Z
UID:10003729-1835260200-1835263800@englewoodchristian.com
SUMMARY:Sunday Worship Service
DESCRIPTION:
URL:https://englewoodchristian.com/event/sunday-worship-service/2028-02-27/
LOCATION:Englewood Christian Church\, 9600 Gulfstream Blvd\, Englewood\, FL\, 34224\, United States
CATEGORIES:Sunday,Worship Service
END:VEVENT
BEGIN:VEVENT
DTSTART;TZID=America/New_York:20280227T103000
DTEND;TZID=America/New_York:20280227T113000
DTSTAMP:20260424T061920
CREATED:20240523T201009Z
LAST-MODIFIED:20240523T201010Z
UID:10003989-1835260200-1835263800@englewoodchristian.com
SUMMARY:Children's Church
DESCRIPTION:
URL:https://englewoodchristian.com/event/childrens-church-3-2/2028-02-27/
LOCATION:Englewood Christian Church\, 9600 Gulfstream Blvd\, Englewood\, FL\, 34224\, United States
CATEGORIES:Kids,Sunday
ORGANIZER;CN="Andrew Lawson":MAILTO:alawson@englewoodchristian.com
END:VEVENT
BEGIN:VEVENT
DTSTART;TZID=America/New_York:20280305T093000
DTEND;TZID=America/New_York:20280305T101500
DTSTAMP:20260424T061920
CREATED:20240523T201136Z
LAST-MODIFIED:20240523T201138Z
UID:10004250-1835861400-1835864100@englewoodchristian.com
SUMMARY:Adult Sunday School
DESCRIPTION:
URL:https://englewoodchristian.com/event/adult-sunday-school-2-2-2/2028-03-05/
LOCATION:Englewood Christian Church\, 9600 Gulfstream Blvd\, Englewood\, FL\, 34224\, United States
CATEGORIES:Adult,Sunday,Sunday School
END:VEVENT
BEGIN:VEVENT
DTSTART;TZID=America/New_York:20280305T103000
DTEND;TZID=America/New_York:20280305T113000
DTSTAMP:20260424T061920
CREATED:20240523T200811Z
LAST-MODIFIED:20240523T200813Z
UID:10003730-1835865000-1835868600@englewoodchristian.com
SUMMARY:Sunday Worship Service
DESCRIPTION:
URL:https://englewoodchristian.com/event/sunday-worship-service/2028-03-05/
LOCATION:Englewood Christian Church\, 9600 Gulfstream Blvd\, Englewood\, FL\, 34224\, United States
CATEGORIES:Sunday,Worship Service
END:VEVENT
BEGIN:VEVENT
DTSTART;TZID=America/New_York:20280305T103000
DTEND;TZID=America/New_York:20280305T113000
DTSTAMP:20260424T061920
CREATED:20240523T201009Z
LAST-MODIFIED:20240523T201010Z
UID:10003990-1835865000-1835868600@englewoodchristian.com
SUMMARY:Children's Church
DESCRIPTION:
URL:https://englewoodchristian.com/event/childrens-church-3-2/2028-03-05/
LOCATION:Englewood Christian Church\, 9600 Gulfstream Blvd\, Englewood\, FL\, 34224\, United States
CATEGORIES:Kids,Sunday
ORGANIZER;CN="Andrew Lawson":MAILTO:alawson@englewoodchristian.com
END:VEVENT
BEGIN:VEVENT
DTSTART;TZID=America/New_York:20280312T093000
DTEND;TZID=America/New_York:20280312T101500
DTSTAMP:20260424T061920
CREATED:20240523T201136Z
LAST-MODIFIED:20240523T201138Z
UID:10004251-1836466200-1836468900@englewoodchristian.com
SUMMARY:Adult Sunday School
DESCRIPTION:
URL:https://englewoodchristian.com/event/adult-sunday-school-2-2-2/2028-03-12/
LOCATION:Englewood Christian Church\, 9600 Gulfstream Blvd\, Englewood\, FL\, 34224\, United States
CATEGORIES:Adult,Sunday,Sunday School
END:VEVENT
BEGIN:VEVENT
DTSTART;TZID=America/New_York:20280312T103000
DTEND;TZID=America/New_York:20280312T113000
DTSTAMP:20260424T061920
CREATED:20240523T200811Z
LAST-MODIFIED:20240523T200813Z
UID:10003731-1836469800-1836473400@englewoodchristian.com
SUMMARY:Sunday Worship Service
DESCRIPTION:
URL:https://englewoodchristian.com/event/sunday-worship-service/2028-03-12/
LOCATION:Englewood Christian Church\, 9600 Gulfstream Blvd\, Englewood\, FL\, 34224\, United States
CATEGORIES:Sunday,Worship Service
END:VEVENT
END:VCALENDAR