BEGIN:VCALENDAR
VERSION:2.0
PRODID:-//Englewood Christian Church - ECPv6.15.20//NONSGML v1.0//EN
CALSCALE:GREGORIAN
METHOD:PUBLISH
X-ORIGINAL-URL:https://englewoodchristian.com
X-WR-CALDESC:Events for Englewood Christian Church
REFRESH-INTERVAL;VALUE=DURATION:PT1H
X-Robots-Tag:noindex
X-PUBLISHED-TTL:PT1H
BEGIN:VTIMEZONE
TZID:America/New_York
BEGIN:DAYLIGHT
TZOFFSETFROM:-0500
TZOFFSETTO:-0400
TZNAME:EDT
DTSTART:20220313T070000
END:DAYLIGHT
BEGIN:STANDARD
TZOFFSETFROM:-0400
TZOFFSETTO:-0500
TZNAME:EST
DTSTART:20221106T060000
END:STANDARD
BEGIN:DAYLIGHT
TZOFFSETFROM:-0500
TZOFFSETTO:-0400
TZNAME:EDT
DTSTART:20230312T070000
END:DAYLIGHT
BEGIN:STANDARD
TZOFFSETFROM:-0400
TZOFFSETTO:-0500
TZNAME:EST
DTSTART:20231105T060000
END:STANDARD
BEGIN:DAYLIGHT
TZOFFSETFROM:-0500
TZOFFSETTO:-0400
TZNAME:EDT
DTSTART:20240310T070000
END:DAYLIGHT
BEGIN:STANDARD
TZOFFSETFROM:-0400
TZOFFSETTO:-0500
TZNAME:EST
DTSTART:20241103T060000
END:STANDARD
END:VTIMEZONE
BEGIN:VEVENT
DTSTART;TZID=America/New_York:20231029T104500
DTEND;TZID=America/New_York:20231029T114500
DTSTAMP:20260425T182523
CREATED:20231021T132727Z
LAST-MODIFIED:20231025T155201Z
UID:10000014-1698576300-1698579900@englewoodchristian.com
SUMMARY:Sunday Worship: Single Service
DESCRIPTION:On this day we will be having a single service only.  We are celebrating installing Tim Halloway as our fifth elder.  We are also installing new deacons (Jim Jackson\, Glen Onifrio\, Sean Daniels\, Jack Hawkins and Wayne Tipner).  We will have donuts and coffee at 10:00 am.
URL:https://englewoodchristian.com/event/sunday-worship-single-service/
LOCATION:Englewood Christian Church\, 9600 Gulfstream Blvd\, Englewood\, FL\, 34224\, United States
CATEGORIES:Sunday,Worship Service
ORGANIZER;CN="Jim Chandler":MAILTO:jchandler@englewoodchristian.com
END:VEVENT
BEGIN:VEVENT
DTSTART;TZID=America/New_York:20231029T104500
DTEND;TZID=America/New_York:20231029T114500
DTSTAMP:20260425T182523
CREATED:20231021T133037Z
LAST-MODIFIED:20231021T133037Z
UID:10000016-1698576300-1698579900@englewoodchristian.com
SUMMARY:Children's Church
DESCRIPTION:
URL:https://englewoodchristian.com/event/childrens-church-2/
LOCATION:Englewood Christian Church\, 9600 Gulfstream Blvd\, Englewood\, FL\, 34224\, United States
CATEGORIES:Kids,Sunday
ORGANIZER;CN="Andrew Lawson":MAILTO:alawson@englewoodchristian.com
END:VEVENT
END:VCALENDAR