BEGIN:VCALENDAR
VERSION:2.0
PRODID:-//Englewood Christian Church - ECPv6.15.20//NONSGML v1.0//EN
CALSCALE:GREGORIAN
METHOD:PUBLISH
X-WR-CALNAME:Englewood Christian Church
X-ORIGINAL-URL:https://englewoodchristian.com
X-WR-CALDESC:Events for Englewood Christian Church
REFRESH-INTERVAL;VALUE=DURATION:PT1H
X-Robots-Tag:noindex
X-PUBLISHED-TTL:PT1H
BEGIN:VTIMEZONE
TZID:America/New_York
BEGIN:DAYLIGHT
TZOFFSETFROM:-0500
TZOFFSETTO:-0400
TZNAME:EDT
DTSTART:20230312T070000
END:DAYLIGHT
BEGIN:STANDARD
TZOFFSETFROM:-0400
TZOFFSETTO:-0500
TZNAME:EST
DTSTART:20231105T060000
END:STANDARD
BEGIN:DAYLIGHT
TZOFFSETFROM:-0500
TZOFFSETTO:-0400
TZNAME:EDT
DTSTART:20240310T070000
END:DAYLIGHT
BEGIN:STANDARD
TZOFFSETFROM:-0400
TZOFFSETTO:-0500
TZNAME:EST
DTSTART:20241103T060000
END:STANDARD
BEGIN:DAYLIGHT
TZOFFSETFROM:-0500
TZOFFSETTO:-0400
TZNAME:EDT
DTSTART:20250309T070000
END:DAYLIGHT
BEGIN:STANDARD
TZOFFSETFROM:-0400
TZOFFSETTO:-0500
TZNAME:EST
DTSTART:20251102T060000
END:STANDARD
END:VTIMEZONE
BEGIN:VEVENT
DTSTART;TZID=America/New_York:20240407T090000
DTEND;TZID=America/New_York:20240407T100000
DTSTAMP:20260425T113629
CREATED:20231031T010201Z
LAST-MODIFIED:20231031T010201Z
UID:10000303-1712480400-1712484000@englewoodchristian.com
SUMMARY:Sunday Worship: First Service
DESCRIPTION:
URL:https://englewoodchristian.com/event/sunday-worship-first-service-2/2024-04-07/
LOCATION:Englewood Christian Church\, 9600 Gulfstream Blvd\, Englewood\, FL\, 34224\, United States
CATEGORIES:Sunday,Worship Service
END:VEVENT
BEGIN:VEVENT
DTSTART;TZID=America/New_York:20240407T090000
DTEND;TZID=America/New_York:20240407T100000
DTSTAMP:20260425T113629
CREATED:20231031T010458Z
LAST-MODIFIED:20240204T164143Z
UID:10002617-1712480400-1712484000@englewoodchristian.com
SUMMARY:Children's Church
DESCRIPTION:
URL:https://englewoodchristian.com/event/childrens-church-3/2024-04-07/
LOCATION:Englewood Christian Church\, 9600 Gulfstream Blvd\, Englewood\, FL\, 34224\, United States
CATEGORIES:Kids,Sunday
ORGANIZER;CN="Andrew Lawson":MAILTO:alawson@englewoodchristian.com
END:VEVENT
BEGIN:VEVENT
DTSTART;TZID=America/New_York:20240407T101000
DTEND;TZID=America/New_York:20240407T105000
DTSTAMP:20260425T113629
CREATED:20240204T164054Z
LAST-MODIFIED:20240204T164056Z
UID:10002343-1712484600-1712487000@englewoodchristian.com
SUMMARY:Adult Sunday School
DESCRIPTION:
URL:https://englewoodchristian.com/event/adult-sunday-school-2-2/2024-04-07/
LOCATION:Englewood Christian Church\, 9600 Gulfstream Blvd\, Englewood\, FL\, 34224\, United States
CATEGORIES:Adult,Sunday,Sunday School
END:VEVENT
BEGIN:VEVENT
DTSTART;TZID=America/New_York:20240407T110000
DTEND;TZID=America/New_York:20240407T120000
DTSTAMP:20260425T113629
CREATED:20240204T163913Z
LAST-MODIFIED:20240204T163915Z
UID:10002083-1712487600-1712491200@englewoodchristian.com
SUMMARY:Sunday Worship: Second Service
DESCRIPTION:
URL:https://englewoodchristian.com/event/sunday-worship-second-service-2-3/2024-04-07/
LOCATION:FL
CATEGORIES:Sunday,Worship Service
END:VEVENT
BEGIN:VEVENT
DTSTART;TZID=America/New_York:20240414T101000
DTEND;TZID=America/New_York:20240414T105000
DTSTAMP:20260425T113629
CREATED:20240204T164054Z
LAST-MODIFIED:20240204T164056Z
UID:10002344-1713089400-1713091800@englewoodchristian.com
SUMMARY:Adult Sunday School
DESCRIPTION:
URL:https://englewoodchristian.com/event/adult-sunday-school-2-2/2024-04-14/
LOCATION:Englewood Christian Church\, 9600 Gulfstream Blvd\, Englewood\, FL\, 34224\, United States
CATEGORIES:Adult,Sunday,Sunday School
END:VEVENT
BEGIN:VEVENT
DTSTART;TZID=America/New_York:20240414T110000
DTEND;TZID=America/New_York:20240414T120000
DTSTAMP:20260425T113629
CREATED:20240206T194403Z
LAST-MODIFIED:20240329T202625Z
UID:10002881-1713092400-1713096000@englewoodchristian.com
SUMMARY:Youth Takeover
DESCRIPTION:Join us on this most eventful Sunday morning as we experience a “YOUTH TAKEOVER”!  There’s no escape from this one.  This will be a combined service Sunday.  There will only be one service and it starts at 11 AM.  Sunday school will be meeting on this day at 10:10 AM.
URL:https://englewoodchristian.com/event/youth-takeover/
LOCATION:FL
CATEGORIES:Student,Sunday,Worship Service,Youth
ATTACH;FMTTYPE=image/jpeg:https://englewoodchristian.com/wp-content/uploads/2024/02/YouthTakeover.jpg
ORGANIZER;CN="Andrew Lawson":MAILTO:alawson@englewoodchristian.com
END:VEVENT
BEGIN:VEVENT
DTSTART;TZID=America/New_York:20240421T090000
DTEND;TZID=America/New_York:20240421T100000
DTSTAMP:20260425T113629
CREATED:20231031T010201Z
LAST-MODIFIED:20231031T010201Z
UID:10000305-1713690000-1713693600@englewoodchristian.com
SUMMARY:Sunday Worship: First Service
DESCRIPTION:
URL:https://englewoodchristian.com/event/sunday-worship-first-service-2/2024-04-21/
LOCATION:Englewood Christian Church\, 9600 Gulfstream Blvd\, Englewood\, FL\, 34224\, United States
CATEGORIES:Sunday,Worship Service
END:VEVENT
BEGIN:VEVENT
DTSTART;TZID=America/New_York:20240421T090000
DTEND;TZID=America/New_York:20240421T100000
DTSTAMP:20260425T113629
CREATED:20231031T010458Z
LAST-MODIFIED:20240204T164143Z
UID:10002619-1713690000-1713693600@englewoodchristian.com
SUMMARY:Children's Church
DESCRIPTION:
URL:https://englewoodchristian.com/event/childrens-church-3/2024-04-21/
LOCATION:Englewood Christian Church\, 9600 Gulfstream Blvd\, Englewood\, FL\, 34224\, United States
CATEGORIES:Kids,Sunday
ORGANIZER;CN="Andrew Lawson":MAILTO:alawson@englewoodchristian.com
END:VEVENT
BEGIN:VEVENT
DTSTART;TZID=America/New_York:20240421T101000
DTEND;TZID=America/New_York:20240421T105000
DTSTAMP:20260425T113629
CREATED:20240204T164054Z
LAST-MODIFIED:20240204T164056Z
UID:10002345-1713694200-1713696600@englewoodchristian.com
SUMMARY:Adult Sunday School
DESCRIPTION:
URL:https://englewoodchristian.com/event/adult-sunday-school-2-2/2024-04-21/
LOCATION:Englewood Christian Church\, 9600 Gulfstream Blvd\, Englewood\, FL\, 34224\, United States
CATEGORIES:Adult,Sunday,Sunday School
END:VEVENT
BEGIN:VEVENT
DTSTART;TZID=America/New_York:20240421T110000
DTEND;TZID=America/New_York:20240421T120000
DTSTAMP:20260425T113629
CREATED:20240204T163913Z
LAST-MODIFIED:20240204T163915Z
UID:10002085-1713697200-1713700800@englewoodchristian.com
SUMMARY:Sunday Worship: Second Service
DESCRIPTION:
URL:https://englewoodchristian.com/event/sunday-worship-second-service-2-3/2024-04-21/
LOCATION:FL
CATEGORIES:Sunday,Worship Service
END:VEVENT
BEGIN:VEVENT
DTSTART;TZID=America/New_York:20240428T090000
DTEND;TZID=America/New_York:20240428T100000
DTSTAMP:20260425T113629
CREATED:20231031T010201Z
LAST-MODIFIED:20231031T010201Z
UID:10000306-1714294800-1714298400@englewoodchristian.com
SUMMARY:Sunday Worship: First Service
DESCRIPTION:
URL:https://englewoodchristian.com/event/sunday-worship-first-service-2/2024-04-28/
LOCATION:Englewood Christian Church\, 9600 Gulfstream Blvd\, Englewood\, FL\, 34224\, United States
CATEGORIES:Sunday,Worship Service
END:VEVENT
BEGIN:VEVENT
DTSTART;TZID=America/New_York:20240428T090000
DTEND;TZID=America/New_York:20240428T100000
DTSTAMP:20260425T113629
CREATED:20231031T010458Z
LAST-MODIFIED:20240204T164143Z
UID:10002620-1714294800-1714298400@englewoodchristian.com
SUMMARY:Children's Church
DESCRIPTION:
URL:https://englewoodchristian.com/event/childrens-church-3/2024-04-28/
LOCATION:Englewood Christian Church\, 9600 Gulfstream Blvd\, Englewood\, FL\, 34224\, United States
CATEGORIES:Kids,Sunday
ORGANIZER;CN="Andrew Lawson":MAILTO:alawson@englewoodchristian.com
END:VEVENT
BEGIN:VEVENT
DTSTART;TZID=America/New_York:20240428T101000
DTEND;TZID=America/New_York:20240428T105000
DTSTAMP:20260425T113629
CREATED:20240204T164054Z
LAST-MODIFIED:20240204T164056Z
UID:10002346-1714299000-1714301400@englewoodchristian.com
SUMMARY:Adult Sunday School
DESCRIPTION:
URL:https://englewoodchristian.com/event/adult-sunday-school-2-2/2024-04-28/
LOCATION:Englewood Christian Church\, 9600 Gulfstream Blvd\, Englewood\, FL\, 34224\, United States
CATEGORIES:Adult,Sunday,Sunday School
END:VEVENT
BEGIN:VEVENT
DTSTART;TZID=America/New_York:20240428T110000
DTEND;TZID=America/New_York:20240428T120000
DTSTAMP:20260425T113629
CREATED:20240204T163913Z
LAST-MODIFIED:20240204T163915Z
UID:10002086-1714302000-1714305600@englewoodchristian.com
SUMMARY:Sunday Worship: Second Service
DESCRIPTION:
URL:https://englewoodchristian.com/event/sunday-worship-second-service-2-3/2024-04-28/
LOCATION:FL
CATEGORIES:Sunday,Worship Service
END:VEVENT
END:VCALENDAR