BEGIN:VCALENDAR
VERSION:2.0
PRODID:-//Englewood Christian Church - ECPv6.15.20//NONSGML v1.0//EN
CALSCALE:GREGORIAN
METHOD:PUBLISH
X-WR-CALNAME:Englewood Christian Church
X-ORIGINAL-URL:https://englewoodchristian.com
X-WR-CALDESC:Events for Englewood Christian Church
REFRESH-INTERVAL;VALUE=DURATION:PT1H
X-Robots-Tag:noindex
X-PUBLISHED-TTL:PT1H
BEGIN:VTIMEZONE
TZID:America/New_York
BEGIN:DAYLIGHT
TZOFFSETFROM:-0500
TZOFFSETTO:-0400
TZNAME:EDT
DTSTART:20230312T070000
END:DAYLIGHT
BEGIN:STANDARD
TZOFFSETFROM:-0400
TZOFFSETTO:-0500
TZNAME:EST
DTSTART:20231105T060000
END:STANDARD
BEGIN:DAYLIGHT
TZOFFSETFROM:-0500
TZOFFSETTO:-0400
TZNAME:EDT
DTSTART:20240310T070000
END:DAYLIGHT
BEGIN:STANDARD
TZOFFSETFROM:-0400
TZOFFSETTO:-0500
TZNAME:EST
DTSTART:20241103T060000
END:STANDARD
BEGIN:DAYLIGHT
TZOFFSETFROM:-0500
TZOFFSETTO:-0400
TZNAME:EDT
DTSTART:20250309T070000
END:DAYLIGHT
BEGIN:STANDARD
TZOFFSETFROM:-0400
TZOFFSETTO:-0500
TZNAME:EST
DTSTART:20251102T060000
END:STANDARD
END:VTIMEZONE
BEGIN:VEVENT
DTSTART;TZID=America/New_York:20240303T090000
DTEND;TZID=America/New_York:20240303T100000
DTSTAMP:20260425T113627
CREATED:20231031T010201Z
LAST-MODIFIED:20231031T010201Z
UID:10000298-1709456400-1709460000@englewoodchristian.com
SUMMARY:Sunday Worship: First Service
DESCRIPTION:
URL:https://englewoodchristian.com/event/sunday-worship-first-service-2/2024-03-03/
LOCATION:Englewood Christian Church\, 9600 Gulfstream Blvd\, Englewood\, FL\, 34224\, United States
CATEGORIES:Sunday,Worship Service
END:VEVENT
BEGIN:VEVENT
DTSTART;TZID=America/New_York:20240303T090000
DTEND;TZID=America/New_York:20240303T100000
DTSTAMP:20260425T113627
CREATED:20231031T010458Z
LAST-MODIFIED:20240204T164143Z
UID:10002612-1709456400-1709460000@englewoodchristian.com
SUMMARY:Children's Church
DESCRIPTION:
URL:https://englewoodchristian.com/event/childrens-church-3/2024-03-03/
LOCATION:Englewood Christian Church\, 9600 Gulfstream Blvd\, Englewood\, FL\, 34224\, United States
CATEGORIES:Kids,Sunday
ORGANIZER;CN="Andrew Lawson":MAILTO:alawson@englewoodchristian.com
END:VEVENT
BEGIN:VEVENT
DTSTART;TZID=America/New_York:20240303T101000
DTEND;TZID=America/New_York:20240303T105000
DTSTAMP:20260425T113627
CREATED:20240204T164054Z
LAST-MODIFIED:20240204T164056Z
UID:10002338-1709460600-1709463000@englewoodchristian.com
SUMMARY:Adult Sunday School
DESCRIPTION:
URL:https://englewoodchristian.com/event/adult-sunday-school-2-2/2024-03-03/
LOCATION:Englewood Christian Church\, 9600 Gulfstream Blvd\, Englewood\, FL\, 34224\, United States
CATEGORIES:Adult,Sunday,Sunday School
END:VEVENT
BEGIN:VEVENT
DTSTART;TZID=America/New_York:20240303T110000
DTEND;TZID=America/New_York:20240303T120000
DTSTAMP:20260425T113627
CREATED:20240204T163913Z
LAST-MODIFIED:20240204T163915Z
UID:10002078-1709463600-1709467200@englewoodchristian.com
SUMMARY:Sunday Worship: Second Service
DESCRIPTION:
URL:https://englewoodchristian.com/event/sunday-worship-second-service-2-3/2024-03-03/
LOCATION:FL
CATEGORIES:Sunday,Worship Service
END:VEVENT
BEGIN:VEVENT
DTSTART;TZID=America/New_York:20240310T090000
DTEND;TZID=America/New_York:20240310T100000
DTSTAMP:20260425T113627
CREATED:20231031T010201Z
LAST-MODIFIED:20231031T010201Z
UID:10000299-1710061200-1710064800@englewoodchristian.com
SUMMARY:Sunday Worship: First Service
DESCRIPTION:
URL:https://englewoodchristian.com/event/sunday-worship-first-service-2/2024-03-10/
LOCATION:Englewood Christian Church\, 9600 Gulfstream Blvd\, Englewood\, FL\, 34224\, United States
CATEGORIES:Sunday,Worship Service
END:VEVENT
BEGIN:VEVENT
DTSTART;TZID=America/New_York:20240310T090000
DTEND;TZID=America/New_York:20240310T100000
DTSTAMP:20260425T113627
CREATED:20231031T010458Z
LAST-MODIFIED:20240204T164143Z
UID:10002613-1710061200-1710064800@englewoodchristian.com
SUMMARY:Children's Church
DESCRIPTION:
URL:https://englewoodchristian.com/event/childrens-church-3/2024-03-10/
LOCATION:Englewood Christian Church\, 9600 Gulfstream Blvd\, Englewood\, FL\, 34224\, United States
CATEGORIES:Kids,Sunday
ORGANIZER;CN="Andrew Lawson":MAILTO:alawson@englewoodchristian.com
END:VEVENT
BEGIN:VEVENT
DTSTART;TZID=America/New_York:20240310T101000
DTEND;TZID=America/New_York:20240310T105000
DTSTAMP:20260425T113627
CREATED:20240204T164054Z
LAST-MODIFIED:20240204T164056Z
UID:10002339-1710065400-1710067800@englewoodchristian.com
SUMMARY:Adult Sunday School
DESCRIPTION:
URL:https://englewoodchristian.com/event/adult-sunday-school-2-2/2024-03-10/
LOCATION:Englewood Christian Church\, 9600 Gulfstream Blvd\, Englewood\, FL\, 34224\, United States
CATEGORIES:Adult,Sunday,Sunday School
END:VEVENT
BEGIN:VEVENT
DTSTART;TZID=America/New_York:20240310T110000
DTEND;TZID=America/New_York:20240310T120000
DTSTAMP:20260425T113627
CREATED:20240204T163913Z
LAST-MODIFIED:20240204T163915Z
UID:10002079-1710068400-1710072000@englewoodchristian.com
SUMMARY:Sunday Worship: Second Service
DESCRIPTION:
URL:https://englewoodchristian.com/event/sunday-worship-second-service-2-3/2024-03-10/
LOCATION:FL
CATEGORIES:Sunday,Worship Service
END:VEVENT
BEGIN:VEVENT
DTSTART;TZID=America/New_York:20240317T090000
DTEND;TZID=America/New_York:20240317T100000
DTSTAMP:20260425T113627
CREATED:20231031T010201Z
LAST-MODIFIED:20231031T010201Z
UID:10000300-1710666000-1710669600@englewoodchristian.com
SUMMARY:Sunday Worship: First Service
DESCRIPTION:
URL:https://englewoodchristian.com/event/sunday-worship-first-service-2/2024-03-17/
LOCATION:Englewood Christian Church\, 9600 Gulfstream Blvd\, Englewood\, FL\, 34224\, United States
CATEGORIES:Sunday,Worship Service
END:VEVENT
BEGIN:VEVENT
DTSTART;TZID=America/New_York:20240317T090000
DTEND;TZID=America/New_York:20240317T100000
DTSTAMP:20260425T113627
CREATED:20231031T010458Z
LAST-MODIFIED:20240204T164143Z
UID:10002614-1710666000-1710669600@englewoodchristian.com
SUMMARY:Children's Church
DESCRIPTION:
URL:https://englewoodchristian.com/event/childrens-church-3/2024-03-17/
LOCATION:Englewood Christian Church\, 9600 Gulfstream Blvd\, Englewood\, FL\, 34224\, United States
CATEGORIES:Kids,Sunday
ORGANIZER;CN="Andrew Lawson":MAILTO:alawson@englewoodchristian.com
END:VEVENT
BEGIN:VEVENT
DTSTART;TZID=America/New_York:20240317T101000
DTEND;TZID=America/New_York:20240317T105000
DTSTAMP:20260425T113627
CREATED:20240204T164054Z
LAST-MODIFIED:20240204T164056Z
UID:10002340-1710670200-1710672600@englewoodchristian.com
SUMMARY:Adult Sunday School
DESCRIPTION:
URL:https://englewoodchristian.com/event/adult-sunday-school-2-2/2024-03-17/
LOCATION:Englewood Christian Church\, 9600 Gulfstream Blvd\, Englewood\, FL\, 34224\, United States
CATEGORIES:Adult,Sunday,Sunday School
END:VEVENT
BEGIN:VEVENT
DTSTART;TZID=America/New_York:20240317T110000
DTEND;TZID=America/New_York:20240317T120000
DTSTAMP:20260425T113627
CREATED:20240204T163913Z
LAST-MODIFIED:20240204T163915Z
UID:10002080-1710673200-1710676800@englewoodchristian.com
SUMMARY:Sunday Worship: Second Service
DESCRIPTION:
URL:https://englewoodchristian.com/event/sunday-worship-second-service-2-3/2024-03-17/
LOCATION:FL
CATEGORIES:Sunday,Worship Service
END:VEVENT
BEGIN:VEVENT
DTSTART;TZID=America/New_York:20240324T090000
DTEND;TZID=America/New_York:20240324T100000
DTSTAMP:20260425T113627
CREATED:20231031T010201Z
LAST-MODIFIED:20231031T010201Z
UID:10000301-1711270800-1711274400@englewoodchristian.com
SUMMARY:Sunday Worship: First Service
DESCRIPTION:
URL:https://englewoodchristian.com/event/sunday-worship-first-service-2/2024-03-24/
LOCATION:Englewood Christian Church\, 9600 Gulfstream Blvd\, Englewood\, FL\, 34224\, United States
CATEGORIES:Sunday,Worship Service
END:VEVENT
BEGIN:VEVENT
DTSTART;TZID=America/New_York:20240324T090000
DTEND;TZID=America/New_York:20240324T100000
DTSTAMP:20260425T113627
CREATED:20231031T010458Z
LAST-MODIFIED:20240204T164143Z
UID:10002615-1711270800-1711274400@englewoodchristian.com
SUMMARY:Children's Church
DESCRIPTION:
URL:https://englewoodchristian.com/event/childrens-church-3/2024-03-24/
LOCATION:Englewood Christian Church\, 9600 Gulfstream Blvd\, Englewood\, FL\, 34224\, United States
CATEGORIES:Kids,Sunday
ORGANIZER;CN="Andrew Lawson":MAILTO:alawson@englewoodchristian.com
END:VEVENT
BEGIN:VEVENT
DTSTART;TZID=America/New_York:20240324T101000
DTEND;TZID=America/New_York:20240324T105000
DTSTAMP:20260425T113627
CREATED:20240204T164054Z
LAST-MODIFIED:20240204T164056Z
UID:10002341-1711275000-1711277400@englewoodchristian.com
SUMMARY:Adult Sunday School
DESCRIPTION:
URL:https://englewoodchristian.com/event/adult-sunday-school-2-2/2024-03-24/
LOCATION:Englewood Christian Church\, 9600 Gulfstream Blvd\, Englewood\, FL\, 34224\, United States
CATEGORIES:Adult,Sunday,Sunday School
END:VEVENT
BEGIN:VEVENT
DTSTART;TZID=America/New_York:20240324T110000
DTEND;TZID=America/New_York:20240324T120000
DTSTAMP:20260425T113627
CREATED:20240204T163913Z
LAST-MODIFIED:20240204T163915Z
UID:10002081-1711278000-1711281600@englewoodchristian.com
SUMMARY:Sunday Worship: Second Service
DESCRIPTION:
URL:https://englewoodchristian.com/event/sunday-worship-second-service-2-3/2024-03-24/
LOCATION:FL
CATEGORIES:Sunday,Worship Service
END:VEVENT
BEGIN:VEVENT
DTSTART;TZID=America/New_York:20240331T090000
DTEND;TZID=America/New_York:20240331T100000
DTSTAMP:20260425T113627
CREATED:20231031T010201Z
LAST-MODIFIED:20231031T010201Z
UID:10000302-1711875600-1711879200@englewoodchristian.com
SUMMARY:Sunday Worship: First Service
DESCRIPTION:
URL:https://englewoodchristian.com/event/sunday-worship-first-service-2/2024-03-31/
LOCATION:Englewood Christian Church\, 9600 Gulfstream Blvd\, Englewood\, FL\, 34224\, United States
CATEGORIES:Sunday,Worship Service
END:VEVENT
BEGIN:VEVENT
DTSTART;TZID=America/New_York:20240331T090000
DTEND;TZID=America/New_York:20240331T100000
DTSTAMP:20260425T113627
CREATED:20231031T010458Z
LAST-MODIFIED:20240204T164143Z
UID:10002616-1711875600-1711879200@englewoodchristian.com
SUMMARY:Children's Church
DESCRIPTION:
URL:https://englewoodchristian.com/event/childrens-church-3/2024-03-31/
LOCATION:Englewood Christian Church\, 9600 Gulfstream Blvd\, Englewood\, FL\, 34224\, United States
CATEGORIES:Kids,Sunday
ORGANIZER;CN="Andrew Lawson":MAILTO:alawson@englewoodchristian.com
END:VEVENT
BEGIN:VEVENT
DTSTART;TZID=America/New_York:20240331T101000
DTEND;TZID=America/New_York:20240331T105000
DTSTAMP:20260425T113627
CREATED:20240204T164054Z
LAST-MODIFIED:20240204T164056Z
UID:10002342-1711879800-1711882200@englewoodchristian.com
SUMMARY:Adult Sunday School
DESCRIPTION:
URL:https://englewoodchristian.com/event/adult-sunday-school-2-2/2024-03-31/
LOCATION:Englewood Christian Church\, 9600 Gulfstream Blvd\, Englewood\, FL\, 34224\, United States
CATEGORIES:Adult,Sunday,Sunday School
END:VEVENT
BEGIN:VEVENT
DTSTART;TZID=America/New_York:20240331T110000
DTEND;TZID=America/New_York:20240331T120000
DTSTAMP:20260425T113627
CREATED:20240204T163913Z
LAST-MODIFIED:20240204T163915Z
UID:10002082-1711882800-1711886400@englewoodchristian.com
SUMMARY:Sunday Worship: Second Service
DESCRIPTION:
URL:https://englewoodchristian.com/event/sunday-worship-second-service-2-3/2024-03-31/
LOCATION:FL
CATEGORIES:Sunday,Worship Service
END:VEVENT
END:VCALENDAR