BEGIN:VCALENDAR
VERSION:2.0
PRODID:-//Englewood Christian Church - ECPv6.15.20//NONSGML v1.0//EN
CALSCALE:GREGORIAN
METHOD:PUBLISH
X-WR-CALNAME:Englewood Christian Church
X-ORIGINAL-URL:https://englewoodchristian.com
X-WR-CALDESC:Events for Englewood Christian Church
REFRESH-INTERVAL;VALUE=DURATION:PT1H
X-Robots-Tag:noindex
X-PUBLISHED-TTL:PT1H
BEGIN:VTIMEZONE
TZID:America/New_York
BEGIN:DAYLIGHT
TZOFFSETFROM:-0500
TZOFFSETTO:-0400
TZNAME:EDT
DTSTART:20280312T070000
END:DAYLIGHT
BEGIN:STANDARD
TZOFFSETFROM:-0400
TZOFFSETTO:-0500
TZNAME:EST
DTSTART:20281105T060000
END:STANDARD
BEGIN:DAYLIGHT
TZOFFSETFROM:-0500
TZOFFSETTO:-0400
TZNAME:EDT
DTSTART:20290311T070000
END:DAYLIGHT
BEGIN:STANDARD
TZOFFSETFROM:-0400
TZOFFSETTO:-0500
TZNAME:EST
DTSTART:20291104T060000
END:STANDARD
BEGIN:DAYLIGHT
TZOFFSETFROM:-0500
TZOFFSETTO:-0400
TZNAME:EDT
DTSTART:20300310T070000
END:DAYLIGHT
BEGIN:STANDARD
TZOFFSETFROM:-0400
TZOFFSETTO:-0500
TZNAME:EST
DTSTART:20301103T060000
END:STANDARD
BEGIN:DAYLIGHT
TZOFFSETFROM:-0500
TZOFFSETTO:-0400
TZNAME:EDT
DTSTART:20310309T070000
END:DAYLIGHT
BEGIN:STANDARD
TZOFFSETFROM:-0400
TZOFFSETTO:-0500
TZNAME:EST
DTSTART:20311102T060000
END:STANDARD
END:VTIMEZONE
BEGIN:VEVENT
DTSTART;TZID=America/New_York:20290819T093000
DTEND;TZID=America/New_York:20290819T101500
DTSTAMP:20260424T070557
CREATED:20240523T201136Z
LAST-MODIFIED:20240523T201138Z
UID:10005692-1881826200-1881828900@englewoodchristian.com
SUMMARY:Adult Sunday School
DESCRIPTION:
URL:https://englewoodchristian.com/event/adult-sunday-school-2-2-2/2029-08-19/
LOCATION:Englewood Christian Church\, 9600 Gulfstream Blvd\, Englewood\, FL\, 34224\, United States
CATEGORIES:Adult,Sunday,Sunday School
END:VEVENT
BEGIN:VEVENT
DTSTART;TZID=America/New_York:20290826T093000
DTEND;TZID=America/New_York:20290826T101500
DTSTAMP:20260424T070557
CREATED:20240523T201136Z
LAST-MODIFIED:20240523T201138Z
UID:10005693-1882431000-1882433700@englewoodchristian.com
SUMMARY:Adult Sunday School
DESCRIPTION:
URL:https://englewoodchristian.com/event/adult-sunday-school-2-2-2/2029-08-26/
LOCATION:Englewood Christian Church\, 9600 Gulfstream Blvd\, Englewood\, FL\, 34224\, United States
CATEGORIES:Adult,Sunday,Sunday School
END:VEVENT
BEGIN:VEVENT
DTSTART;TZID=America/New_York:20290902T093000
DTEND;TZID=America/New_York:20290902T101500
DTSTAMP:20260424T070557
CREATED:20240523T201136Z
LAST-MODIFIED:20240523T201138Z
UID:10005694-1883035800-1883038500@englewoodchristian.com
SUMMARY:Adult Sunday School
DESCRIPTION:
URL:https://englewoodchristian.com/event/adult-sunday-school-2-2-2/2029-09-02/
LOCATION:Englewood Christian Church\, 9600 Gulfstream Blvd\, Englewood\, FL\, 34224\, United States
CATEGORIES:Adult,Sunday,Sunday School
END:VEVENT
BEGIN:VEVENT
DTSTART;TZID=America/New_York:20290909T093000
DTEND;TZID=America/New_York:20290909T101500
DTSTAMP:20260424T070557
CREATED:20240523T201136Z
LAST-MODIFIED:20240523T201138Z
UID:10005695-1883640600-1883643300@englewoodchristian.com
SUMMARY:Adult Sunday School
DESCRIPTION:
URL:https://englewoodchristian.com/event/adult-sunday-school-2-2-2/2029-09-09/
LOCATION:Englewood Christian Church\, 9600 Gulfstream Blvd\, Englewood\, FL\, 34224\, United States
CATEGORIES:Adult,Sunday,Sunday School
END:VEVENT
BEGIN:VEVENT
DTSTART;TZID=America/New_York:20290916T093000
DTEND;TZID=America/New_York:20290916T101500
DTSTAMP:20260424T070557
CREATED:20240523T201136Z
LAST-MODIFIED:20240523T201138Z
UID:10005696-1884245400-1884248100@englewoodchristian.com
SUMMARY:Adult Sunday School
DESCRIPTION:
URL:https://englewoodchristian.com/event/adult-sunday-school-2-2-2/2029-09-16/
LOCATION:Englewood Christian Church\, 9600 Gulfstream Blvd\, Englewood\, FL\, 34224\, United States
CATEGORIES:Adult,Sunday,Sunday School
END:VEVENT
BEGIN:VEVENT
DTSTART;TZID=America/New_York:20290923T093000
DTEND;TZID=America/New_York:20290923T101500
DTSTAMP:20260424T070557
CREATED:20240523T201136Z
LAST-MODIFIED:20240523T201138Z
UID:10005697-1884850200-1884852900@englewoodchristian.com
SUMMARY:Adult Sunday School
DESCRIPTION:
URL:https://englewoodchristian.com/event/adult-sunday-school-2-2-2/2029-09-23/
LOCATION:Englewood Christian Church\, 9600 Gulfstream Blvd\, Englewood\, FL\, 34224\, United States
CATEGORIES:Adult,Sunday,Sunday School
END:VEVENT
BEGIN:VEVENT
DTSTART;TZID=America/New_York:20290930T093000
DTEND;TZID=America/New_York:20290930T101500
DTSTAMP:20260424T070557
CREATED:20240523T201136Z
LAST-MODIFIED:20240523T201138Z
UID:10005698-1885455000-1885457700@englewoodchristian.com
SUMMARY:Adult Sunday School
DESCRIPTION:
URL:https://englewoodchristian.com/event/adult-sunday-school-2-2-2/2029-09-30/
LOCATION:Englewood Christian Church\, 9600 Gulfstream Blvd\, Englewood\, FL\, 34224\, United States
CATEGORIES:Adult,Sunday,Sunday School
END:VEVENT
BEGIN:VEVENT
DTSTART;TZID=America/New_York:20291007T093000
DTEND;TZID=America/New_York:20291007T101500
DTSTAMP:20260424T070557
CREATED:20240523T201136Z
LAST-MODIFIED:20240523T201138Z
UID:10005699-1886059800-1886062500@englewoodchristian.com
SUMMARY:Adult Sunday School
DESCRIPTION:
URL:https://englewoodchristian.com/event/adult-sunday-school-2-2-2/2029-10-07/
LOCATION:Englewood Christian Church\, 9600 Gulfstream Blvd\, Englewood\, FL\, 34224\, United States
CATEGORIES:Adult,Sunday,Sunday School
END:VEVENT
BEGIN:VEVENT
DTSTART;TZID=America/New_York:20291014T093000
DTEND;TZID=America/New_York:20291014T101500
DTSTAMP:20260424T070557
CREATED:20240523T201136Z
LAST-MODIFIED:20240523T201138Z
UID:10005700-1886664600-1886667300@englewoodchristian.com
SUMMARY:Adult Sunday School
DESCRIPTION:
URL:https://englewoodchristian.com/event/adult-sunday-school-2-2-2/2029-10-14/
LOCATION:Englewood Christian Church\, 9600 Gulfstream Blvd\, Englewood\, FL\, 34224\, United States
CATEGORIES:Adult,Sunday,Sunday School
END:VEVENT
BEGIN:VEVENT
DTSTART;TZID=America/New_York:20291021T093000
DTEND;TZID=America/New_York:20291021T101500
DTSTAMP:20260424T070557
CREATED:20240523T201136Z
LAST-MODIFIED:20240523T201138Z
UID:10005701-1887269400-1887272100@englewoodchristian.com
SUMMARY:Adult Sunday School
DESCRIPTION:
URL:https://englewoodchristian.com/event/adult-sunday-school-2-2-2/2029-10-21/
LOCATION:Englewood Christian Church\, 9600 Gulfstream Blvd\, Englewood\, FL\, 34224\, United States
CATEGORIES:Adult,Sunday,Sunday School
END:VEVENT
BEGIN:VEVENT
DTSTART;TZID=America/New_York:20291028T093000
DTEND;TZID=America/New_York:20291028T101500
DTSTAMP:20260424T070557
CREATED:20240523T201136Z
LAST-MODIFIED:20240523T201138Z
UID:10005702-1887874200-1887876900@englewoodchristian.com
SUMMARY:Adult Sunday School
DESCRIPTION:
URL:https://englewoodchristian.com/event/adult-sunday-school-2-2-2/2029-10-28/
LOCATION:Englewood Christian Church\, 9600 Gulfstream Blvd\, Englewood\, FL\, 34224\, United States
CATEGORIES:Adult,Sunday,Sunday School
END:VEVENT
BEGIN:VEVENT
DTSTART;TZID=America/New_York:20291104T093000
DTEND;TZID=America/New_York:20291104T101500
DTSTAMP:20260424T070557
CREATED:20240523T201136Z
LAST-MODIFIED:20240523T201138Z
UID:10005703-1888479000-1888481700@englewoodchristian.com
SUMMARY:Adult Sunday School
DESCRIPTION:
URL:https://englewoodchristian.com/event/adult-sunday-school-2-2-2/2029-11-04/
LOCATION:Englewood Christian Church\, 9600 Gulfstream Blvd\, Englewood\, FL\, 34224\, United States
CATEGORIES:Adult,Sunday,Sunday School
END:VEVENT
BEGIN:VEVENT
DTSTART;TZID=America/New_York:20291111T093000
DTEND;TZID=America/New_York:20291111T101500
DTSTAMP:20260424T070557
CREATED:20240523T201136Z
LAST-MODIFIED:20240523T201138Z
UID:10005704-1889083800-1889086500@englewoodchristian.com
SUMMARY:Adult Sunday School
DESCRIPTION:
URL:https://englewoodchristian.com/event/adult-sunday-school-2-2-2/2029-11-11/
LOCATION:Englewood Christian Church\, 9600 Gulfstream Blvd\, Englewood\, FL\, 34224\, United States
CATEGORIES:Adult,Sunday,Sunday School
END:VEVENT
BEGIN:VEVENT
DTSTART;TZID=America/New_York:20291118T093000
DTEND;TZID=America/New_York:20291118T101500
DTSTAMP:20260424T070557
CREATED:20240523T201136Z
LAST-MODIFIED:20240523T201138Z
UID:10005705-1889688600-1889691300@englewoodchristian.com
SUMMARY:Adult Sunday School
DESCRIPTION:
URL:https://englewoodchristian.com/event/adult-sunday-school-2-2-2/2029-11-18/
LOCATION:Englewood Christian Church\, 9600 Gulfstream Blvd\, Englewood\, FL\, 34224\, United States
CATEGORIES:Adult,Sunday,Sunday School
END:VEVENT
BEGIN:VEVENT
DTSTART;TZID=America/New_York:20291125T093000
DTEND;TZID=America/New_York:20291125T101500
DTSTAMP:20260424T070557
CREATED:20240523T201136Z
LAST-MODIFIED:20240523T201138Z
UID:10005706-1890293400-1890296100@englewoodchristian.com
SUMMARY:Adult Sunday School
DESCRIPTION:
URL:https://englewoodchristian.com/event/adult-sunday-school-2-2-2/2029-11-25/
LOCATION:Englewood Christian Church\, 9600 Gulfstream Blvd\, Englewood\, FL\, 34224\, United States
CATEGORIES:Adult,Sunday,Sunday School
END:VEVENT
BEGIN:VEVENT
DTSTART;TZID=America/New_York:20291202T093000
DTEND;TZID=America/New_York:20291202T101500
DTSTAMP:20260424T070557
CREATED:20240523T201136Z
LAST-MODIFIED:20240523T201138Z
UID:10005707-1890898200-1890900900@englewoodchristian.com
SUMMARY:Adult Sunday School
DESCRIPTION:
URL:https://englewoodchristian.com/event/adult-sunday-school-2-2-2/2029-12-02/
LOCATION:Englewood Christian Church\, 9600 Gulfstream Blvd\, Englewood\, FL\, 34224\, United States
CATEGORIES:Adult,Sunday,Sunday School
END:VEVENT
BEGIN:VEVENT
DTSTART;TZID=America/New_York:20291209T093000
DTEND;TZID=America/New_York:20291209T101500
DTSTAMP:20260424T070557
CREATED:20240523T201136Z
LAST-MODIFIED:20240523T201138Z
UID:10005708-1891503000-1891505700@englewoodchristian.com
SUMMARY:Adult Sunday School
DESCRIPTION:
URL:https://englewoodchristian.com/event/adult-sunday-school-2-2-2/2029-12-09/
LOCATION:Englewood Christian Church\, 9600 Gulfstream Blvd\, Englewood\, FL\, 34224\, United States
CATEGORIES:Adult,Sunday,Sunday School
END:VEVENT
BEGIN:VEVENT
DTSTART;TZID=America/New_York:20291216T093000
DTEND;TZID=America/New_York:20291216T101500
DTSTAMP:20260424T070557
CREATED:20240523T201136Z
LAST-MODIFIED:20240523T201138Z
UID:10005709-1892107800-1892110500@englewoodchristian.com
SUMMARY:Adult Sunday School
DESCRIPTION:
URL:https://englewoodchristian.com/event/adult-sunday-school-2-2-2/2029-12-16/
LOCATION:Englewood Christian Church\, 9600 Gulfstream Blvd\, Englewood\, FL\, 34224\, United States
CATEGORIES:Adult,Sunday,Sunday School
END:VEVENT
BEGIN:VEVENT
DTSTART;TZID=America/New_York:20291223T093000
DTEND;TZID=America/New_York:20291223T101500
DTSTAMP:20260424T070557
CREATED:20240523T201136Z
LAST-MODIFIED:20240523T201138Z
UID:10005710-1892712600-1892715300@englewoodchristian.com
SUMMARY:Adult Sunday School
DESCRIPTION:
URL:https://englewoodchristian.com/event/adult-sunday-school-2-2-2/2029-12-23/
LOCATION:Englewood Christian Church\, 9600 Gulfstream Blvd\, Englewood\, FL\, 34224\, United States
CATEGORIES:Adult,Sunday,Sunday School
END:VEVENT
BEGIN:VEVENT
DTSTART;TZID=America/New_York:20291230T093000
DTEND;TZID=America/New_York:20291230T101500
DTSTAMP:20260424T070557
CREATED:20240523T201136Z
LAST-MODIFIED:20240523T201138Z
UID:10005711-1893317400-1893320100@englewoodchristian.com
SUMMARY:Adult Sunday School
DESCRIPTION:
URL:https://englewoodchristian.com/event/adult-sunday-school-2-2-2/2029-12-30/
LOCATION:Englewood Christian Church\, 9600 Gulfstream Blvd\, Englewood\, FL\, 34224\, United States
CATEGORIES:Adult,Sunday,Sunday School
END:VEVENT
BEGIN:VEVENT
DTSTART;TZID=America/New_York:20300106T093000
DTEND;TZID=America/New_York:20300106T101500
DTSTAMP:20260424T070557
CREATED:20240523T201136Z
LAST-MODIFIED:20240523T201138Z
UID:10005712-1893922200-1893924900@englewoodchristian.com
SUMMARY:Adult Sunday School
DESCRIPTION:
URL:https://englewoodchristian.com/event/adult-sunday-school-2-2-2/2030-01-06/
LOCATION:Englewood Christian Church\, 9600 Gulfstream Blvd\, Englewood\, FL\, 34224\, United States
CATEGORIES:Adult,Sunday,Sunday School
END:VEVENT
BEGIN:VEVENT
DTSTART;TZID=America/New_York:20300113T093000
DTEND;TZID=America/New_York:20300113T101500
DTSTAMP:20260424T070557
CREATED:20240523T201136Z
LAST-MODIFIED:20240523T201138Z
UID:10005713-1894527000-1894529700@englewoodchristian.com
SUMMARY:Adult Sunday School
DESCRIPTION:
URL:https://englewoodchristian.com/event/adult-sunday-school-2-2-2/2030-01-13/
LOCATION:Englewood Christian Church\, 9600 Gulfstream Blvd\, Englewood\, FL\, 34224\, United States
CATEGORIES:Adult,Sunday,Sunday School
END:VEVENT
BEGIN:VEVENT
DTSTART;TZID=America/New_York:20300120T093000
DTEND;TZID=America/New_York:20300120T101500
DTSTAMP:20260424T070557
CREATED:20240523T201136Z
LAST-MODIFIED:20240523T201138Z
UID:10005714-1895131800-1895134500@englewoodchristian.com
SUMMARY:Adult Sunday School
DESCRIPTION:
URL:https://englewoodchristian.com/event/adult-sunday-school-2-2-2/2030-01-20/
LOCATION:Englewood Christian Church\, 9600 Gulfstream Blvd\, Englewood\, FL\, 34224\, United States
CATEGORIES:Adult,Sunday,Sunday School
END:VEVENT
BEGIN:VEVENT
DTSTART;TZID=America/New_York:20300127T093000
DTEND;TZID=America/New_York:20300127T101500
DTSTAMP:20260424T070557
CREATED:20240523T201136Z
LAST-MODIFIED:20240523T201138Z
UID:10005715-1895736600-1895739300@englewoodchristian.com
SUMMARY:Adult Sunday School
DESCRIPTION:
URL:https://englewoodchristian.com/event/adult-sunday-school-2-2-2/2030-01-27/
LOCATION:Englewood Christian Church\, 9600 Gulfstream Blvd\, Englewood\, FL\, 34224\, United States
CATEGORIES:Adult,Sunday,Sunday School
END:VEVENT
BEGIN:VEVENT
DTSTART;TZID=America/New_York:20300203T093000
DTEND;TZID=America/New_York:20300203T101500
DTSTAMP:20260424T070557
CREATED:20240523T201136Z
LAST-MODIFIED:20240523T201138Z
UID:10005716-1896341400-1896344100@englewoodchristian.com
SUMMARY:Adult Sunday School
DESCRIPTION:
URL:https://englewoodchristian.com/event/adult-sunday-school-2-2-2/2030-02-03/
LOCATION:Englewood Christian Church\, 9600 Gulfstream Blvd\, Englewood\, FL\, 34224\, United States
CATEGORIES:Adult,Sunday,Sunday School
END:VEVENT
BEGIN:VEVENT
DTSTART;TZID=America/New_York:20300210T093000
DTEND;TZID=America/New_York:20300210T101500
DTSTAMP:20260424T070557
CREATED:20240523T201136Z
LAST-MODIFIED:20240523T201138Z
UID:10005717-1896946200-1896948900@englewoodchristian.com
SUMMARY:Adult Sunday School
DESCRIPTION:
URL:https://englewoodchristian.com/event/adult-sunday-school-2-2-2/2030-02-10/
LOCATION:Englewood Christian Church\, 9600 Gulfstream Blvd\, Englewood\, FL\, 34224\, United States
CATEGORIES:Adult,Sunday,Sunday School
END:VEVENT
BEGIN:VEVENT
DTSTART;TZID=America/New_York:20300217T093000
DTEND;TZID=America/New_York:20300217T101500
DTSTAMP:20260424T070557
CREATED:20240523T201136Z
LAST-MODIFIED:20240523T201138Z
UID:10005718-1897551000-1897553700@englewoodchristian.com
SUMMARY:Adult Sunday School
DESCRIPTION:
URL:https://englewoodchristian.com/event/adult-sunday-school-2-2-2/2030-02-17/
LOCATION:Englewood Christian Church\, 9600 Gulfstream Blvd\, Englewood\, FL\, 34224\, United States
CATEGORIES:Adult,Sunday,Sunday School
END:VEVENT
BEGIN:VEVENT
DTSTART;TZID=America/New_York:20300224T093000
DTEND;TZID=America/New_York:20300224T101500
DTSTAMP:20260424T070557
CREATED:20240523T201136Z
LAST-MODIFIED:20240523T201138Z
UID:10005719-1898155800-1898158500@englewoodchristian.com
SUMMARY:Adult Sunday School
DESCRIPTION:
URL:https://englewoodchristian.com/event/adult-sunday-school-2-2-2/2030-02-24/
LOCATION:Englewood Christian Church\, 9600 Gulfstream Blvd\, Englewood\, FL\, 34224\, United States
CATEGORIES:Adult,Sunday,Sunday School
END:VEVENT
BEGIN:VEVENT
DTSTART;TZID=America/New_York:20300303T093000
DTEND;TZID=America/New_York:20300303T101500
DTSTAMP:20260424T070557
CREATED:20240523T201136Z
LAST-MODIFIED:20240523T201138Z
UID:10005720-1898760600-1898763300@englewoodchristian.com
SUMMARY:Adult Sunday School
DESCRIPTION:
URL:https://englewoodchristian.com/event/adult-sunday-school-2-2-2/2030-03-03/
LOCATION:Englewood Christian Church\, 9600 Gulfstream Blvd\, Englewood\, FL\, 34224\, United States
CATEGORIES:Adult,Sunday,Sunday School
END:VEVENT
BEGIN:VEVENT
DTSTART;TZID=America/New_York:20300310T093000
DTEND;TZID=America/New_York:20300310T101500
DTSTAMP:20260424T070557
CREATED:20240523T201136Z
LAST-MODIFIED:20240523T201138Z
UID:10005721-1899365400-1899368100@englewoodchristian.com
SUMMARY:Adult Sunday School
DESCRIPTION:
URL:https://englewoodchristian.com/event/adult-sunday-school-2-2-2/2030-03-10/
LOCATION:Englewood Christian Church\, 9600 Gulfstream Blvd\, Englewood\, FL\, 34224\, United States
CATEGORIES:Adult,Sunday,Sunday School
END:VEVENT
END:VCALENDAR