BEGIN:VCALENDAR
VERSION:2.0
PRODID:-//Englewood Christian Church - ECPv6.15.20//NONSGML v1.0//EN
CALSCALE:GREGORIAN
METHOD:PUBLISH
X-WR-CALNAME:Englewood Christian Church
X-ORIGINAL-URL:https://englewoodchristian.com
X-WR-CALDESC:Events for Englewood Christian Church
REFRESH-INTERVAL;VALUE=DURATION:PT1H
X-Robots-Tag:noindex
X-PUBLISHED-TTL:PT1H
BEGIN:VTIMEZONE
TZID:America/New_York
BEGIN:DAYLIGHT
TZOFFSETFROM:-0500
TZOFFSETTO:-0400
TZNAME:EDT
DTSTART:20220313T070000
END:DAYLIGHT
BEGIN:STANDARD
TZOFFSETFROM:-0400
TZOFFSETTO:-0500
TZNAME:EST
DTSTART:20221106T060000
END:STANDARD
BEGIN:DAYLIGHT
TZOFFSETFROM:-0500
TZOFFSETTO:-0400
TZNAME:EDT
DTSTART:20230312T070000
END:DAYLIGHT
BEGIN:STANDARD
TZOFFSETFROM:-0400
TZOFFSETTO:-0500
TZNAME:EST
DTSTART:20231105T060000
END:STANDARD
BEGIN:DAYLIGHT
TZOFFSETFROM:-0500
TZOFFSETTO:-0400
TZNAME:EDT
DTSTART:20240310T070000
END:DAYLIGHT
BEGIN:STANDARD
TZOFFSETFROM:-0400
TZOFFSETTO:-0500
TZNAME:EST
DTSTART:20241103T060000
END:STANDARD
BEGIN:DAYLIGHT
TZOFFSETFROM:-0500
TZOFFSETTO:-0400
TZNAME:EDT
DTSTART:20250309T070000
END:DAYLIGHT
BEGIN:STANDARD
TZOFFSETFROM:-0400
TZOFFSETTO:-0500
TZNAME:EST
DTSTART:20251102T060000
END:STANDARD
END:VTIMEZONE
BEGIN:VEVENT
DTSTART;TZID=America/New_York:20241112T180000
DTEND;TZID=America/New_York:20241112T190000
DTSTAMP:20260424T011828
CREATED:20240903T165827Z
LAST-MODIFIED:20240903T165828Z
UID:10005129-1731434400-1731438000@englewoodchristian.com
SUMMARY:Forward Student Ministry
DESCRIPTION:
URL:https://englewoodchristian.com/event/forward-student-ministry-6-2-2/2024-11-12/
CATEGORIES:Student,Teens,Youth
ATTACH;FMTTYPE=image/jpeg:https://englewoodchristian.com/wp-content/uploads/2023/10/Forward_Logo_Blue.jpg
ORGANIZER;CN="Andrew Lawson":MAILTO:alawson@englewoodchristian.com
END:VEVENT
BEGIN:VEVENT
DTSTART;TZID=America/New_York:20241105T180000
DTEND;TZID=America/New_York:20241105T190000
DTSTAMP:20260424T011828
CREATED:20240903T165827Z
LAST-MODIFIED:20240903T165828Z
UID:10005128-1730829600-1730833200@englewoodchristian.com
SUMMARY:Forward Student Ministry
DESCRIPTION:
URL:https://englewoodchristian.com/event/forward-student-ministry-6-2-2/2024-11-05/
CATEGORIES:Student,Teens,Youth
ATTACH;FMTTYPE=image/jpeg:https://englewoodchristian.com/wp-content/uploads/2023/10/Forward_Logo_Blue.jpg
ORGANIZER;CN="Andrew Lawson":MAILTO:alawson@englewoodchristian.com
END:VEVENT
BEGIN:VEVENT
DTSTART;TZID=America/New_York:20241029T180000
DTEND;TZID=America/New_York:20241029T190000
DTSTAMP:20260424T011828
CREATED:20240903T165827Z
LAST-MODIFIED:20240903T165828Z
UID:10005127-1730224800-1730228400@englewoodchristian.com
SUMMARY:Forward Student Ministry
DESCRIPTION:
URL:https://englewoodchristian.com/event/forward-student-ministry-6-2-2/2024-10-29/
CATEGORIES:Student,Teens,Youth
ATTACH;FMTTYPE=image/jpeg:https://englewoodchristian.com/wp-content/uploads/2023/10/Forward_Logo_Blue.jpg
ORGANIZER;CN="Andrew Lawson":MAILTO:alawson@englewoodchristian.com
END:VEVENT
BEGIN:VEVENT
DTSTART;TZID=America/New_York:20241022T180000
DTEND;TZID=America/New_York:20241022T190000
DTSTAMP:20260424T011828
CREATED:20240903T165827Z
LAST-MODIFIED:20240903T165828Z
UID:10002890-1729620000-1729623600@englewoodchristian.com
SUMMARY:Forward Student Ministry
DESCRIPTION:
URL:https://englewoodchristian.com/event/forward-student-ministry-6-2-2/2024-10-22/
CATEGORIES:Student,Teens,Youth
ATTACH;FMTTYPE=image/jpeg:https://englewoodchristian.com/wp-content/uploads/2023/10/Forward_Logo_Blue.jpg
ORGANIZER;CN="Andrew Lawson":MAILTO:alawson@englewoodchristian.com
END:VEVENT
BEGIN:VEVENT
DTSTART;TZID=America/New_York:20241015T180000
DTEND;TZID=America/New_York:20241015T190000
DTSTAMP:20260424T011828
CREATED:20240903T165827Z
LAST-MODIFIED:20240903T165828Z
UID:10005126-1729015200-1729018800@englewoodchristian.com
SUMMARY:Forward Student Ministry
DESCRIPTION:
URL:https://englewoodchristian.com/event/forward-student-ministry-6-2-2/2024-10-15/
CATEGORIES:Student,Teens,Youth
ATTACH;FMTTYPE=image/jpeg:https://englewoodchristian.com/wp-content/uploads/2023/10/Forward_Logo_Blue.jpg
ORGANIZER;CN="Andrew Lawson":MAILTO:alawson@englewoodchristian.com
END:VEVENT
BEGIN:VEVENT
DTSTART;TZID=America/New_York:20241008T180000
DTEND;TZID=America/New_York:20241008T190000
DTSTAMP:20260424T011828
CREATED:20240903T165827Z
LAST-MODIFIED:20240903T165828Z
UID:10005125-1728410400-1728414000@englewoodchristian.com
SUMMARY:Forward Student Ministry
DESCRIPTION:
URL:https://englewoodchristian.com/event/forward-student-ministry-6-2-2/2024-10-08/
CATEGORIES:Student,Teens,Youth
ATTACH;FMTTYPE=image/jpeg:https://englewoodchristian.com/wp-content/uploads/2023/10/Forward_Logo_Blue.jpg
ORGANIZER;CN="Andrew Lawson":MAILTO:alawson@englewoodchristian.com
END:VEVENT
BEGIN:VEVENT
DTSTART;TZID=America/New_York:20241001T180000
DTEND;TZID=America/New_York:20241001T190000
DTSTAMP:20260424T011828
CREATED:20240903T165827Z
LAST-MODIFIED:20240903T165828Z
UID:10005124-1727805600-1727809200@englewoodchristian.com
SUMMARY:Forward Student Ministry
DESCRIPTION:
URL:https://englewoodchristian.com/event/forward-student-ministry-6-2-2/2024-10-01/
CATEGORIES:Student,Teens,Youth
ATTACH;FMTTYPE=image/jpeg:https://englewoodchristian.com/wp-content/uploads/2023/10/Forward_Logo_Blue.jpg
ORGANIZER;CN="Andrew Lawson":MAILTO:alawson@englewoodchristian.com
END:VEVENT
BEGIN:VEVENT
DTSTART;TZID=America/New_York:20240924T180000
DTEND;TZID=America/New_York:20240924T190000
DTSTAMP:20260424T011828
CREATED:20240903T165827Z
LAST-MODIFIED:20240903T165828Z
UID:10005331-1727200800-1727204400@englewoodchristian.com
SUMMARY:Forward Student Ministry
DESCRIPTION:
URL:https://englewoodchristian.com/event/forward-student-ministry-6-2-2/2024-09-24/
CATEGORIES:Student,Teens,Youth
ATTACH;FMTTYPE=image/jpeg:https://englewoodchristian.com/wp-content/uploads/2023/10/Forward_Logo_Blue.jpg
ORGANIZER;CN="Andrew Lawson":MAILTO:alawson@englewoodchristian.com
END:VEVENT
BEGIN:VEVENT
DTSTART;TZID=America/New_York:20240917T180000
DTEND;TZID=America/New_York:20240917T190000
DTSTAMP:20260424T011828
CREATED:20240903T165827Z
LAST-MODIFIED:20240903T165828Z
UID:10005330-1726596000-1726599600@englewoodchristian.com
SUMMARY:Forward Student Ministry
DESCRIPTION:
URL:https://englewoodchristian.com/event/forward-student-ministry-6-2-2/2024-09-17/
CATEGORIES:Student,Teens,Youth
ATTACH;FMTTYPE=image/jpeg:https://englewoodchristian.com/wp-content/uploads/2023/10/Forward_Logo_Blue.jpg
ORGANIZER;CN="Andrew Lawson":MAILTO:alawson@englewoodchristian.com
END:VEVENT
BEGIN:VEVENT
DTSTART;TZID=America/New_York:20240910T180000
DTEND;TZID=America/New_York:20240910T190000
DTSTAMP:20260424T011828
CREATED:20240903T165827Z
LAST-MODIFIED:20240903T165828Z
UID:10005329-1725991200-1725994800@englewoodchristian.com
SUMMARY:Forward Student Ministry
DESCRIPTION:
URL:https://englewoodchristian.com/event/forward-student-ministry-6-2-2/2024-09-10/
CATEGORIES:Student,Teens,Youth
ATTACH;FMTTYPE=image/jpeg:https://englewoodchristian.com/wp-content/uploads/2023/10/Forward_Logo_Blue.jpg
ORGANIZER;CN="Andrew Lawson":MAILTO:alawson@englewoodchristian.com
END:VEVENT
BEGIN:VEVENT
DTSTART;TZID=America/New_York:20240903T180000
DTEND;TZID=America/New_York:20240903T190000
DTSTAMP:20260424T011828
CREATED:20240903T165827Z
LAST-MODIFIED:20240903T165828Z
UID:10002889-1725386400-1725390000@englewoodchristian.com
SUMMARY:Forward Student Ministry
DESCRIPTION:
URL:https://englewoodchristian.com/event/forward-student-ministry-6-2-2/2024-09-03/
CATEGORIES:Student,Teens,Youth
ATTACH;FMTTYPE=image/jpeg:https://englewoodchristian.com/wp-content/uploads/2023/10/Forward_Logo_Blue.jpg
ORGANIZER;CN="Andrew Lawson":MAILTO:alawson@englewoodchristian.com
END:VEVENT
BEGIN:VEVENT
DTSTART;TZID=America/New_York:20240827T180000
DTEND;TZID=America/New_York:20240827T193000
DTSTAMP:20260424T011828
CREATED:20240219T185816Z
LAST-MODIFIED:20240219T185816Z
UID:10002888-1724781600-1724787000@englewoodchristian.com
SUMMARY:Forward Student Ministry
DESCRIPTION:
URL:https://englewoodchristian.com/event/forward-student-ministry-6/2024-08-27/
CATEGORIES:Student,Teens,Youth
ATTACH;FMTTYPE=image/jpeg:https://englewoodchristian.com/wp-content/uploads/2023/10/Forward_Logo_Blue.jpg
ORGANIZER;CN="Andrew Lawson":MAILTO:alawson@englewoodchristian.com
END:VEVENT
BEGIN:VEVENT
DTSTART;TZID=America/New_York:20240723T180000
DTEND;TZID=America/New_York:20240723T193000
DTSTAMP:20260424T011828
CREATED:20240219T185816Z
LAST-MODIFIED:20240219T185816Z
UID:10002887-1721757600-1721763000@englewoodchristian.com
SUMMARY:Forward Student Ministry
DESCRIPTION:
URL:https://englewoodchristian.com/event/forward-student-ministry-6/2024-07-23/
CATEGORIES:Student,Teens,Youth
ATTACH;FMTTYPE=image/jpeg:https://englewoodchristian.com/wp-content/uploads/2023/10/Forward_Logo_Blue.jpg
ORGANIZER;CN="Andrew Lawson":MAILTO:alawson@englewoodchristian.com
END:VEVENT
BEGIN:VEVENT
DTSTART;TZID=America/New_York:20240625T180000
DTEND;TZID=America/New_York:20240625T193000
DTSTAMP:20260424T011828
CREATED:20240219T185816Z
LAST-MODIFIED:20240219T185816Z
UID:10002886-1719338400-1719343800@englewoodchristian.com
SUMMARY:Forward Student Ministry
DESCRIPTION:
URL:https://englewoodchristian.com/event/forward-student-ministry-6/2024-06-25/
CATEGORIES:Student,Teens,Youth
ATTACH;FMTTYPE=image/jpeg:https://englewoodchristian.com/wp-content/uploads/2023/10/Forward_Logo_Blue.jpg
ORGANIZER;CN="Andrew Lawson":MAILTO:alawson@englewoodchristian.com
END:VEVENT
BEGIN:VEVENT
DTSTART;TZID=America/New_York:20240528T180000
DTEND;TZID=America/New_York:20240528T193000
DTSTAMP:20260424T011828
CREATED:20240219T185816Z
LAST-MODIFIED:20240219T185816Z
UID:10002885-1716919200-1716924600@englewoodchristian.com
SUMMARY:Forward Student Ministry
DESCRIPTION:
URL:https://englewoodchristian.com/event/forward-student-ministry-6/2024-05-28/
CATEGORIES:Student,Teens,Youth
ATTACH;FMTTYPE=image/jpeg:https://englewoodchristian.com/wp-content/uploads/2023/10/Forward_Logo_Blue.jpg
ORGANIZER;CN="Andrew Lawson":MAILTO:alawson@englewoodchristian.com
END:VEVENT
BEGIN:VEVENT
DTSTART;TZID=America/New_York:20240423T180000
DTEND;TZID=America/New_York:20240423T193000
DTSTAMP:20260424T011828
CREATED:20240219T185816Z
LAST-MODIFIED:20240219T185816Z
UID:10002884-1713895200-1713900600@englewoodchristian.com
SUMMARY:Forward Student Ministry
DESCRIPTION:
URL:https://englewoodchristian.com/event/forward-student-ministry-6/2024-04-23/
CATEGORIES:Student,Teens,Youth
ATTACH;FMTTYPE=image/jpeg:https://englewoodchristian.com/wp-content/uploads/2023/10/Forward_Logo_Blue.jpg
ORGANIZER;CN="Andrew Lawson":MAILTO:alawson@englewoodchristian.com
END:VEVENT
BEGIN:VEVENT
DTSTART;TZID=America/New_York:20240414T110000
DTEND;TZID=America/New_York:20240414T120000
DTSTAMP:20260424T011828
CREATED:20240206T194403Z
LAST-MODIFIED:20240329T202625Z
UID:10002881-1713092400-1713096000@englewoodchristian.com
SUMMARY:Youth Takeover
DESCRIPTION:Join us on this most eventful Sunday morning as we experience a “YOUTH TAKEOVER”!  There’s no escape from this one.  This will be a combined service Sunday.  There will only be one service and it starts at 11 AM.  Sunday school will be meeting on this day at 10:10 AM.
URL:https://englewoodchristian.com/event/youth-takeover/
CATEGORIES:Student,Sunday,Worship Service,Youth
ATTACH;FMTTYPE=image/jpeg:https://englewoodchristian.com/wp-content/uploads/2024/02/YouthTakeover.jpg
ORGANIZER;CN="Andrew Lawson":MAILTO:alawson@englewoodchristian.com
END:VEVENT
BEGIN:VEVENT
DTSTART;TZID=America/New_York:20240326T180000
DTEND;TZID=America/New_York:20240326T193000
DTSTAMP:20260424T011828
CREATED:20240219T185816Z
LAST-MODIFIED:20240219T185816Z
UID:10002883-1711476000-1711481400@englewoodchristian.com
SUMMARY:Forward Student Ministry
DESCRIPTION:
URL:https://englewoodchristian.com/event/forward-student-ministry-6/2024-03-26/
CATEGORIES:Student,Teens,Youth
ATTACH;FMTTYPE=image/jpeg:https://englewoodchristian.com/wp-content/uploads/2023/10/Forward_Logo_Blue.jpg
ORGANIZER;CN="Andrew Lawson":MAILTO:alawson@englewoodchristian.com
END:VEVENT
BEGIN:VEVENT
DTSTART;TZID=America/New_York:20240227T180000
DTEND;TZID=America/New_York:20240227T193000
DTSTAMP:20260424T011828
CREATED:20240219T185816Z
LAST-MODIFIED:20240219T185816Z
UID:10002882-1709056800-1709062200@englewoodchristian.com
SUMMARY:Forward Student Ministry
DESCRIPTION:
URL:https://englewoodchristian.com/event/forward-student-ministry-6/2024-02-27/
CATEGORIES:Student,Teens,Youth
ATTACH;FMTTYPE=image/jpeg:https://englewoodchristian.com/wp-content/uploads/2023/10/Forward_Logo_Blue.jpg
ORGANIZER;CN="Andrew Lawson":MAILTO:alawson@englewoodchristian.com
END:VEVENT
BEGIN:VEVENT
DTSTART;TZID=America/New_York:20240109T180000
DTEND;TZID=America/New_York:20240109T193000
DTSTAMP:20260424T011828
CREATED:20231231T040402Z
LAST-MODIFIED:20231231T040402Z
UID:10001631-1704823200-1704828600@englewoodchristian.com
SUMMARY:Forward Student Ministry
DESCRIPTION:
URL:https://englewoodchristian.com/event/forward-student-ministry-5/
LOCATION:Englewood Christian Church\, 9600 Gulfstream Blvd\, Englewood\, FL\, 34224\, United States
CATEGORIES:Student,Youth
ATTACH;FMTTYPE=image/jpeg:https://englewoodchristian.com/wp-content/uploads/2023/10/Forward_Logo_Blue.jpg
END:VEVENT
BEGIN:VEVENT
DTSTART;TZID=America/New_York:20231226T180000
DTEND;TZID=America/New_York:20231226T193000
DTSTAMP:20260424T011828
CREATED:20231212T152352Z
LAST-MODIFIED:20231212T152352Z
UID:10001331-1703613600-1703619000@englewoodchristian.com
SUMMARY:No Youth Group for Today
DESCRIPTION:
URL:https://englewoodchristian.com/event/no-youth-group-for-today/
LOCATION:Englewood Christian Church\, 9600 Gulfstream Blvd\, Englewood\, FL\, 34224\, United States
CATEGORIES:Student,Youth
ATTACH;FMTTYPE=image/jpeg:https://englewoodchristian.com/wp-content/uploads/2023/10/Forward_Logo_Blue.jpg
END:VEVENT
BEGIN:VEVENT
DTSTART;TZID=America/New_York:20231212T180000
DTEND;TZID=America/New_York:20231212T193000
DTSTAMP:20260424T011828
CREATED:20231212T152127Z
LAST-MODIFIED:20231212T152221Z
UID:10001330-1702404000-1702409400@englewoodchristian.com
SUMMARY:Forward Student Ministry
DESCRIPTION:
URL:https://englewoodchristian.com/event/forward-student-ministry-4/
LOCATION:Englewood Christian Church\, 9600 Gulfstream Blvd\, Englewood\, FL\, 34224\, United States
CATEGORIES:Student,Youth
ATTACH;FMTTYPE=image/jpeg:https://englewoodchristian.com/wp-content/uploads/2023/10/Forward_Logo_Blue.jpg
END:VEVENT
BEGIN:VEVENT
DTSTART;TZID=America/New_York:20231128T180000
DTEND;TZID=America/New_York:20231128T193000
DTSTAMP:20260424T011828
CREATED:20231031T011146Z
LAST-MODIFIED:20231031T011146Z
UID:10001328-1701194400-1701199800@englewoodchristian.com
SUMMARY:Forward Student Ministry
DESCRIPTION:
URL:https://englewoodchristian.com/event/forward-student-ministry-3/
LOCATION:Englewood Christian Church\, 9600 Gulfstream Blvd\, Englewood\, FL\, 34224\, United States
CATEGORIES:Student,Youth
ATTACH;FMTTYPE=image/jpeg:https://englewoodchristian.com/wp-content/uploads/2023/10/Forward_Logo_Blue.jpg
END:VEVENT
BEGIN:VEVENT
DTSTART;TZID=America/New_York:20231114T180000
DTEND;TZID=America/New_York:20231114T193000
DTSTAMP:20260424T011828
CREATED:20231031T011024Z
LAST-MODIFIED:20231031T011024Z
UID:10001327-1699984800-1699990200@englewoodchristian.com
SUMMARY:Forward Student Ministry
DESCRIPTION:
URL:https://englewoodchristian.com/event/forward-student-ministry-2/
LOCATION:Englewood Christian Church\, 9600 Gulfstream Blvd\, Englewood\, FL\, 34224\, United States
CATEGORIES:Student,Youth
ATTACH;FMTTYPE=image/jpeg:https://englewoodchristian.com/wp-content/uploads/2023/10/Forward_Logo_Blue.jpg
END:VEVENT
BEGIN:VEVENT
DTSTART;TZID=America/New_York:20231024T180000
DTEND;TZID=America/New_York:20231024T193000
DTSTAMP:20260424T011828
CREATED:20231021T130414Z
LAST-MODIFIED:20231021T130414Z
UID:10000010-1698170400-1698175800@englewoodchristian.com
SUMMARY:Forward Student Ministry
DESCRIPTION:
URL:https://englewoodchristian.com/event/forward-student-ministry/
LOCATION:Englewood Christian Church\, 9600 Gulfstream Blvd\, Englewood\, FL\, 34224\, United States
CATEGORIES:Student,Youth
ORGANIZER;CN="Andrew Lawson":MAILTO:alawson@englewoodchristian.com
END:VEVENT
END:VCALENDAR