BEGIN:VCALENDAR
VERSION:2.0
PRODID:-//Englewood Christian Church - ECPv6.15.20//NONSGML v1.0//EN
CALSCALE:GREGORIAN
METHOD:PUBLISH
X-ORIGINAL-URL:https://englewoodchristian.com
X-WR-CALDESC:Events for Englewood Christian Church
REFRESH-INTERVAL;VALUE=DURATION:PT1H
X-Robots-Tag:noindex
X-PUBLISHED-TTL:PT1H
BEGIN:VTIMEZONE
TZID:America/New_York
BEGIN:DAYLIGHT
TZOFFSETFROM:-0500
TZOFFSETTO:-0400
TZNAME:EDT
DTSTART:20260308T070000
END:DAYLIGHT
BEGIN:STANDARD
TZOFFSETFROM:-0400
TZOFFSETTO:-0500
TZNAME:EST
DTSTART:20261101T060000
END:STANDARD
BEGIN:DAYLIGHT
TZOFFSETFROM:-0500
TZOFFSETTO:-0400
TZNAME:EDT
DTSTART:20270314T070000
END:DAYLIGHT
BEGIN:STANDARD
TZOFFSETFROM:-0400
TZOFFSETTO:-0500
TZNAME:EST
DTSTART:20271107T060000
END:STANDARD
BEGIN:DAYLIGHT
TZOFFSETFROM:-0500
TZOFFSETTO:-0400
TZNAME:EDT
DTSTART:20280312T070000
END:DAYLIGHT
BEGIN:STANDARD
TZOFFSETFROM:-0400
TZOFFSETTO:-0500
TZNAME:EST
DTSTART:20281105T060000
END:STANDARD
END:VTIMEZONE
BEGIN:VEVENT
DTSTART;TZID=America/New_York:20270412T190000
DTEND;TZID=America/New_York:20270412T203000
DTSTAMP:20260424T181213
CREATED:20251113T171841Z
LAST-MODIFIED:20251119T192902Z
UID:10005467-1807556400-1807561800@englewoodchristian.com
SUMMARY:Men’s 4x4
DESCRIPTION:Men’s bible study group at the church Monday nights starting at 7pm.
URL:https://englewoodchristian.com/event/mens-4x4-3-2/2027-04-12/
LOCATION:Englewood Christian Church\, 9600 Gulfstream Blvd\, Englewood\, FL\, 34224\, United States
CATEGORIES:Adult,Mens
ORGANIZER;CN="Jim Chandler":MAILTO:jchandler@englewoodchristian.com
END:VEVENT
BEGIN:VEVENT
DTSTART;TZID=America/New_York:20270415T090000
DTEND;TZID=America/New_York:20270415T100000
DTSTAMP:20260424T181213
CREATED:20231212T152706Z
LAST-MODIFIED:20251113T172636Z
UID:10001506-1807779600-1807783200@englewoodchristian.com
SUMMARY:Men's 4x4
DESCRIPTION:
URL:https://englewoodchristian.com/event/mens-4x4/2027-04-15/
LOCATION:Englewood Christian Church\, 9600 Gulfstream Blvd\, Englewood\, FL\, 34224\, United States
CATEGORIES:Bible Study,Mens
ATTACH;FMTTYPE=image/jpeg:https://englewoodchristian.com/wp-content/uploads/2023/06/mens_ministry_380x280.jpg
END:VEVENT
BEGIN:VEVENT
DTSTART;TZID=America/New_York:20270419T190000
DTEND;TZID=America/New_York:20270419T203000
DTSTAMP:20260424T181213
CREATED:20251113T171841Z
LAST-MODIFIED:20251119T192902Z
UID:10005468-1808161200-1808166600@englewoodchristian.com
SUMMARY:Men’s 4x4
DESCRIPTION:Men’s bible study group at the church Monday nights starting at 7pm.
URL:https://englewoodchristian.com/event/mens-4x4-3-2/2027-04-19/
LOCATION:Englewood Christian Church\, 9600 Gulfstream Blvd\, Englewood\, FL\, 34224\, United States
CATEGORIES:Adult,Mens
ORGANIZER;CN="Jim Chandler":MAILTO:jchandler@englewoodchristian.com
END:VEVENT
BEGIN:VEVENT
DTSTART;TZID=America/New_York:20270422T090000
DTEND;TZID=America/New_York:20270422T100000
DTSTAMP:20260424T181213
CREATED:20231212T152706Z
LAST-MODIFIED:20251113T172636Z
UID:10001507-1808384400-1808388000@englewoodchristian.com
SUMMARY:Men's 4x4
DESCRIPTION:
URL:https://englewoodchristian.com/event/mens-4x4/2027-04-22/
LOCATION:Englewood Christian Church\, 9600 Gulfstream Blvd\, Englewood\, FL\, 34224\, United States
CATEGORIES:Bible Study,Mens
ATTACH;FMTTYPE=image/jpeg:https://englewoodchristian.com/wp-content/uploads/2023/06/mens_ministry_380x280.jpg
END:VEVENT
BEGIN:VEVENT
DTSTART;TZID=America/New_York:20270426T190000
DTEND;TZID=America/New_York:20270426T203000
DTSTAMP:20260424T181213
CREATED:20251113T171841Z
LAST-MODIFIED:20251119T192902Z
UID:10005469-1808766000-1808771400@englewoodchristian.com
SUMMARY:Men’s 4x4
DESCRIPTION:Men’s bible study group at the church Monday nights starting at 7pm.
URL:https://englewoodchristian.com/event/mens-4x4-3-2/2027-04-26/
LOCATION:Englewood Christian Church\, 9600 Gulfstream Blvd\, Englewood\, FL\, 34224\, United States
CATEGORIES:Adult,Mens
ORGANIZER;CN="Jim Chandler":MAILTO:jchandler@englewoodchristian.com
END:VEVENT
BEGIN:VEVENT
DTSTART;TZID=America/New_York:20270429T090000
DTEND;TZID=America/New_York:20270429T100000
DTSTAMP:20260424T181213
CREATED:20231212T152706Z
LAST-MODIFIED:20251113T172636Z
UID:10001508-1808989200-1808992800@englewoodchristian.com
SUMMARY:Men's 4x4
DESCRIPTION:
URL:https://englewoodchristian.com/event/mens-4x4/2027-04-29/
LOCATION:Englewood Christian Church\, 9600 Gulfstream Blvd\, Englewood\, FL\, 34224\, United States
CATEGORIES:Bible Study,Mens
ATTACH;FMTTYPE=image/jpeg:https://englewoodchristian.com/wp-content/uploads/2023/06/mens_ministry_380x280.jpg
END:VEVENT
BEGIN:VEVENT
DTSTART;TZID=America/New_York:20270503T190000
DTEND;TZID=America/New_York:20270503T203000
DTSTAMP:20260424T181213
CREATED:20251113T171841Z
LAST-MODIFIED:20251119T192902Z
UID:10005470-1809370800-1809376200@englewoodchristian.com
SUMMARY:Men’s 4x4
DESCRIPTION:Men’s bible study group at the church Monday nights starting at 7pm.
URL:https://englewoodchristian.com/event/mens-4x4-3-2/2027-05-03/
LOCATION:Englewood Christian Church\, 9600 Gulfstream Blvd\, Englewood\, FL\, 34224\, United States
CATEGORIES:Adult,Mens
ORGANIZER;CN="Jim Chandler":MAILTO:jchandler@englewoodchristian.com
END:VEVENT
BEGIN:VEVENT
DTSTART;TZID=America/New_York:20270506T090000
DTEND;TZID=America/New_York:20270506T100000
DTSTAMP:20260424T181213
CREATED:20231212T152706Z
LAST-MODIFIED:20251113T172636Z
UID:10001509-1809594000-1809597600@englewoodchristian.com
SUMMARY:Men's 4x4
DESCRIPTION:
URL:https://englewoodchristian.com/event/mens-4x4/2027-05-06/
LOCATION:Englewood Christian Church\, 9600 Gulfstream Blvd\, Englewood\, FL\, 34224\, United States
CATEGORIES:Bible Study,Mens
ATTACH;FMTTYPE=image/jpeg:https://englewoodchristian.com/wp-content/uploads/2023/06/mens_ministry_380x280.jpg
END:VEVENT
BEGIN:VEVENT
DTSTART;TZID=America/New_York:20270510T190000
DTEND;TZID=America/New_York:20270510T203000
DTSTAMP:20260424T181213
CREATED:20251113T171841Z
LAST-MODIFIED:20251119T192902Z
UID:10005471-1809975600-1809981000@englewoodchristian.com
SUMMARY:Men’s 4x4
DESCRIPTION:Men’s bible study group at the church Monday nights starting at 7pm.
URL:https://englewoodchristian.com/event/mens-4x4-3-2/2027-05-10/
LOCATION:Englewood Christian Church\, 9600 Gulfstream Blvd\, Englewood\, FL\, 34224\, United States
CATEGORIES:Adult,Mens
ORGANIZER;CN="Jim Chandler":MAILTO:jchandler@englewoodchristian.com
END:VEVENT
BEGIN:VEVENT
DTSTART;TZID=America/New_York:20270513T090000
DTEND;TZID=America/New_York:20270513T100000
DTSTAMP:20260424T181213
CREATED:20231212T152706Z
LAST-MODIFIED:20251113T172636Z
UID:10001510-1810198800-1810202400@englewoodchristian.com
SUMMARY:Men's 4x4
DESCRIPTION:
URL:https://englewoodchristian.com/event/mens-4x4/2027-05-13/
LOCATION:Englewood Christian Church\, 9600 Gulfstream Blvd\, Englewood\, FL\, 34224\, United States
CATEGORIES:Bible Study,Mens
ATTACH;FMTTYPE=image/jpeg:https://englewoodchristian.com/wp-content/uploads/2023/06/mens_ministry_380x280.jpg
END:VEVENT
BEGIN:VEVENT
DTSTART;TZID=America/New_York:20270517T190000
DTEND;TZID=America/New_York:20270517T203000
DTSTAMP:20260424T181213
CREATED:20251113T171841Z
LAST-MODIFIED:20251119T192902Z
UID:10005472-1810580400-1810585800@englewoodchristian.com
SUMMARY:Men’s 4x4
DESCRIPTION:Men’s bible study group at the church Monday nights starting at 7pm.
URL:https://englewoodchristian.com/event/mens-4x4-3-2/2027-05-17/
LOCATION:Englewood Christian Church\, 9600 Gulfstream Blvd\, Englewood\, FL\, 34224\, United States
CATEGORIES:Adult,Mens
ORGANIZER;CN="Jim Chandler":MAILTO:jchandler@englewoodchristian.com
END:VEVENT
BEGIN:VEVENT
DTSTART;TZID=America/New_York:20270520T090000
DTEND;TZID=America/New_York:20270520T100000
DTSTAMP:20260424T181213
CREATED:20231212T152706Z
LAST-MODIFIED:20251113T172636Z
UID:10001511-1810803600-1810807200@englewoodchristian.com
SUMMARY:Men's 4x4
DESCRIPTION:
URL:https://englewoodchristian.com/event/mens-4x4/2027-05-20/
LOCATION:Englewood Christian Church\, 9600 Gulfstream Blvd\, Englewood\, FL\, 34224\, United States
CATEGORIES:Bible Study,Mens
ATTACH;FMTTYPE=image/jpeg:https://englewoodchristian.com/wp-content/uploads/2023/06/mens_ministry_380x280.jpg
END:VEVENT
BEGIN:VEVENT
DTSTART;TZID=America/New_York:20270524T190000
DTEND;TZID=America/New_York:20270524T203000
DTSTAMP:20260424T181213
CREATED:20251113T171841Z
LAST-MODIFIED:20251119T192902Z
UID:10005473-1811185200-1811190600@englewoodchristian.com
SUMMARY:Men’s 4x4
DESCRIPTION:Men’s bible study group at the church Monday nights starting at 7pm.
URL:https://englewoodchristian.com/event/mens-4x4-3-2/2027-05-24/
LOCATION:Englewood Christian Church\, 9600 Gulfstream Blvd\, Englewood\, FL\, 34224\, United States
CATEGORIES:Adult,Mens
ORGANIZER;CN="Jim Chandler":MAILTO:jchandler@englewoodchristian.com
END:VEVENT
BEGIN:VEVENT
DTSTART;TZID=America/New_York:20270527T090000
DTEND;TZID=America/New_York:20270527T100000
DTSTAMP:20260424T181213
CREATED:20231212T152706Z
LAST-MODIFIED:20251113T172636Z
UID:10001512-1811408400-1811412000@englewoodchristian.com
SUMMARY:Men's 4x4
DESCRIPTION:
URL:https://englewoodchristian.com/event/mens-4x4/2027-05-27/
LOCATION:Englewood Christian Church\, 9600 Gulfstream Blvd\, Englewood\, FL\, 34224\, United States
CATEGORIES:Bible Study,Mens
ATTACH;FMTTYPE=image/jpeg:https://englewoodchristian.com/wp-content/uploads/2023/06/mens_ministry_380x280.jpg
END:VEVENT
BEGIN:VEVENT
DTSTART;TZID=America/New_York:20270531T190000
DTEND;TZID=America/New_York:20270531T203000
DTSTAMP:20260424T181213
CREATED:20251113T171841Z
LAST-MODIFIED:20251119T192902Z
UID:10005474-1811790000-1811795400@englewoodchristian.com
SUMMARY:Men’s 4x4
DESCRIPTION:Men’s bible study group at the church Monday nights starting at 7pm.
URL:https://englewoodchristian.com/event/mens-4x4-3-2/2027-05-31/
LOCATION:Englewood Christian Church\, 9600 Gulfstream Blvd\, Englewood\, FL\, 34224\, United States
CATEGORIES:Adult,Mens
ORGANIZER;CN="Jim Chandler":MAILTO:jchandler@englewoodchristian.com
END:VEVENT
BEGIN:VEVENT
DTSTART;TZID=America/New_York:20270603T090000
DTEND;TZID=America/New_York:20270603T100000
DTSTAMP:20260424T181213
CREATED:20231212T152706Z
LAST-MODIFIED:20251113T172636Z
UID:10001513-1812013200-1812016800@englewoodchristian.com
SUMMARY:Men's 4x4
DESCRIPTION:
URL:https://englewoodchristian.com/event/mens-4x4/2027-06-03/
LOCATION:Englewood Christian Church\, 9600 Gulfstream Blvd\, Englewood\, FL\, 34224\, United States
CATEGORIES:Bible Study,Mens
ATTACH;FMTTYPE=image/jpeg:https://englewoodchristian.com/wp-content/uploads/2023/06/mens_ministry_380x280.jpg
END:VEVENT
BEGIN:VEVENT
DTSTART;TZID=America/New_York:20270607T190000
DTEND;TZID=America/New_York:20270607T203000
DTSTAMP:20260424T181213
CREATED:20251113T171841Z
LAST-MODIFIED:20251119T192902Z
UID:10005475-1812394800-1812400200@englewoodchristian.com
SUMMARY:Men’s 4x4
DESCRIPTION:Men’s bible study group at the church Monday nights starting at 7pm.
URL:https://englewoodchristian.com/event/mens-4x4-3-2/2027-06-07/
LOCATION:Englewood Christian Church\, 9600 Gulfstream Blvd\, Englewood\, FL\, 34224\, United States
CATEGORIES:Adult,Mens
ORGANIZER;CN="Jim Chandler":MAILTO:jchandler@englewoodchristian.com
END:VEVENT
BEGIN:VEVENT
DTSTART;TZID=America/New_York:20270610T090000
DTEND;TZID=America/New_York:20270610T100000
DTSTAMP:20260424T181213
CREATED:20231212T152706Z
LAST-MODIFIED:20251113T172636Z
UID:10001514-1812618000-1812621600@englewoodchristian.com
SUMMARY:Men's 4x4
DESCRIPTION:
URL:https://englewoodchristian.com/event/mens-4x4/2027-06-10/
LOCATION:Englewood Christian Church\, 9600 Gulfstream Blvd\, Englewood\, FL\, 34224\, United States
CATEGORIES:Bible Study,Mens
ATTACH;FMTTYPE=image/jpeg:https://englewoodchristian.com/wp-content/uploads/2023/06/mens_ministry_380x280.jpg
END:VEVENT
BEGIN:VEVENT
DTSTART;TZID=America/New_York:20270614T190000
DTEND;TZID=America/New_York:20270614T203000
DTSTAMP:20260424T181213
CREATED:20251113T171841Z
LAST-MODIFIED:20251119T192902Z
UID:10005476-1812999600-1813005000@englewoodchristian.com
SUMMARY:Men’s 4x4
DESCRIPTION:Men’s bible study group at the church Monday nights starting at 7pm.
URL:https://englewoodchristian.com/event/mens-4x4-3-2/2027-06-14/
LOCATION:Englewood Christian Church\, 9600 Gulfstream Blvd\, Englewood\, FL\, 34224\, United States
CATEGORIES:Adult,Mens
ORGANIZER;CN="Jim Chandler":MAILTO:jchandler@englewoodchristian.com
END:VEVENT
BEGIN:VEVENT
DTSTART;TZID=America/New_York:20270617T090000
DTEND;TZID=America/New_York:20270617T100000
DTSTAMP:20260424T181213
CREATED:20231212T152706Z
LAST-MODIFIED:20251113T172636Z
UID:10001515-1813222800-1813226400@englewoodchristian.com
SUMMARY:Men's 4x4
DESCRIPTION:
URL:https://englewoodchristian.com/event/mens-4x4/2027-06-17/
LOCATION:Englewood Christian Church\, 9600 Gulfstream Blvd\, Englewood\, FL\, 34224\, United States
CATEGORIES:Bible Study,Mens
ATTACH;FMTTYPE=image/jpeg:https://englewoodchristian.com/wp-content/uploads/2023/06/mens_ministry_380x280.jpg
END:VEVENT
BEGIN:VEVENT
DTSTART;TZID=America/New_York:20270621T190000
DTEND;TZID=America/New_York:20270621T203000
DTSTAMP:20260424T181213
CREATED:20251113T171841Z
LAST-MODIFIED:20251119T192902Z
UID:10005477-1813604400-1813609800@englewoodchristian.com
SUMMARY:Men’s 4x4
DESCRIPTION:Men’s bible study group at the church Monday nights starting at 7pm.
URL:https://englewoodchristian.com/event/mens-4x4-3-2/2027-06-21/
LOCATION:Englewood Christian Church\, 9600 Gulfstream Blvd\, Englewood\, FL\, 34224\, United States
CATEGORIES:Adult,Mens
ORGANIZER;CN="Jim Chandler":MAILTO:jchandler@englewoodchristian.com
END:VEVENT
BEGIN:VEVENT
DTSTART;TZID=America/New_York:20270624T090000
DTEND;TZID=America/New_York:20270624T100000
DTSTAMP:20260424T181213
CREATED:20231212T152706Z
LAST-MODIFIED:20251113T172636Z
UID:10001516-1813827600-1813831200@englewoodchristian.com
SUMMARY:Men's 4x4
DESCRIPTION:
URL:https://englewoodchristian.com/event/mens-4x4/2027-06-24/
LOCATION:Englewood Christian Church\, 9600 Gulfstream Blvd\, Englewood\, FL\, 34224\, United States
CATEGORIES:Bible Study,Mens
ATTACH;FMTTYPE=image/jpeg:https://englewoodchristian.com/wp-content/uploads/2023/06/mens_ministry_380x280.jpg
END:VEVENT
BEGIN:VEVENT
DTSTART;TZID=America/New_York:20270628T190000
DTEND;TZID=America/New_York:20270628T203000
DTSTAMP:20260424T181213
CREATED:20251113T171841Z
LAST-MODIFIED:20251119T192902Z
UID:10005478-1814209200-1814214600@englewoodchristian.com
SUMMARY:Men’s 4x4
DESCRIPTION:Men’s bible study group at the church Monday nights starting at 7pm.
URL:https://englewoodchristian.com/event/mens-4x4-3-2/2027-06-28/
LOCATION:Englewood Christian Church\, 9600 Gulfstream Blvd\, Englewood\, FL\, 34224\, United States
CATEGORIES:Adult,Mens
ORGANIZER;CN="Jim Chandler":MAILTO:jchandler@englewoodchristian.com
END:VEVENT
BEGIN:VEVENT
DTSTART;TZID=America/New_York:20270701T090000
DTEND;TZID=America/New_York:20270701T100000
DTSTAMP:20260424T181213
CREATED:20231212T152706Z
LAST-MODIFIED:20251113T172636Z
UID:10001517-1814432400-1814436000@englewoodchristian.com
SUMMARY:Men's 4x4
DESCRIPTION:
URL:https://englewoodchristian.com/event/mens-4x4/2027-07-01/
LOCATION:Englewood Christian Church\, 9600 Gulfstream Blvd\, Englewood\, FL\, 34224\, United States
CATEGORIES:Bible Study,Mens
ATTACH;FMTTYPE=image/jpeg:https://englewoodchristian.com/wp-content/uploads/2023/06/mens_ministry_380x280.jpg
END:VEVENT
BEGIN:VEVENT
DTSTART;TZID=America/New_York:20270705T190000
DTEND;TZID=America/New_York:20270705T203000
DTSTAMP:20260424T181213
CREATED:20251113T171841Z
LAST-MODIFIED:20251119T192902Z
UID:10005479-1814814000-1814819400@englewoodchristian.com
SUMMARY:Men’s 4x4
DESCRIPTION:Men’s bible study group at the church Monday nights starting at 7pm.
URL:https://englewoodchristian.com/event/mens-4x4-3-2/2027-07-05/
LOCATION:Englewood Christian Church\, 9600 Gulfstream Blvd\, Englewood\, FL\, 34224\, United States
CATEGORIES:Adult,Mens
ORGANIZER;CN="Jim Chandler":MAILTO:jchandler@englewoodchristian.com
END:VEVENT
BEGIN:VEVENT
DTSTART;TZID=America/New_York:20270708T090000
DTEND;TZID=America/New_York:20270708T100000
DTSTAMP:20260424T181213
CREATED:20231212T152706Z
LAST-MODIFIED:20251113T172636Z
UID:10001518-1815037200-1815040800@englewoodchristian.com
SUMMARY:Men's 4x4
DESCRIPTION:
URL:https://englewoodchristian.com/event/mens-4x4/2027-07-08/
LOCATION:Englewood Christian Church\, 9600 Gulfstream Blvd\, Englewood\, FL\, 34224\, United States
CATEGORIES:Bible Study,Mens
ATTACH;FMTTYPE=image/jpeg:https://englewoodchristian.com/wp-content/uploads/2023/06/mens_ministry_380x280.jpg
END:VEVENT
BEGIN:VEVENT
DTSTART;TZID=America/New_York:20270712T190000
DTEND;TZID=America/New_York:20270712T203000
DTSTAMP:20260424T181213
CREATED:20251113T171841Z
LAST-MODIFIED:20251119T192902Z
UID:10005480-1815418800-1815424200@englewoodchristian.com
SUMMARY:Men’s 4x4
DESCRIPTION:Men’s bible study group at the church Monday nights starting at 7pm.
URL:https://englewoodchristian.com/event/mens-4x4-3-2/2027-07-12/
LOCATION:Englewood Christian Church\, 9600 Gulfstream Blvd\, Englewood\, FL\, 34224\, United States
CATEGORIES:Adult,Mens
ORGANIZER;CN="Jim Chandler":MAILTO:jchandler@englewoodchristian.com
END:VEVENT
BEGIN:VEVENT
DTSTART;TZID=America/New_York:20270715T090000
DTEND;TZID=America/New_York:20270715T100000
DTSTAMP:20260424T181213
CREATED:20231212T152706Z
LAST-MODIFIED:20251113T172636Z
UID:10001519-1815642000-1815645600@englewoodchristian.com
SUMMARY:Men's 4x4
DESCRIPTION:
URL:https://englewoodchristian.com/event/mens-4x4/2027-07-15/
LOCATION:Englewood Christian Church\, 9600 Gulfstream Blvd\, Englewood\, FL\, 34224\, United States
CATEGORIES:Bible Study,Mens
ATTACH;FMTTYPE=image/jpeg:https://englewoodchristian.com/wp-content/uploads/2023/06/mens_ministry_380x280.jpg
END:VEVENT
BEGIN:VEVENT
DTSTART;TZID=America/New_York:20270719T190000
DTEND;TZID=America/New_York:20270719T203000
DTSTAMP:20260424T181213
CREATED:20251113T171841Z
LAST-MODIFIED:20251119T192902Z
UID:10005481-1816023600-1816029000@englewoodchristian.com
SUMMARY:Men’s 4x4
DESCRIPTION:Men’s bible study group at the church Monday nights starting at 7pm.
URL:https://englewoodchristian.com/event/mens-4x4-3-2/2027-07-19/
LOCATION:Englewood Christian Church\, 9600 Gulfstream Blvd\, Englewood\, FL\, 34224\, United States
CATEGORIES:Adult,Mens
ORGANIZER;CN="Jim Chandler":MAILTO:jchandler@englewoodchristian.com
END:VEVENT
BEGIN:VEVENT
DTSTART;TZID=America/New_York:20270722T090000
DTEND;TZID=America/New_York:20270722T100000
DTSTAMP:20260424T181213
CREATED:20231212T152706Z
LAST-MODIFIED:20251113T172636Z
UID:10001520-1816246800-1816250400@englewoodchristian.com
SUMMARY:Men's 4x4
DESCRIPTION:
URL:https://englewoodchristian.com/event/mens-4x4/2027-07-22/
LOCATION:Englewood Christian Church\, 9600 Gulfstream Blvd\, Englewood\, FL\, 34224\, United States
CATEGORIES:Bible Study,Mens
ATTACH;FMTTYPE=image/jpeg:https://englewoodchristian.com/wp-content/uploads/2023/06/mens_ministry_380x280.jpg
END:VEVENT
END:VCALENDAR