BEGIN:VCALENDAR
VERSION:2.0
PRODID:-//Englewood Christian Church - ECPv6.15.20//NONSGML v1.0//EN
CALSCALE:GREGORIAN
METHOD:PUBLISH
X-WR-CALNAME:Englewood Christian Church
X-ORIGINAL-URL:https://englewoodchristian.com
X-WR-CALDESC:Events for Englewood Christian Church
REFRESH-INTERVAL;VALUE=DURATION:PT1H
X-Robots-Tag:noindex
X-PUBLISHED-TTL:PT1H
BEGIN:VTIMEZONE
TZID:America/New_York
BEGIN:DAYLIGHT
TZOFFSETFROM:-0500
TZOFFSETTO:-0400
TZNAME:EDT
DTSTART:20270314T070000
END:DAYLIGHT
BEGIN:STANDARD
TZOFFSETFROM:-0400
TZOFFSETTO:-0500
TZNAME:EST
DTSTART:20271107T060000
END:STANDARD
BEGIN:DAYLIGHT
TZOFFSETFROM:-0500
TZOFFSETTO:-0400
TZNAME:EDT
DTSTART:20280312T070000
END:DAYLIGHT
BEGIN:STANDARD
TZOFFSETFROM:-0400
TZOFFSETTO:-0500
TZNAME:EST
DTSTART:20281105T060000
END:STANDARD
BEGIN:DAYLIGHT
TZOFFSETFROM:-0500
TZOFFSETTO:-0400
TZNAME:EDT
DTSTART:20290311T070000
END:DAYLIGHT
BEGIN:STANDARD
TZOFFSETFROM:-0400
TZOFFSETTO:-0500
TZNAME:EST
DTSTART:20291104T060000
END:STANDARD
END:VTIMEZONE
BEGIN:VEVENT
DTSTART;TZID=America/New_York:20280403T180000
DTEND;TZID=America/New_York:20280403T190000
DTSTAMP:20260425T083641
CREATED:20240430T150156Z
LAST-MODIFIED:20240430T150156Z
UID:10003227-1838397600-1838401200@englewoodchristian.com
SUMMARY:AA Meeting
DESCRIPTION:
URL:https://englewoodchristian.com/event/aa-meeting/2028-04-03/
LOCATION:Englewood Christian Church\, 9600 Gulfstream Blvd\, Englewood\, FL\, 34224\, United States
CATEGORIES:Hosted
END:VEVENT
BEGIN:VEVENT
DTSTART;TZID=America/New_York:20280404T180000
DTEND;TZID=America/New_York:20280404T190000
DTSTAMP:20260425T083641
CREATED:20240430T153129Z
LAST-MODIFIED:20240430T153129Z
UID:10003332-1838484000-1838487600@englewoodchristian.com
SUMMARY:Girl Scouts
DESCRIPTION:
URL:https://englewoodchristian.com/event/girl-scouts-2024-5/2028-04-04/
LOCATION:Englewood Christian Church\, 9600 Gulfstream Blvd\, Englewood\, FL\, 34224\, United States
CATEGORIES:Hosted
END:VEVENT
BEGIN:VEVENT
DTSTART;TZID=America/New_York:20280410T180000
DTEND;TZID=America/New_York:20280410T190000
DTSTAMP:20260425T083641
CREATED:20240430T150156Z
LAST-MODIFIED:20240430T150156Z
UID:10003228-1839002400-1839006000@englewoodchristian.com
SUMMARY:AA Meeting
DESCRIPTION:
URL:https://englewoodchristian.com/event/aa-meeting/2028-04-10/
LOCATION:Englewood Christian Church\, 9600 Gulfstream Blvd\, Englewood\, FL\, 34224\, United States
CATEGORIES:Hosted
END:VEVENT
BEGIN:VEVENT
DTSTART;TZID=America/New_York:20280417T180000
DTEND;TZID=America/New_York:20280417T190000
DTSTAMP:20260425T083641
CREATED:20240430T150156Z
LAST-MODIFIED:20240430T150156Z
UID:10003229-1839607200-1839610800@englewoodchristian.com
SUMMARY:AA Meeting
DESCRIPTION:
URL:https://englewoodchristian.com/event/aa-meeting/2028-04-17/
LOCATION:Englewood Christian Church\, 9600 Gulfstream Blvd\, Englewood\, FL\, 34224\, United States
CATEGORIES:Hosted
END:VEVENT
BEGIN:VEVENT
DTSTART;TZID=America/New_York:20280418T180000
DTEND;TZID=America/New_York:20280418T190000
DTSTAMP:20260425T083641
CREATED:20240430T153411Z
LAST-MODIFIED:20240430T153411Z
UID:10003392-1839693600-1839697200@englewoodchristian.com
SUMMARY:Girl Scouts
DESCRIPTION:
URL:https://englewoodchristian.com/event/girl-scouts-2024-21/2028-04-18/
LOCATION:Englewood Christian Church\, 9600 Gulfstream Blvd\, Englewood\, FL\, 34224\, United States
CATEGORIES:Hosted
END:VEVENT
BEGIN:VEVENT
DTSTART;TZID=America/New_York:20280424T180000
DTEND;TZID=America/New_York:20280424T190000
DTSTAMP:20260425T083642
CREATED:20240430T150156Z
LAST-MODIFIED:20240430T150156Z
UID:10003230-1840212000-1840215600@englewoodchristian.com
SUMMARY:AA Meeting
DESCRIPTION:
URL:https://englewoodchristian.com/event/aa-meeting/2028-04-24/
LOCATION:Englewood Christian Church\, 9600 Gulfstream Blvd\, Englewood\, FL\, 34224\, United States
CATEGORIES:Hosted
END:VEVENT
BEGIN:VEVENT
DTSTART;TZID=America/New_York:20280501T180000
DTEND;TZID=America/New_York:20280501T190000
DTSTAMP:20260425T083642
CREATED:20240430T150156Z
LAST-MODIFIED:20240430T150156Z
UID:10003231-1840816800-1840820400@englewoodchristian.com
SUMMARY:AA Meeting
DESCRIPTION:
URL:https://englewoodchristian.com/event/aa-meeting/2028-05-01/
LOCATION:Englewood Christian Church\, 9600 Gulfstream Blvd\, Englewood\, FL\, 34224\, United States
CATEGORIES:Hosted
END:VEVENT
BEGIN:VEVENT
DTSTART;TZID=America/New_York:20280502T180000
DTEND;TZID=America/New_York:20280502T190000
DTSTAMP:20260425T083642
CREATED:20240430T153129Z
LAST-MODIFIED:20240430T153129Z
UID:10003333-1840903200-1840906800@englewoodchristian.com
SUMMARY:Girl Scouts
DESCRIPTION:
URL:https://englewoodchristian.com/event/girl-scouts-2024-5/2028-05-02/
LOCATION:Englewood Christian Church\, 9600 Gulfstream Blvd\, Englewood\, FL\, 34224\, United States
CATEGORIES:Hosted
END:VEVENT
BEGIN:VEVENT
DTSTART;TZID=America/New_York:20280508T180000
DTEND;TZID=America/New_York:20280508T190000
DTSTAMP:20260425T083642
CREATED:20240430T150156Z
LAST-MODIFIED:20240430T150156Z
UID:10003232-1841421600-1841425200@englewoodchristian.com
SUMMARY:AA Meeting
DESCRIPTION:
URL:https://englewoodchristian.com/event/aa-meeting/2028-05-08/
LOCATION:Englewood Christian Church\, 9600 Gulfstream Blvd\, Englewood\, FL\, 34224\, United States
CATEGORIES:Hosted
END:VEVENT
BEGIN:VEVENT
DTSTART;TZID=America/New_York:20280515T180000
DTEND;TZID=America/New_York:20280515T190000
DTSTAMP:20260425T083642
CREATED:20240430T150156Z
LAST-MODIFIED:20240430T150156Z
UID:10003233-1842026400-1842030000@englewoodchristian.com
SUMMARY:AA Meeting
DESCRIPTION:
URL:https://englewoodchristian.com/event/aa-meeting/2028-05-15/
LOCATION:Englewood Christian Church\, 9600 Gulfstream Blvd\, Englewood\, FL\, 34224\, United States
CATEGORIES:Hosted
END:VEVENT
BEGIN:VEVENT
DTSTART;TZID=America/New_York:20280516T180000
DTEND;TZID=America/New_York:20280516T190000
DTSTAMP:20260425T083642
CREATED:20240430T153411Z
LAST-MODIFIED:20240430T153411Z
UID:10003393-1842112800-1842116400@englewoodchristian.com
SUMMARY:Girl Scouts
DESCRIPTION:
URL:https://englewoodchristian.com/event/girl-scouts-2024-21/2028-05-16/
LOCATION:Englewood Christian Church\, 9600 Gulfstream Blvd\, Englewood\, FL\, 34224\, United States
CATEGORIES:Hosted
END:VEVENT
BEGIN:VEVENT
DTSTART;TZID=America/New_York:20280522T180000
DTEND;TZID=America/New_York:20280522T190000
DTSTAMP:20260425T083642
CREATED:20240430T150156Z
LAST-MODIFIED:20240430T150156Z
UID:10003234-1842631200-1842634800@englewoodchristian.com
SUMMARY:AA Meeting
DESCRIPTION:
URL:https://englewoodchristian.com/event/aa-meeting/2028-05-22/
LOCATION:Englewood Christian Church\, 9600 Gulfstream Blvd\, Englewood\, FL\, 34224\, United States
CATEGORIES:Hosted
END:VEVENT
BEGIN:VEVENT
DTSTART;TZID=America/New_York:20280529T180000
DTEND;TZID=America/New_York:20280529T190000
DTSTAMP:20260425T083642
CREATED:20240430T150156Z
LAST-MODIFIED:20240430T150156Z
UID:10003235-1843236000-1843239600@englewoodchristian.com
SUMMARY:AA Meeting
DESCRIPTION:
URL:https://englewoodchristian.com/event/aa-meeting/2028-05-29/
LOCATION:Englewood Christian Church\, 9600 Gulfstream Blvd\, Englewood\, FL\, 34224\, United States
CATEGORIES:Hosted
END:VEVENT
BEGIN:VEVENT
DTSTART;TZID=America/New_York:20280605T180000
DTEND;TZID=America/New_York:20280605T190000
DTSTAMP:20260425T083642
CREATED:20240430T150156Z
LAST-MODIFIED:20240430T150156Z
UID:10003236-1843840800-1843844400@englewoodchristian.com
SUMMARY:AA Meeting
DESCRIPTION:
URL:https://englewoodchristian.com/event/aa-meeting/2028-06-05/
LOCATION:Englewood Christian Church\, 9600 Gulfstream Blvd\, Englewood\, FL\, 34224\, United States
CATEGORIES:Hosted
END:VEVENT
BEGIN:VEVENT
DTSTART;TZID=America/New_York:20280606T180000
DTEND;TZID=America/New_York:20280606T190000
DTSTAMP:20260425T083642
CREATED:20240430T153129Z
LAST-MODIFIED:20240430T153129Z
UID:10003334-1843927200-1843930800@englewoodchristian.com
SUMMARY:Girl Scouts
DESCRIPTION:
URL:https://englewoodchristian.com/event/girl-scouts-2024-5/2028-06-06/
LOCATION:Englewood Christian Church\, 9600 Gulfstream Blvd\, Englewood\, FL\, 34224\, United States
CATEGORIES:Hosted
END:VEVENT
BEGIN:VEVENT
DTSTART;TZID=America/New_York:20280612T180000
DTEND;TZID=America/New_York:20280612T190000
DTSTAMP:20260425T083642
CREATED:20240430T150156Z
LAST-MODIFIED:20240430T150156Z
UID:10003237-1844445600-1844449200@englewoodchristian.com
SUMMARY:AA Meeting
DESCRIPTION:
URL:https://englewoodchristian.com/event/aa-meeting/2028-06-12/
LOCATION:Englewood Christian Church\, 9600 Gulfstream Blvd\, Englewood\, FL\, 34224\, United States
CATEGORIES:Hosted
END:VEVENT
BEGIN:VEVENT
DTSTART;TZID=America/New_York:20280619T180000
DTEND;TZID=America/New_York:20280619T190000
DTSTAMP:20260425T083642
CREATED:20240430T150156Z
LAST-MODIFIED:20240430T150156Z
UID:10003238-1845050400-1845054000@englewoodchristian.com
SUMMARY:AA Meeting
DESCRIPTION:
URL:https://englewoodchristian.com/event/aa-meeting/2028-06-19/
LOCATION:Englewood Christian Church\, 9600 Gulfstream Blvd\, Englewood\, FL\, 34224\, United States
CATEGORIES:Hosted
END:VEVENT
BEGIN:VEVENT
DTSTART;TZID=America/New_York:20280620T180000
DTEND;TZID=America/New_York:20280620T190000
DTSTAMP:20260425T083642
CREATED:20240430T153411Z
LAST-MODIFIED:20240430T153411Z
UID:10003394-1845136800-1845140400@englewoodchristian.com
SUMMARY:Girl Scouts
DESCRIPTION:
URL:https://englewoodchristian.com/event/girl-scouts-2024-21/2028-06-20/
LOCATION:Englewood Christian Church\, 9600 Gulfstream Blvd\, Englewood\, FL\, 34224\, United States
CATEGORIES:Hosted
END:VEVENT
BEGIN:VEVENT
DTSTART;TZID=America/New_York:20280626T180000
DTEND;TZID=America/New_York:20280626T190000
DTSTAMP:20260425T083642
CREATED:20240430T150156Z
LAST-MODIFIED:20240430T150156Z
UID:10003239-1845655200-1845658800@englewoodchristian.com
SUMMARY:AA Meeting
DESCRIPTION:
URL:https://englewoodchristian.com/event/aa-meeting/2028-06-26/
LOCATION:Englewood Christian Church\, 9600 Gulfstream Blvd\, Englewood\, FL\, 34224\, United States
CATEGORIES:Hosted
END:VEVENT
BEGIN:VEVENT
DTSTART;TZID=America/New_York:20280703T180000
DTEND;TZID=America/New_York:20280703T190000
DTSTAMP:20260425T083642
CREATED:20240430T150156Z
LAST-MODIFIED:20240430T150156Z
UID:10003240-1846260000-1846263600@englewoodchristian.com
SUMMARY:AA Meeting
DESCRIPTION:
URL:https://englewoodchristian.com/event/aa-meeting/2028-07-03/
LOCATION:Englewood Christian Church\, 9600 Gulfstream Blvd\, Englewood\, FL\, 34224\, United States
CATEGORIES:Hosted
END:VEVENT
BEGIN:VEVENT
DTSTART;TZID=America/New_York:20280704T180000
DTEND;TZID=America/New_York:20280704T190000
DTSTAMP:20260425T083642
CREATED:20240430T153129Z
LAST-MODIFIED:20240430T153129Z
UID:10003335-1846346400-1846350000@englewoodchristian.com
SUMMARY:Girl Scouts
DESCRIPTION:
URL:https://englewoodchristian.com/event/girl-scouts-2024-5/2028-07-04/
LOCATION:Englewood Christian Church\, 9600 Gulfstream Blvd\, Englewood\, FL\, 34224\, United States
CATEGORIES:Hosted
END:VEVENT
BEGIN:VEVENT
DTSTART;TZID=America/New_York:20280710T180000
DTEND;TZID=America/New_York:20280710T190000
DTSTAMP:20260425T083642
CREATED:20240430T150156Z
LAST-MODIFIED:20240430T150156Z
UID:10003241-1846864800-1846868400@englewoodchristian.com
SUMMARY:AA Meeting
DESCRIPTION:
URL:https://englewoodchristian.com/event/aa-meeting/2028-07-10/
LOCATION:Englewood Christian Church\, 9600 Gulfstream Blvd\, Englewood\, FL\, 34224\, United States
CATEGORIES:Hosted
END:VEVENT
BEGIN:VEVENT
DTSTART;TZID=America/New_York:20280717T180000
DTEND;TZID=America/New_York:20280717T190000
DTSTAMP:20260425T083642
CREATED:20240430T150156Z
LAST-MODIFIED:20240430T150156Z
UID:10003242-1847469600-1847473200@englewoodchristian.com
SUMMARY:AA Meeting
DESCRIPTION:
URL:https://englewoodchristian.com/event/aa-meeting/2028-07-17/
LOCATION:Englewood Christian Church\, 9600 Gulfstream Blvd\, Englewood\, FL\, 34224\, United States
CATEGORIES:Hosted
END:VEVENT
BEGIN:VEVENT
DTSTART;TZID=America/New_York:20280718T180000
DTEND;TZID=America/New_York:20280718T190000
DTSTAMP:20260425T083642
CREATED:20240430T153411Z
LAST-MODIFIED:20240430T153411Z
UID:10003395-1847556000-1847559600@englewoodchristian.com
SUMMARY:Girl Scouts
DESCRIPTION:
URL:https://englewoodchristian.com/event/girl-scouts-2024-21/2028-07-18/
LOCATION:Englewood Christian Church\, 9600 Gulfstream Blvd\, Englewood\, FL\, 34224\, United States
CATEGORIES:Hosted
END:VEVENT
BEGIN:VEVENT
DTSTART;TZID=America/New_York:20280724T180000
DTEND;TZID=America/New_York:20280724T190000
DTSTAMP:20260425T083642
CREATED:20240430T150156Z
LAST-MODIFIED:20240430T150156Z
UID:10003243-1848074400-1848078000@englewoodchristian.com
SUMMARY:AA Meeting
DESCRIPTION:
URL:https://englewoodchristian.com/event/aa-meeting/2028-07-24/
LOCATION:Englewood Christian Church\, 9600 Gulfstream Blvd\, Englewood\, FL\, 34224\, United States
CATEGORIES:Hosted
END:VEVENT
BEGIN:VEVENT
DTSTART;TZID=America/New_York:20280731T180000
DTEND;TZID=America/New_York:20280731T190000
DTSTAMP:20260425T083642
CREATED:20240430T150156Z
LAST-MODIFIED:20240430T150156Z
UID:10003244-1848679200-1848682800@englewoodchristian.com
SUMMARY:AA Meeting
DESCRIPTION:
URL:https://englewoodchristian.com/event/aa-meeting/2028-07-31/
LOCATION:Englewood Christian Church\, 9600 Gulfstream Blvd\, Englewood\, FL\, 34224\, United States
CATEGORIES:Hosted
END:VEVENT
BEGIN:VEVENT
DTSTART;TZID=America/New_York:20280801T180000
DTEND;TZID=America/New_York:20280801T190000
DTSTAMP:20260425T083642
CREATED:20240430T153129Z
LAST-MODIFIED:20240430T153129Z
UID:10003336-1848765600-1848769200@englewoodchristian.com
SUMMARY:Girl Scouts
DESCRIPTION:
URL:https://englewoodchristian.com/event/girl-scouts-2024-5/2028-08-01/
LOCATION:Englewood Christian Church\, 9600 Gulfstream Blvd\, Englewood\, FL\, 34224\, United States
CATEGORIES:Hosted
END:VEVENT
BEGIN:VEVENT
DTSTART;TZID=America/New_York:20280807T180000
DTEND;TZID=America/New_York:20280807T190000
DTSTAMP:20260425T083642
CREATED:20240430T150156Z
LAST-MODIFIED:20240430T150156Z
UID:10003245-1849284000-1849287600@englewoodchristian.com
SUMMARY:AA Meeting
DESCRIPTION:
URL:https://englewoodchristian.com/event/aa-meeting/2028-08-07/
LOCATION:Englewood Christian Church\, 9600 Gulfstream Blvd\, Englewood\, FL\, 34224\, United States
CATEGORIES:Hosted
END:VEVENT
BEGIN:VEVENT
DTSTART;TZID=America/New_York:20280814T180000
DTEND;TZID=America/New_York:20280814T190000
DTSTAMP:20260425T083642
CREATED:20240430T150156Z
LAST-MODIFIED:20240430T150156Z
UID:10003246-1849888800-1849892400@englewoodchristian.com
SUMMARY:AA Meeting
DESCRIPTION:
URL:https://englewoodchristian.com/event/aa-meeting/2028-08-14/
LOCATION:Englewood Christian Church\, 9600 Gulfstream Blvd\, Englewood\, FL\, 34224\, United States
CATEGORIES:Hosted
END:VEVENT
BEGIN:VEVENT
DTSTART;TZID=America/New_York:20280815T180000
DTEND;TZID=America/New_York:20280815T190000
DTSTAMP:20260425T083642
CREATED:20240430T153411Z
LAST-MODIFIED:20240430T153411Z
UID:10003396-1849975200-1849978800@englewoodchristian.com
SUMMARY:Girl Scouts
DESCRIPTION:
URL:https://englewoodchristian.com/event/girl-scouts-2024-21/2028-08-15/
LOCATION:Englewood Christian Church\, 9600 Gulfstream Blvd\, Englewood\, FL\, 34224\, United States
CATEGORIES:Hosted
END:VEVENT
END:VCALENDAR