BEGIN:VCALENDAR
VERSION:2.0
PRODID:-//Englewood Christian Church - ECPv6.15.20//NONSGML v1.0//EN
CALSCALE:GREGORIAN
METHOD:PUBLISH
X-ORIGINAL-URL:https://englewoodchristian.com
X-WR-CALDESC:Events for Englewood Christian Church
REFRESH-INTERVAL;VALUE=DURATION:PT1H
X-Robots-Tag:noindex
X-PUBLISHED-TTL:PT1H
BEGIN:VTIMEZONE
TZID:America/New_York
BEGIN:DAYLIGHT
TZOFFSETFROM:-0500
TZOFFSETTO:-0400
TZNAME:EDT
DTSTART:20290311T070000
END:DAYLIGHT
BEGIN:STANDARD
TZOFFSETFROM:-0400
TZOFFSETTO:-0500
TZNAME:EST
DTSTART:20291104T060000
END:STANDARD
BEGIN:DAYLIGHT
TZOFFSETFROM:-0500
TZOFFSETTO:-0400
TZNAME:EDT
DTSTART:20300310T070000
END:DAYLIGHT
BEGIN:STANDARD
TZOFFSETFROM:-0400
TZOFFSETTO:-0500
TZNAME:EST
DTSTART:20301103T060000
END:STANDARD
BEGIN:DAYLIGHT
TZOFFSETFROM:-0500
TZOFFSETTO:-0400
TZNAME:EDT
DTSTART:20310309T070000
END:DAYLIGHT
BEGIN:STANDARD
TZOFFSETFROM:-0400
TZOFFSETTO:-0500
TZNAME:EST
DTSTART:20311102T060000
END:STANDARD
END:VTIMEZONE
BEGIN:VEVENT
DTSTART;TZID=America/New_York:20300212T123000
DTEND;TZID=America/New_York:20300212T143000
DTSTAMP:20260424T125229
CREATED:20240102T185554Z
LAST-MODIFIED:20251113T171703Z
UID:10006095-1897129800-1897137000@englewoodchristian.com
SUMMARY:Tuesday Women's Bible Study
DESCRIPTION:
URL:https://englewoodchristian.com/event/tuesday-womens-bible-study/2030-02-12/
CATEGORIES:Adult,Bible Study,Ladies,Women
END:VEVENT
BEGIN:VEVENT
DTSTART;TZID=America/New_York:20300212T183000
DTEND;TZID=America/New_York:20300212T201500
DTSTAMP:20260424T125229
CREATED:20240620T140951Z
LAST-MODIFIED:20251113T172153Z
UID:10006230-1897151400-1897157700@englewoodchristian.com
SUMMARY:Tuesday Night Small Group
DESCRIPTION:This Small Group meets Tuesday nights at 6:30pm and is led by Jim Chandler.
URL:https://englewoodchristian.com/event/tuesday-night-small-group/2030-02-12/
CATEGORIES:Adult,Bible Study
ORGANIZER;CN="Jim Chandler":MAILTO:jchandler@englewoodchristian.com
END:VEVENT
BEGIN:VEVENT
DTSTART;TZID=America/New_York:20300213T180000
DTEND;TZID=America/New_York:20300213T190000
DTSTAMP:20260424T125229
CREATED:20231031T010623Z
LAST-MODIFIED:20251118T205129Z
UID:10006334-1897236000-1897239600@englewoodchristian.com
SUMMARY:Adult Bible Study
DESCRIPTION:
URL:https://englewoodchristian.com/event/adult-bible-study-3/2030-02-13/
LOCATION:Englewood Christian Church\, 9600 Gulfstream Blvd\, Englewood\, FL\, 34224\, United States
CATEGORIES:Adult,Bible Study,Wednesday
END:VEVENT
BEGIN:VEVENT
DTSTART;TZID=America/New_York:20300214T090000
DTEND;TZID=America/New_York:20300214T100000
DTSTAMP:20260424T125229
CREATED:20231212T152706Z
LAST-MODIFIED:20251113T172636Z
UID:10006433-1897290000-1897293600@englewoodchristian.com
SUMMARY:Men's 4x4
DESCRIPTION:
URL:https://englewoodchristian.com/event/mens-4x4/2030-02-14/
LOCATION:Englewood Christian Church\, 9600 Gulfstream Blvd\, Englewood\, FL\, 34224\, United States
CATEGORIES:Bible Study,Mens
ATTACH;FMTTYPE=image/jpeg:https://englewoodchristian.com/wp-content/uploads/2023/06/mens_ministry_380x280.jpg
END:VEVENT
BEGIN:VEVENT
DTSTART;TZID=America/New_York:20300214T180000
DTEND;TZID=America/New_York:20300214T193000
DTSTAMP:20260424T125229
CREATED:20240620T153654Z
LAST-MODIFIED:20251113T172856Z
UID:10006506-1897322400-1897327800@englewoodchristian.com
SUMMARY:Thursday Night Small Group
DESCRIPTION:This small group meets every Thursday evening at 6:00pm.
URL:https://englewoodchristian.com/event/thursday-night-small-group/2030-02-14/
CATEGORIES:Adult,Bible Study
END:VEVENT
BEGIN:VEVENT
DTSTART;TZID=America/New_York:20300219T123000
DTEND;TZID=America/New_York:20300219T143000
DTSTAMP:20260424T125229
CREATED:20240102T185554Z
LAST-MODIFIED:20251113T171703Z
UID:10006096-1897734600-1897741800@englewoodchristian.com
SUMMARY:Tuesday Women's Bible Study
DESCRIPTION:
URL:https://englewoodchristian.com/event/tuesday-womens-bible-study/2030-02-19/
CATEGORIES:Adult,Bible Study,Ladies,Women
END:VEVENT
BEGIN:VEVENT
DTSTART;TZID=America/New_York:20300219T183000
DTEND;TZID=America/New_York:20300219T201500
DTSTAMP:20260424T125229
CREATED:20240620T140951Z
LAST-MODIFIED:20251113T172153Z
UID:10006231-1897756200-1897762500@englewoodchristian.com
SUMMARY:Tuesday Night Small Group
DESCRIPTION:This Small Group meets Tuesday nights at 6:30pm and is led by Jim Chandler.
URL:https://englewoodchristian.com/event/tuesday-night-small-group/2030-02-19/
CATEGORIES:Adult,Bible Study
ORGANIZER;CN="Jim Chandler":MAILTO:jchandler@englewoodchristian.com
END:VEVENT
BEGIN:VEVENT
DTSTART;TZID=America/New_York:20300220T180000
DTEND;TZID=America/New_York:20300220T190000
DTSTAMP:20260424T125229
CREATED:20231031T010623Z
LAST-MODIFIED:20251118T205129Z
UID:10006335-1897840800-1897844400@englewoodchristian.com
SUMMARY:Adult Bible Study
DESCRIPTION:
URL:https://englewoodchristian.com/event/adult-bible-study-3/2030-02-20/
LOCATION:Englewood Christian Church\, 9600 Gulfstream Blvd\, Englewood\, FL\, 34224\, United States
CATEGORIES:Adult,Bible Study,Wednesday
END:VEVENT
BEGIN:VEVENT
DTSTART;TZID=America/New_York:20300221T090000
DTEND;TZID=America/New_York:20300221T100000
DTSTAMP:20260424T125229
CREATED:20231212T152706Z
LAST-MODIFIED:20251113T172636Z
UID:10006434-1897894800-1897898400@englewoodchristian.com
SUMMARY:Men's 4x4
DESCRIPTION:
URL:https://englewoodchristian.com/event/mens-4x4/2030-02-21/
LOCATION:Englewood Christian Church\, 9600 Gulfstream Blvd\, Englewood\, FL\, 34224\, United States
CATEGORIES:Bible Study,Mens
ATTACH;FMTTYPE=image/jpeg:https://englewoodchristian.com/wp-content/uploads/2023/06/mens_ministry_380x280.jpg
END:VEVENT
BEGIN:VEVENT
DTSTART;TZID=America/New_York:20300221T180000
DTEND;TZID=America/New_York:20300221T193000
DTSTAMP:20260424T125229
CREATED:20240620T153654Z
LAST-MODIFIED:20251113T172856Z
UID:10006507-1897927200-1897932600@englewoodchristian.com
SUMMARY:Thursday Night Small Group
DESCRIPTION:This small group meets every Thursday evening at 6:00pm.
URL:https://englewoodchristian.com/event/thursday-night-small-group/2030-02-21/
CATEGORIES:Adult,Bible Study
END:VEVENT
BEGIN:VEVENT
DTSTART;TZID=America/New_York:20300226T123000
DTEND;TZID=America/New_York:20300226T143000
DTSTAMP:20260424T125229
CREATED:20240102T185554Z
LAST-MODIFIED:20251113T171703Z
UID:10006097-1898339400-1898346600@englewoodchristian.com
SUMMARY:Tuesday Women's Bible Study
DESCRIPTION:
URL:https://englewoodchristian.com/event/tuesday-womens-bible-study/2030-02-26/
CATEGORIES:Adult,Bible Study,Ladies,Women
END:VEVENT
BEGIN:VEVENT
DTSTART;TZID=America/New_York:20300226T183000
DTEND;TZID=America/New_York:20300226T201500
DTSTAMP:20260424T125229
CREATED:20240620T140951Z
LAST-MODIFIED:20251113T172153Z
UID:10006232-1898361000-1898367300@englewoodchristian.com
SUMMARY:Tuesday Night Small Group
DESCRIPTION:This Small Group meets Tuesday nights at 6:30pm and is led by Jim Chandler.
URL:https://englewoodchristian.com/event/tuesday-night-small-group/2030-02-26/
CATEGORIES:Adult,Bible Study
ORGANIZER;CN="Jim Chandler":MAILTO:jchandler@englewoodchristian.com
END:VEVENT
BEGIN:VEVENT
DTSTART;TZID=America/New_York:20300227T180000
DTEND;TZID=America/New_York:20300227T190000
DTSTAMP:20260424T125229
CREATED:20231031T010623Z
LAST-MODIFIED:20251118T205129Z
UID:10006336-1898445600-1898449200@englewoodchristian.com
SUMMARY:Adult Bible Study
DESCRIPTION:
URL:https://englewoodchristian.com/event/adult-bible-study-3/2030-02-27/
LOCATION:Englewood Christian Church\, 9600 Gulfstream Blvd\, Englewood\, FL\, 34224\, United States
CATEGORIES:Adult,Bible Study,Wednesday
END:VEVENT
BEGIN:VEVENT
DTSTART;TZID=America/New_York:20300228T090000
DTEND;TZID=America/New_York:20300228T100000
DTSTAMP:20260424T125229
CREATED:20231212T152706Z
LAST-MODIFIED:20251113T172636Z
UID:10006435-1898499600-1898503200@englewoodchristian.com
SUMMARY:Men's 4x4
DESCRIPTION:
URL:https://englewoodchristian.com/event/mens-4x4/2030-02-28/
LOCATION:Englewood Christian Church\, 9600 Gulfstream Blvd\, Englewood\, FL\, 34224\, United States
CATEGORIES:Bible Study,Mens
ATTACH;FMTTYPE=image/jpeg:https://englewoodchristian.com/wp-content/uploads/2023/06/mens_ministry_380x280.jpg
END:VEVENT
BEGIN:VEVENT
DTSTART;TZID=America/New_York:20300228T180000
DTEND;TZID=America/New_York:20300228T193000
DTSTAMP:20260424T125229
CREATED:20240620T153654Z
LAST-MODIFIED:20251113T172856Z
UID:10006508-1898532000-1898537400@englewoodchristian.com
SUMMARY:Thursday Night Small Group
DESCRIPTION:This small group meets every Thursday evening at 6:00pm.
URL:https://englewoodchristian.com/event/thursday-night-small-group/2030-02-28/
CATEGORIES:Adult,Bible Study
END:VEVENT
BEGIN:VEVENT
DTSTART;TZID=America/New_York:20300305T123000
DTEND;TZID=America/New_York:20300305T143000
DTSTAMP:20260424T125230
CREATED:20240102T185554Z
LAST-MODIFIED:20251113T171703Z
UID:10006098-1898944200-1898951400@englewoodchristian.com
SUMMARY:Tuesday Women's Bible Study
DESCRIPTION:
URL:https://englewoodchristian.com/event/tuesday-womens-bible-study/2030-03-05/
CATEGORIES:Adult,Bible Study,Ladies,Women
END:VEVENT
BEGIN:VEVENT
DTSTART;TZID=America/New_York:20300305T183000
DTEND;TZID=America/New_York:20300305T201500
DTSTAMP:20260424T125230
CREATED:20240620T140951Z
LAST-MODIFIED:20251113T172153Z
UID:10006233-1898965800-1898972100@englewoodchristian.com
SUMMARY:Tuesday Night Small Group
DESCRIPTION:This Small Group meets Tuesday nights at 6:30pm and is led by Jim Chandler.
URL:https://englewoodchristian.com/event/tuesday-night-small-group/2030-03-05/
CATEGORIES:Adult,Bible Study
ORGANIZER;CN="Jim Chandler":MAILTO:jchandler@englewoodchristian.com
END:VEVENT
BEGIN:VEVENT
DTSTART;TZID=America/New_York:20300306T180000
DTEND;TZID=America/New_York:20300306T190000
DTSTAMP:20260424T125230
CREATED:20231031T010623Z
LAST-MODIFIED:20251118T205129Z
UID:10006337-1899050400-1899054000@englewoodchristian.com
SUMMARY:Adult Bible Study
DESCRIPTION:
URL:https://englewoodchristian.com/event/adult-bible-study-3/2030-03-06/
LOCATION:Englewood Christian Church\, 9600 Gulfstream Blvd\, Englewood\, FL\, 34224\, United States
CATEGORIES:Adult,Bible Study,Wednesday
END:VEVENT
BEGIN:VEVENT
DTSTART;TZID=America/New_York:20300307T090000
DTEND;TZID=America/New_York:20300307T100000
DTSTAMP:20260424T125230
CREATED:20231212T152706Z
LAST-MODIFIED:20251113T172636Z
UID:10006436-1899104400-1899108000@englewoodchristian.com
SUMMARY:Men's 4x4
DESCRIPTION:
URL:https://englewoodchristian.com/event/mens-4x4/2030-03-07/
LOCATION:Englewood Christian Church\, 9600 Gulfstream Blvd\, Englewood\, FL\, 34224\, United States
CATEGORIES:Bible Study,Mens
ATTACH;FMTTYPE=image/jpeg:https://englewoodchristian.com/wp-content/uploads/2023/06/mens_ministry_380x280.jpg
END:VEVENT
BEGIN:VEVENT
DTSTART;TZID=America/New_York:20300307T180000
DTEND;TZID=America/New_York:20300307T193000
DTSTAMP:20260424T125230
CREATED:20240620T153654Z
LAST-MODIFIED:20251113T172856Z
UID:10006509-1899136800-1899142200@englewoodchristian.com
SUMMARY:Thursday Night Small Group
DESCRIPTION:This small group meets every Thursday evening at 6:00pm.
URL:https://englewoodchristian.com/event/thursday-night-small-group/2030-03-07/
CATEGORIES:Adult,Bible Study
END:VEVENT
BEGIN:VEVENT
DTSTART;TZID=America/New_York:20300312T123000
DTEND;TZID=America/New_York:20300312T143000
DTSTAMP:20260424T125230
CREATED:20240102T185554Z
LAST-MODIFIED:20251113T171703Z
UID:10006099-1899549000-1899556200@englewoodchristian.com
SUMMARY:Tuesday Women's Bible Study
DESCRIPTION:
URL:https://englewoodchristian.com/event/tuesday-womens-bible-study/2030-03-12/
CATEGORIES:Adult,Bible Study,Ladies,Women
END:VEVENT
BEGIN:VEVENT
DTSTART;TZID=America/New_York:20300312T183000
DTEND;TZID=America/New_York:20300312T201500
DTSTAMP:20260424T125230
CREATED:20240620T140951Z
LAST-MODIFIED:20251113T172153Z
UID:10006234-1899570600-1899576900@englewoodchristian.com
SUMMARY:Tuesday Night Small Group
DESCRIPTION:This Small Group meets Tuesday nights at 6:30pm and is led by Jim Chandler.
URL:https://englewoodchristian.com/event/tuesday-night-small-group/2030-03-12/
CATEGORIES:Adult,Bible Study
ORGANIZER;CN="Jim Chandler":MAILTO:jchandler@englewoodchristian.com
END:VEVENT
BEGIN:VEVENT
DTSTART;TZID=America/New_York:20300313T180000
DTEND;TZID=America/New_York:20300313T190000
DTSTAMP:20260424T125230
CREATED:20231031T010623Z
LAST-MODIFIED:20251118T205129Z
UID:10006338-1899655200-1899658800@englewoodchristian.com
SUMMARY:Adult Bible Study
DESCRIPTION:
URL:https://englewoodchristian.com/event/adult-bible-study-3/2030-03-13/
LOCATION:Englewood Christian Church\, 9600 Gulfstream Blvd\, Englewood\, FL\, 34224\, United States
CATEGORIES:Adult,Bible Study,Wednesday
END:VEVENT
BEGIN:VEVENT
DTSTART;TZID=America/New_York:20300314T090000
DTEND;TZID=America/New_York:20300314T100000
DTSTAMP:20260424T125230
CREATED:20231212T152706Z
LAST-MODIFIED:20251113T172636Z
UID:10006437-1899709200-1899712800@englewoodchristian.com
SUMMARY:Men's 4x4
DESCRIPTION:
URL:https://englewoodchristian.com/event/mens-4x4/2030-03-14/
LOCATION:Englewood Christian Church\, 9600 Gulfstream Blvd\, Englewood\, FL\, 34224\, United States
CATEGORIES:Bible Study,Mens
ATTACH;FMTTYPE=image/jpeg:https://englewoodchristian.com/wp-content/uploads/2023/06/mens_ministry_380x280.jpg
END:VEVENT
BEGIN:VEVENT
DTSTART;TZID=America/New_York:20300314T180000
DTEND;TZID=America/New_York:20300314T193000
DTSTAMP:20260424T125230
CREATED:20240620T153654Z
LAST-MODIFIED:20251113T172856Z
UID:10006510-1899741600-1899747000@englewoodchristian.com
SUMMARY:Thursday Night Small Group
DESCRIPTION:This small group meets every Thursday evening at 6:00pm.
URL:https://englewoodchristian.com/event/thursday-night-small-group/2030-03-14/
CATEGORIES:Adult,Bible Study
END:VEVENT
BEGIN:VEVENT
DTSTART;TZID=America/New_York:20300319T123000
DTEND;TZID=America/New_York:20300319T143000
DTSTAMP:20260424T125230
CREATED:20240102T185554Z
LAST-MODIFIED:20251113T171703Z
UID:10006100-1900153800-1900161000@englewoodchristian.com
SUMMARY:Tuesday Women's Bible Study
DESCRIPTION:
URL:https://englewoodchristian.com/event/tuesday-womens-bible-study/2030-03-19/
CATEGORIES:Adult,Bible Study,Ladies,Women
END:VEVENT
BEGIN:VEVENT
DTSTART;TZID=America/New_York:20300319T183000
DTEND;TZID=America/New_York:20300319T201500
DTSTAMP:20260424T125230
CREATED:20240620T140951Z
LAST-MODIFIED:20251113T172153Z
UID:10006235-1900175400-1900181700@englewoodchristian.com
SUMMARY:Tuesday Night Small Group
DESCRIPTION:This Small Group meets Tuesday nights at 6:30pm and is led by Jim Chandler.
URL:https://englewoodchristian.com/event/tuesday-night-small-group/2030-03-19/
CATEGORIES:Adult,Bible Study
ORGANIZER;CN="Jim Chandler":MAILTO:jchandler@englewoodchristian.com
END:VEVENT
BEGIN:VEVENT
DTSTART;TZID=America/New_York:20300320T180000
DTEND;TZID=America/New_York:20300320T190000
DTSTAMP:20260424T125230
CREATED:20231031T010623Z
LAST-MODIFIED:20251118T205129Z
UID:10006339-1900260000-1900263600@englewoodchristian.com
SUMMARY:Adult Bible Study
DESCRIPTION:
URL:https://englewoodchristian.com/event/adult-bible-study-3/2030-03-20/
LOCATION:Englewood Christian Church\, 9600 Gulfstream Blvd\, Englewood\, FL\, 34224\, United States
CATEGORIES:Adult,Bible Study,Wednesday
END:VEVENT
BEGIN:VEVENT
DTSTART;TZID=America/New_York:20300321T090000
DTEND;TZID=America/New_York:20300321T100000
DTSTAMP:20260424T125230
CREATED:20231212T152706Z
LAST-MODIFIED:20251113T172636Z
UID:10006438-1900314000-1900317600@englewoodchristian.com
SUMMARY:Men's 4x4
DESCRIPTION:
URL:https://englewoodchristian.com/event/mens-4x4/2030-03-21/
LOCATION:Englewood Christian Church\, 9600 Gulfstream Blvd\, Englewood\, FL\, 34224\, United States
CATEGORIES:Bible Study,Mens
ATTACH;FMTTYPE=image/jpeg:https://englewoodchristian.com/wp-content/uploads/2023/06/mens_ministry_380x280.jpg
END:VEVENT
BEGIN:VEVENT
DTSTART;TZID=America/New_York:20300321T180000
DTEND;TZID=America/New_York:20300321T193000
DTSTAMP:20260424T125230
CREATED:20240620T153654Z
LAST-MODIFIED:20251113T172856Z
UID:10006511-1900346400-1900351800@englewoodchristian.com
SUMMARY:Thursday Night Small Group
DESCRIPTION:This small group meets every Thursday evening at 6:00pm.
URL:https://englewoodchristian.com/event/thursday-night-small-group/2030-03-21/
CATEGORIES:Adult,Bible Study
END:VEVENT
END:VCALENDAR