BEGIN:VCALENDAR
VERSION:2.0
PRODID:-//Englewood Christian Church - ECPv6.15.20//NONSGML v1.0//EN
CALSCALE:GREGORIAN
METHOD:PUBLISH
X-WR-CALNAME:Englewood Christian Church
X-ORIGINAL-URL:https://englewoodchristian.com
X-WR-CALDESC:Events for Englewood Christian Church
REFRESH-INTERVAL;VALUE=DURATION:PT1H
X-Robots-Tag:noindex
X-PUBLISHED-TTL:PT1H
BEGIN:VTIMEZONE
TZID:America/New_York
BEGIN:DAYLIGHT
TZOFFSETFROM:-0500
TZOFFSETTO:-0400
TZNAME:EDT
DTSTART:20270314T070000
END:DAYLIGHT
BEGIN:STANDARD
TZOFFSETFROM:-0400
TZOFFSETTO:-0500
TZNAME:EST
DTSTART:20271107T060000
END:STANDARD
BEGIN:DAYLIGHT
TZOFFSETFROM:-0500
TZOFFSETTO:-0400
TZNAME:EDT
DTSTART:20280312T070000
END:DAYLIGHT
BEGIN:STANDARD
TZOFFSETFROM:-0400
TZOFFSETTO:-0500
TZNAME:EST
DTSTART:20281105T060000
END:STANDARD
BEGIN:DAYLIGHT
TZOFFSETFROM:-0500
TZOFFSETTO:-0400
TZNAME:EDT
DTSTART:20290311T070000
END:DAYLIGHT
BEGIN:STANDARD
TZOFFSETFROM:-0400
TZOFFSETTO:-0500
TZNAME:EST
DTSTART:20291104T060000
END:STANDARD
END:VTIMEZONE
BEGIN:VEVENT
DTSTART;TZID=America/New_York:20280521T180000
DTEND;TZID=America/New_York:20280521T190000
DTSTAMP:20260424T112533
CREATED:20240620T151840Z
LAST-MODIFIED:20240620T151840Z
UID:10004807-1842544800-1842548400@englewoodchristian.com
SUMMARY:Sunday Night Small Group
DESCRIPTION:This Small Group meets on Sunday evenings at 6:00pm and is led by Jim Chandler.
URL:https://englewoodchristian.com/event/sunday-night-small-group/2028-05-21/
CATEGORIES:Adult,Bible Study
ORGANIZER;CN="Jim Chandler":MAILTO:jchandler@englewoodchristian.com
END:VEVENT
BEGIN:VEVENT
DTSTART;TZID=America/New_York:20280523T123000
DTEND;TZID=America/New_York:20280523T143000
DTSTAMP:20260424T112533
CREATED:20240102T185554Z
LAST-MODIFIED:20251113T171703Z
UID:10001861-1842697800-1842705000@englewoodchristian.com
SUMMARY:Tuesday Women's Bible Study
DESCRIPTION:
URL:https://englewoodchristian.com/event/tuesday-womens-bible-study/2028-05-23/
CATEGORIES:Adult,Bible Study,Ladies,Women
END:VEVENT
BEGIN:VEVENT
DTSTART;TZID=America/New_York:20280523T183000
DTEND;TZID=America/New_York:20280523T201500
DTSTAMP:20260424T112533
CREATED:20240620T140951Z
LAST-MODIFIED:20251113T172153Z
UID:10004521-1842719400-1842725700@englewoodchristian.com
SUMMARY:Tuesday Night Small Group
DESCRIPTION:This Small Group meets Tuesday nights at 6:30pm and is led by Jim Chandler.
URL:https://englewoodchristian.com/event/tuesday-night-small-group/2028-05-23/
CATEGORIES:Adult,Bible Study
ORGANIZER;CN="Jim Chandler":MAILTO:jchandler@englewoodchristian.com
END:VEVENT
BEGIN:VEVENT
DTSTART;TZID=America/New_York:20280524T180000
DTEND;TZID=America/New_York:20280524T190000
DTSTAMP:20260424T112533
CREATED:20231031T010623Z
LAST-MODIFIED:20251118T205129Z
UID:10001304-1842804000-1842807600@englewoodchristian.com
SUMMARY:Adult Bible Study
DESCRIPTION:
URL:https://englewoodchristian.com/event/adult-bible-study-3/2028-05-24/
LOCATION:Englewood Christian Church\, 9600 Gulfstream Blvd\, Englewood\, FL\, 34224\, United States
CATEGORIES:Adult,Bible Study,Wednesday
END:VEVENT
BEGIN:VEVENT
DTSTART;TZID=America/New_York:20280525T090000
DTEND;TZID=America/New_York:20280525T100000
DTSTAMP:20260424T112533
CREATED:20231212T152706Z
LAST-MODIFIED:20251113T172636Z
UID:10001564-1842858000-1842861600@englewoodchristian.com
SUMMARY:Men's 4x4
DESCRIPTION:
URL:https://englewoodchristian.com/event/mens-4x4/2028-05-25/
LOCATION:Englewood Christian Church\, 9600 Gulfstream Blvd\, Englewood\, FL\, 34224\, United States
CATEGORIES:Bible Study,Mens
ATTACH;FMTTYPE=image/jpeg:https://englewoodchristian.com/wp-content/uploads/2023/06/mens_ministry_380x280.jpg
END:VEVENT
BEGIN:VEVENT
DTSTART;TZID=America/New_York:20280525T180000
DTEND;TZID=America/New_York:20280525T193000
DTSTAMP:20260424T112533
CREATED:20240620T153654Z
LAST-MODIFIED:20251113T172856Z
UID:10005058-1842890400-1842895800@englewoodchristian.com
SUMMARY:Thursday Night Small Group
DESCRIPTION:This small group meets every Thursday evening at 6:00pm.
URL:https://englewoodchristian.com/event/thursday-night-small-group/2028-05-25/
CATEGORIES:Adult,Bible Study
END:VEVENT
BEGIN:VEVENT
DTSTART;TZID=America/New_York:20280528T180000
DTEND;TZID=America/New_York:20280528T190000
DTSTAMP:20260424T112533
CREATED:20240620T151840Z
LAST-MODIFIED:20240620T151840Z
UID:10004808-1843149600-1843153200@englewoodchristian.com
SUMMARY:Sunday Night Small Group
DESCRIPTION:This Small Group meets on Sunday evenings at 6:00pm and is led by Jim Chandler.
URL:https://englewoodchristian.com/event/sunday-night-small-group/2028-05-28/
CATEGORIES:Adult,Bible Study
ORGANIZER;CN="Jim Chandler":MAILTO:jchandler@englewoodchristian.com
END:VEVENT
BEGIN:VEVENT
DTSTART;TZID=America/New_York:20280530T123000
DTEND;TZID=America/New_York:20280530T143000
DTSTAMP:20260424T112533
CREATED:20240102T185554Z
LAST-MODIFIED:20251113T171703Z
UID:10001862-1843302600-1843309800@englewoodchristian.com
SUMMARY:Tuesday Women's Bible Study
DESCRIPTION:
URL:https://englewoodchristian.com/event/tuesday-womens-bible-study/2028-05-30/
CATEGORIES:Adult,Bible Study,Ladies,Women
END:VEVENT
BEGIN:VEVENT
DTSTART;TZID=America/New_York:20280530T183000
DTEND;TZID=America/New_York:20280530T201500
DTSTAMP:20260424T112533
CREATED:20240620T140951Z
LAST-MODIFIED:20251113T172153Z
UID:10004522-1843324200-1843330500@englewoodchristian.com
SUMMARY:Tuesday Night Small Group
DESCRIPTION:This Small Group meets Tuesday nights at 6:30pm and is led by Jim Chandler.
URL:https://englewoodchristian.com/event/tuesday-night-small-group/2028-05-30/
CATEGORIES:Adult,Bible Study
ORGANIZER;CN="Jim Chandler":MAILTO:jchandler@englewoodchristian.com
END:VEVENT
BEGIN:VEVENT
DTSTART;TZID=America/New_York:20280531T180000
DTEND;TZID=America/New_York:20280531T190000
DTSTAMP:20260424T112533
CREATED:20231031T010623Z
LAST-MODIFIED:20251118T205129Z
UID:10001305-1843408800-1843412400@englewoodchristian.com
SUMMARY:Adult Bible Study
DESCRIPTION:
URL:https://englewoodchristian.com/event/adult-bible-study-3/2028-05-31/
LOCATION:Englewood Christian Church\, 9600 Gulfstream Blvd\, Englewood\, FL\, 34224\, United States
CATEGORIES:Adult,Bible Study,Wednesday
END:VEVENT
BEGIN:VEVENT
DTSTART;TZID=America/New_York:20280601T090000
DTEND;TZID=America/New_York:20280601T100000
DTSTAMP:20260424T112533
CREATED:20231212T152706Z
LAST-MODIFIED:20251113T172636Z
UID:10001565-1843462800-1843466400@englewoodchristian.com
SUMMARY:Men's 4x4
DESCRIPTION:
URL:https://englewoodchristian.com/event/mens-4x4/2028-06-01/
LOCATION:Englewood Christian Church\, 9600 Gulfstream Blvd\, Englewood\, FL\, 34224\, United States
CATEGORIES:Bible Study,Mens
ATTACH;FMTTYPE=image/jpeg:https://englewoodchristian.com/wp-content/uploads/2023/06/mens_ministry_380x280.jpg
END:VEVENT
BEGIN:VEVENT
DTSTART;TZID=America/New_York:20280601T180000
DTEND;TZID=America/New_York:20280601T193000
DTSTAMP:20260424T112533
CREATED:20240620T153654Z
LAST-MODIFIED:20251113T172856Z
UID:10005059-1843495200-1843500600@englewoodchristian.com
SUMMARY:Thursday Night Small Group
DESCRIPTION:This small group meets every Thursday evening at 6:00pm.
URL:https://englewoodchristian.com/event/thursday-night-small-group/2028-06-01/
CATEGORIES:Adult,Bible Study
END:VEVENT
BEGIN:VEVENT
DTSTART;TZID=America/New_York:20280604T180000
DTEND;TZID=America/New_York:20280604T190000
DTSTAMP:20260424T112533
CREATED:20240620T151840Z
LAST-MODIFIED:20240620T151840Z
UID:10004809-1843754400-1843758000@englewoodchristian.com
SUMMARY:Sunday Night Small Group
DESCRIPTION:This Small Group meets on Sunday evenings at 6:00pm and is led by Jim Chandler.
URL:https://englewoodchristian.com/event/sunday-night-small-group/2028-06-04/
CATEGORIES:Adult,Bible Study
ORGANIZER;CN="Jim Chandler":MAILTO:jchandler@englewoodchristian.com
END:VEVENT
BEGIN:VEVENT
DTSTART;TZID=America/New_York:20280606T123000
DTEND;TZID=America/New_York:20280606T143000
DTSTAMP:20260424T112533
CREATED:20240102T185554Z
LAST-MODIFIED:20251113T171703Z
UID:10001863-1843907400-1843914600@englewoodchristian.com
SUMMARY:Tuesday Women's Bible Study
DESCRIPTION:
URL:https://englewoodchristian.com/event/tuesday-womens-bible-study/2028-06-06/
CATEGORIES:Adult,Bible Study,Ladies,Women
END:VEVENT
BEGIN:VEVENT
DTSTART;TZID=America/New_York:20280606T183000
DTEND;TZID=America/New_York:20280606T201500
DTSTAMP:20260424T112533
CREATED:20240620T140951Z
LAST-MODIFIED:20251113T172153Z
UID:10004523-1843929000-1843935300@englewoodchristian.com
SUMMARY:Tuesday Night Small Group
DESCRIPTION:This Small Group meets Tuesday nights at 6:30pm and is led by Jim Chandler.
URL:https://englewoodchristian.com/event/tuesday-night-small-group/2028-06-06/
CATEGORIES:Adult,Bible Study
ORGANIZER;CN="Jim Chandler":MAILTO:jchandler@englewoodchristian.com
END:VEVENT
BEGIN:VEVENT
DTSTART;TZID=America/New_York:20280607T180000
DTEND;TZID=America/New_York:20280607T190000
DTSTAMP:20260424T112533
CREATED:20231031T010623Z
LAST-MODIFIED:20251118T205129Z
UID:10001306-1844013600-1844017200@englewoodchristian.com
SUMMARY:Adult Bible Study
DESCRIPTION:
URL:https://englewoodchristian.com/event/adult-bible-study-3/2028-06-07/
LOCATION:Englewood Christian Church\, 9600 Gulfstream Blvd\, Englewood\, FL\, 34224\, United States
CATEGORIES:Adult,Bible Study,Wednesday
END:VEVENT
BEGIN:VEVENT
DTSTART;TZID=America/New_York:20280608T090000
DTEND;TZID=America/New_York:20280608T100000
DTSTAMP:20260424T112533
CREATED:20231212T152706Z
LAST-MODIFIED:20251113T172636Z
UID:10001566-1844067600-1844071200@englewoodchristian.com
SUMMARY:Men's 4x4
DESCRIPTION:
URL:https://englewoodchristian.com/event/mens-4x4/2028-06-08/
LOCATION:Englewood Christian Church\, 9600 Gulfstream Blvd\, Englewood\, FL\, 34224\, United States
CATEGORIES:Bible Study,Mens
ATTACH;FMTTYPE=image/jpeg:https://englewoodchristian.com/wp-content/uploads/2023/06/mens_ministry_380x280.jpg
END:VEVENT
BEGIN:VEVENT
DTSTART;TZID=America/New_York:20280608T180000
DTEND;TZID=America/New_York:20280608T193000
DTSTAMP:20260424T112533
CREATED:20240620T153654Z
LAST-MODIFIED:20251113T172856Z
UID:10005060-1844100000-1844105400@englewoodchristian.com
SUMMARY:Thursday Night Small Group
DESCRIPTION:This small group meets every Thursday evening at 6:00pm.
URL:https://englewoodchristian.com/event/thursday-night-small-group/2028-06-08/
CATEGORIES:Adult,Bible Study
END:VEVENT
BEGIN:VEVENT
DTSTART;TZID=America/New_York:20280611T180000
DTEND;TZID=America/New_York:20280611T190000
DTSTAMP:20260424T112533
CREATED:20240620T151840Z
LAST-MODIFIED:20240620T151840Z
UID:10004810-1844359200-1844362800@englewoodchristian.com
SUMMARY:Sunday Night Small Group
DESCRIPTION:This Small Group meets on Sunday evenings at 6:00pm and is led by Jim Chandler.
URL:https://englewoodchristian.com/event/sunday-night-small-group/2028-06-11/
CATEGORIES:Adult,Bible Study
ORGANIZER;CN="Jim Chandler":MAILTO:jchandler@englewoodchristian.com
END:VEVENT
BEGIN:VEVENT
DTSTART;TZID=America/New_York:20280613T123000
DTEND;TZID=America/New_York:20280613T143000
DTSTAMP:20260424T112533
CREATED:20240102T185554Z
LAST-MODIFIED:20251113T171703Z
UID:10001864-1844512200-1844519400@englewoodchristian.com
SUMMARY:Tuesday Women's Bible Study
DESCRIPTION:
URL:https://englewoodchristian.com/event/tuesday-womens-bible-study/2028-06-13/
CATEGORIES:Adult,Bible Study,Ladies,Women
END:VEVENT
BEGIN:VEVENT
DTSTART;TZID=America/New_York:20280613T183000
DTEND;TZID=America/New_York:20280613T201500
DTSTAMP:20260424T112533
CREATED:20240620T140951Z
LAST-MODIFIED:20251113T172153Z
UID:10004524-1844533800-1844540100@englewoodchristian.com
SUMMARY:Tuesday Night Small Group
DESCRIPTION:This Small Group meets Tuesday nights at 6:30pm and is led by Jim Chandler.
URL:https://englewoodchristian.com/event/tuesday-night-small-group/2028-06-13/
CATEGORIES:Adult,Bible Study
ORGANIZER;CN="Jim Chandler":MAILTO:jchandler@englewoodchristian.com
END:VEVENT
BEGIN:VEVENT
DTSTART;TZID=America/New_York:20280614T180000
DTEND;TZID=America/New_York:20280614T190000
DTSTAMP:20260424T112533
CREATED:20231031T010623Z
LAST-MODIFIED:20251118T205129Z
UID:10001307-1844618400-1844622000@englewoodchristian.com
SUMMARY:Adult Bible Study
DESCRIPTION:
URL:https://englewoodchristian.com/event/adult-bible-study-3/2028-06-14/
LOCATION:Englewood Christian Church\, 9600 Gulfstream Blvd\, Englewood\, FL\, 34224\, United States
CATEGORIES:Adult,Bible Study,Wednesday
END:VEVENT
BEGIN:VEVENT
DTSTART;TZID=America/New_York:20280615T090000
DTEND;TZID=America/New_York:20280615T100000
DTSTAMP:20260424T112533
CREATED:20231212T152706Z
LAST-MODIFIED:20251113T172636Z
UID:10001567-1844672400-1844676000@englewoodchristian.com
SUMMARY:Men's 4x4
DESCRIPTION:
URL:https://englewoodchristian.com/event/mens-4x4/2028-06-15/
LOCATION:Englewood Christian Church\, 9600 Gulfstream Blvd\, Englewood\, FL\, 34224\, United States
CATEGORIES:Bible Study,Mens
ATTACH;FMTTYPE=image/jpeg:https://englewoodchristian.com/wp-content/uploads/2023/06/mens_ministry_380x280.jpg
END:VEVENT
BEGIN:VEVENT
DTSTART;TZID=America/New_York:20280615T180000
DTEND;TZID=America/New_York:20280615T193000
DTSTAMP:20260424T112533
CREATED:20240620T153654Z
LAST-MODIFIED:20251113T172856Z
UID:10005061-1844704800-1844710200@englewoodchristian.com
SUMMARY:Thursday Night Small Group
DESCRIPTION:This small group meets every Thursday evening at 6:00pm.
URL:https://englewoodchristian.com/event/thursday-night-small-group/2028-06-15/
CATEGORIES:Adult,Bible Study
END:VEVENT
BEGIN:VEVENT
DTSTART;TZID=America/New_York:20280618T180000
DTEND;TZID=America/New_York:20280618T190000
DTSTAMP:20260424T112533
CREATED:20240620T151840Z
LAST-MODIFIED:20240620T151840Z
UID:10004811-1844964000-1844967600@englewoodchristian.com
SUMMARY:Sunday Night Small Group
DESCRIPTION:This Small Group meets on Sunday evenings at 6:00pm and is led by Jim Chandler.
URL:https://englewoodchristian.com/event/sunday-night-small-group/2028-06-18/
CATEGORIES:Adult,Bible Study
ORGANIZER;CN="Jim Chandler":MAILTO:jchandler@englewoodchristian.com
END:VEVENT
BEGIN:VEVENT
DTSTART;TZID=America/New_York:20280620T123000
DTEND;TZID=America/New_York:20280620T143000
DTSTAMP:20260424T112533
CREATED:20240102T185554Z
LAST-MODIFIED:20251113T171703Z
UID:10001865-1845117000-1845124200@englewoodchristian.com
SUMMARY:Tuesday Women's Bible Study
DESCRIPTION:
URL:https://englewoodchristian.com/event/tuesday-womens-bible-study/2028-06-20/
CATEGORIES:Adult,Bible Study,Ladies,Women
END:VEVENT
BEGIN:VEVENT
DTSTART;TZID=America/New_York:20280620T183000
DTEND;TZID=America/New_York:20280620T201500
DTSTAMP:20260424T112533
CREATED:20240620T140951Z
LAST-MODIFIED:20251113T172153Z
UID:10004525-1845138600-1845144900@englewoodchristian.com
SUMMARY:Tuesday Night Small Group
DESCRIPTION:This Small Group meets Tuesday nights at 6:30pm and is led by Jim Chandler.
URL:https://englewoodchristian.com/event/tuesday-night-small-group/2028-06-20/
CATEGORIES:Adult,Bible Study
ORGANIZER;CN="Jim Chandler":MAILTO:jchandler@englewoodchristian.com
END:VEVENT
BEGIN:VEVENT
DTSTART;TZID=America/New_York:20280621T180000
DTEND;TZID=America/New_York:20280621T190000
DTSTAMP:20260424T112533
CREATED:20231031T010623Z
LAST-MODIFIED:20251118T205129Z
UID:10001308-1845223200-1845226800@englewoodchristian.com
SUMMARY:Adult Bible Study
DESCRIPTION:
URL:https://englewoodchristian.com/event/adult-bible-study-3/2028-06-21/
LOCATION:Englewood Christian Church\, 9600 Gulfstream Blvd\, Englewood\, FL\, 34224\, United States
CATEGORIES:Adult,Bible Study,Wednesday
END:VEVENT
BEGIN:VEVENT
DTSTART;TZID=America/New_York:20280622T090000
DTEND;TZID=America/New_York:20280622T100000
DTSTAMP:20260424T112533
CREATED:20231212T152706Z
LAST-MODIFIED:20251113T172636Z
UID:10001568-1845277200-1845280800@englewoodchristian.com
SUMMARY:Men's 4x4
DESCRIPTION:
URL:https://englewoodchristian.com/event/mens-4x4/2028-06-22/
LOCATION:Englewood Christian Church\, 9600 Gulfstream Blvd\, Englewood\, FL\, 34224\, United States
CATEGORIES:Bible Study,Mens
ATTACH;FMTTYPE=image/jpeg:https://englewoodchristian.com/wp-content/uploads/2023/06/mens_ministry_380x280.jpg
END:VEVENT
BEGIN:VEVENT
DTSTART;TZID=America/New_York:20280622T180000
DTEND;TZID=America/New_York:20280622T193000
DTSTAMP:20260424T112533
CREATED:20240620T153654Z
LAST-MODIFIED:20251113T172856Z
UID:10005062-1845309600-1845315000@englewoodchristian.com
SUMMARY:Thursday Night Small Group
DESCRIPTION:This small group meets every Thursday evening at 6:00pm.
URL:https://englewoodchristian.com/event/thursday-night-small-group/2028-06-22/
CATEGORIES:Adult,Bible Study
END:VEVENT
END:VCALENDAR