BEGIN:VCALENDAR
VERSION:2.0
PRODID:-//Englewood Christian Church - ECPv6.15.20//NONSGML v1.0//EN
CALSCALE:GREGORIAN
METHOD:PUBLISH
X-ORIGINAL-URL:https://englewoodchristian.com
X-WR-CALDESC:Events for Englewood Christian Church
REFRESH-INTERVAL;VALUE=DURATION:PT1H
X-Robots-Tag:noindex
X-PUBLISHED-TTL:PT1H
BEGIN:VTIMEZONE
TZID:America/New_York
BEGIN:DAYLIGHT
TZOFFSETFROM:-0500
TZOFFSETTO:-0400
TZNAME:EDT
DTSTART:20280312T070000
END:DAYLIGHT
BEGIN:STANDARD
TZOFFSETFROM:-0400
TZOFFSETTO:-0500
TZNAME:EST
DTSTART:20281105T060000
END:STANDARD
BEGIN:DAYLIGHT
TZOFFSETFROM:-0500
TZOFFSETTO:-0400
TZNAME:EDT
DTSTART:20290311T070000
END:DAYLIGHT
BEGIN:STANDARD
TZOFFSETFROM:-0400
TZOFFSETTO:-0500
TZNAME:EST
DTSTART:20291104T060000
END:STANDARD
BEGIN:DAYLIGHT
TZOFFSETFROM:-0500
TZOFFSETTO:-0400
TZNAME:EDT
DTSTART:20300310T070000
END:DAYLIGHT
BEGIN:STANDARD
TZOFFSETFROM:-0400
TZOFFSETTO:-0500
TZNAME:EST
DTSTART:20301103T060000
END:STANDARD
END:VTIMEZONE
BEGIN:VEVENT
DTSTART;TZID=America/New_York:20290614T090000
DTEND;TZID=America/New_York:20290614T100000
DTSTAMP:20260425T114135
CREATED:20231212T152706Z
LAST-MODIFIED:20251113T172636Z
UID:10006398-1876122000-1876125600@englewoodchristian.com
SUMMARY:Men's 4x4
DESCRIPTION:
URL:https://englewoodchristian.com/event/mens-4x4/2029-06-14/
LOCATION:Englewood Christian Church\, 9600 Gulfstream Blvd\, Englewood\, FL\, 34224\, United States
CATEGORIES:Bible Study,Mens
ATTACH;FMTTYPE=image/jpeg:https://englewoodchristian.com/wp-content/uploads/2023/06/mens_ministry_380x280.jpg
END:VEVENT
BEGIN:VEVENT
DTSTART;TZID=America/New_York:20290614T180000
DTEND;TZID=America/New_York:20290614T193000
DTSTAMP:20260425T114135
CREATED:20240620T153654Z
LAST-MODIFIED:20251113T172856Z
UID:10005113-1876154400-1876159800@englewoodchristian.com
SUMMARY:Thursday Night Small Group
DESCRIPTION:This small group meets every Thursday evening at 6:00pm.
URL:https://englewoodchristian.com/event/thursday-night-small-group/2029-06-14/
CATEGORIES:Adult,Bible Study
END:VEVENT
BEGIN:VEVENT
DTSTART;TZID=America/New_York:20290617T180000
DTEND;TZID=America/New_York:20290617T190000
DTSTAMP:20260425T114136
CREATED:20240620T151840Z
LAST-MODIFIED:20240620T151840Z
UID:10004863-1876413600-1876417200@englewoodchristian.com
SUMMARY:Sunday Night Small Group
DESCRIPTION:This Small Group meets on Sunday evenings at 6:00pm and is led by Jim Chandler.
URL:https://englewoodchristian.com/event/sunday-night-small-group/2029-06-17/
CATEGORIES:Adult,Bible Study
ORGANIZER;CN="Jim Chandler":MAILTO:jchandler@englewoodchristian.com
END:VEVENT
BEGIN:VEVENT
DTSTART;TZID=America/New_York:20290619T123000
DTEND;TZID=America/New_York:20290619T143000
DTSTAMP:20260425T114136
CREATED:20240102T185554Z
LAST-MODIFIED:20251113T171703Z
UID:10006061-1876566600-1876573800@englewoodchristian.com
SUMMARY:Tuesday Women's Bible Study
DESCRIPTION:
URL:https://englewoodchristian.com/event/tuesday-womens-bible-study/2029-06-19/
CATEGORIES:Adult,Bible Study,Ladies,Women
END:VEVENT
BEGIN:VEVENT
DTSTART;TZID=America/New_York:20290619T183000
DTEND;TZID=America/New_York:20290619T201500
DTSTAMP:20260425T114136
CREATED:20240620T140951Z
LAST-MODIFIED:20251113T172153Z
UID:10004577-1876588200-1876594500@englewoodchristian.com
SUMMARY:Tuesday Night Small Group
DESCRIPTION:This Small Group meets Tuesday nights at 6:30pm and is led by Jim Chandler.
URL:https://englewoodchristian.com/event/tuesday-night-small-group/2029-06-19/
CATEGORIES:Adult,Bible Study
ORGANIZER;CN="Jim Chandler":MAILTO:jchandler@englewoodchristian.com
END:VEVENT
BEGIN:VEVENT
DTSTART;TZID=America/New_York:20290620T180000
DTEND;TZID=America/New_York:20290620T190000
DTSTAMP:20260425T114136
CREATED:20231031T010623Z
LAST-MODIFIED:20251118T205129Z
UID:10006300-1876672800-1876676400@englewoodchristian.com
SUMMARY:Adult Bible Study
DESCRIPTION:
URL:https://englewoodchristian.com/event/adult-bible-study-3/2029-06-20/
LOCATION:Englewood Christian Church\, 9600 Gulfstream Blvd\, Englewood\, FL\, 34224\, United States
CATEGORIES:Adult,Bible Study,Wednesday
END:VEVENT
BEGIN:VEVENT
DTSTART;TZID=America/New_York:20290621T090000
DTEND;TZID=America/New_York:20290621T100000
DTSTAMP:20260425T114136
CREATED:20231212T152706Z
LAST-MODIFIED:20251113T172636Z
UID:10006399-1876726800-1876730400@englewoodchristian.com
SUMMARY:Men's 4x4
DESCRIPTION:
URL:https://englewoodchristian.com/event/mens-4x4/2029-06-21/
LOCATION:Englewood Christian Church\, 9600 Gulfstream Blvd\, Englewood\, FL\, 34224\, United States
CATEGORIES:Bible Study,Mens
ATTACH;FMTTYPE=image/jpeg:https://englewoodchristian.com/wp-content/uploads/2023/06/mens_ministry_380x280.jpg
END:VEVENT
BEGIN:VEVENT
DTSTART;TZID=America/New_York:20290621T180000
DTEND;TZID=America/New_York:20290621T193000
DTSTAMP:20260425T114136
CREATED:20240620T153654Z
LAST-MODIFIED:20251113T172856Z
UID:10006472-1876759200-1876764600@englewoodchristian.com
SUMMARY:Thursday Night Small Group
DESCRIPTION:This small group meets every Thursday evening at 6:00pm.
URL:https://englewoodchristian.com/event/thursday-night-small-group/2029-06-21/
CATEGORIES:Adult,Bible Study
END:VEVENT
BEGIN:VEVENT
DTSTART;TZID=America/New_York:20290626T123000
DTEND;TZID=America/New_York:20290626T143000
DTSTAMP:20260425T114136
CREATED:20240102T185554Z
LAST-MODIFIED:20251113T171703Z
UID:10006062-1877171400-1877178600@englewoodchristian.com
SUMMARY:Tuesday Women's Bible Study
DESCRIPTION:
URL:https://englewoodchristian.com/event/tuesday-womens-bible-study/2029-06-26/
CATEGORIES:Adult,Bible Study,Ladies,Women
END:VEVENT
BEGIN:VEVENT
DTSTART;TZID=America/New_York:20290626T183000
DTEND;TZID=America/New_York:20290626T201500
DTSTAMP:20260425T114136
CREATED:20240620T140951Z
LAST-MODIFIED:20251113T172153Z
UID:10006197-1877193000-1877199300@englewoodchristian.com
SUMMARY:Tuesday Night Small Group
DESCRIPTION:This Small Group meets Tuesday nights at 6:30pm and is led by Jim Chandler.
URL:https://englewoodchristian.com/event/tuesday-night-small-group/2029-06-26/
CATEGORIES:Adult,Bible Study
ORGANIZER;CN="Jim Chandler":MAILTO:jchandler@englewoodchristian.com
END:VEVENT
BEGIN:VEVENT
DTSTART;TZID=America/New_York:20290627T180000
DTEND;TZID=America/New_York:20290627T190000
DTSTAMP:20260425T114136
CREATED:20231031T010623Z
LAST-MODIFIED:20251118T205129Z
UID:10006301-1877277600-1877281200@englewoodchristian.com
SUMMARY:Adult Bible Study
DESCRIPTION:
URL:https://englewoodchristian.com/event/adult-bible-study-3/2029-06-27/
LOCATION:Englewood Christian Church\, 9600 Gulfstream Blvd\, Englewood\, FL\, 34224\, United States
CATEGORIES:Adult,Bible Study,Wednesday
END:VEVENT
BEGIN:VEVENT
DTSTART;TZID=America/New_York:20290628T090000
DTEND;TZID=America/New_York:20290628T100000
DTSTAMP:20260425T114136
CREATED:20231212T152706Z
LAST-MODIFIED:20251113T172636Z
UID:10006400-1877331600-1877335200@englewoodchristian.com
SUMMARY:Men's 4x4
DESCRIPTION:
URL:https://englewoodchristian.com/event/mens-4x4/2029-06-28/
LOCATION:Englewood Christian Church\, 9600 Gulfstream Blvd\, Englewood\, FL\, 34224\, United States
CATEGORIES:Bible Study,Mens
ATTACH;FMTTYPE=image/jpeg:https://englewoodchristian.com/wp-content/uploads/2023/06/mens_ministry_380x280.jpg
END:VEVENT
BEGIN:VEVENT
DTSTART;TZID=America/New_York:20290628T180000
DTEND;TZID=America/New_York:20290628T193000
DTSTAMP:20260425T114136
CREATED:20240620T153654Z
LAST-MODIFIED:20251113T172856Z
UID:10006473-1877364000-1877369400@englewoodchristian.com
SUMMARY:Thursday Night Small Group
DESCRIPTION:This small group meets every Thursday evening at 6:00pm.
URL:https://englewoodchristian.com/event/thursday-night-small-group/2029-06-28/
CATEGORIES:Adult,Bible Study
END:VEVENT
BEGIN:VEVENT
DTSTART;TZID=America/New_York:20290703T123000
DTEND;TZID=America/New_York:20290703T143000
DTSTAMP:20260425T114136
CREATED:20240102T185554Z
LAST-MODIFIED:20251113T171703Z
UID:10006063-1877776200-1877783400@englewoodchristian.com
SUMMARY:Tuesday Women's Bible Study
DESCRIPTION:
URL:https://englewoodchristian.com/event/tuesday-womens-bible-study/2029-07-03/
CATEGORIES:Adult,Bible Study,Ladies,Women
END:VEVENT
BEGIN:VEVENT
DTSTART;TZID=America/New_York:20290703T183000
DTEND;TZID=America/New_York:20290703T201500
DTSTAMP:20260425T114136
CREATED:20240620T140951Z
LAST-MODIFIED:20251113T172153Z
UID:10006198-1877797800-1877804100@englewoodchristian.com
SUMMARY:Tuesday Night Small Group
DESCRIPTION:This Small Group meets Tuesday nights at 6:30pm and is led by Jim Chandler.
URL:https://englewoodchristian.com/event/tuesday-night-small-group/2029-07-03/
CATEGORIES:Adult,Bible Study
ORGANIZER;CN="Jim Chandler":MAILTO:jchandler@englewoodchristian.com
END:VEVENT
BEGIN:VEVENT
DTSTART;TZID=America/New_York:20290704T180000
DTEND;TZID=America/New_York:20290704T190000
DTSTAMP:20260425T114136
CREATED:20231031T010623Z
LAST-MODIFIED:20251118T205129Z
UID:10006302-1877882400-1877886000@englewoodchristian.com
SUMMARY:Adult Bible Study
DESCRIPTION:
URL:https://englewoodchristian.com/event/adult-bible-study-3/2029-07-04/
LOCATION:Englewood Christian Church\, 9600 Gulfstream Blvd\, Englewood\, FL\, 34224\, United States
CATEGORIES:Adult,Bible Study,Wednesday
END:VEVENT
BEGIN:VEVENT
DTSTART;TZID=America/New_York:20290705T090000
DTEND;TZID=America/New_York:20290705T100000
DTSTAMP:20260425T114136
CREATED:20231212T152706Z
LAST-MODIFIED:20251113T172636Z
UID:10006401-1877936400-1877940000@englewoodchristian.com
SUMMARY:Men's 4x4
DESCRIPTION:
URL:https://englewoodchristian.com/event/mens-4x4/2029-07-05/
LOCATION:Englewood Christian Church\, 9600 Gulfstream Blvd\, Englewood\, FL\, 34224\, United States
CATEGORIES:Bible Study,Mens
ATTACH;FMTTYPE=image/jpeg:https://englewoodchristian.com/wp-content/uploads/2023/06/mens_ministry_380x280.jpg
END:VEVENT
BEGIN:VEVENT
DTSTART;TZID=America/New_York:20290705T180000
DTEND;TZID=America/New_York:20290705T193000
DTSTAMP:20260425T114136
CREATED:20240620T153654Z
LAST-MODIFIED:20251113T172856Z
UID:10006474-1877968800-1877974200@englewoodchristian.com
SUMMARY:Thursday Night Small Group
DESCRIPTION:This small group meets every Thursday evening at 6:00pm.
URL:https://englewoodchristian.com/event/thursday-night-small-group/2029-07-05/
CATEGORIES:Adult,Bible Study
END:VEVENT
BEGIN:VEVENT
DTSTART;TZID=America/New_York:20290710T123000
DTEND;TZID=America/New_York:20290710T143000
DTSTAMP:20260425T114136
CREATED:20240102T185554Z
LAST-MODIFIED:20251113T171703Z
UID:10006064-1878381000-1878388200@englewoodchristian.com
SUMMARY:Tuesday Women's Bible Study
DESCRIPTION:
URL:https://englewoodchristian.com/event/tuesday-womens-bible-study/2029-07-10/
CATEGORIES:Adult,Bible Study,Ladies,Women
END:VEVENT
BEGIN:VEVENT
DTSTART;TZID=America/New_York:20290710T183000
DTEND;TZID=America/New_York:20290710T201500
DTSTAMP:20260425T114136
CREATED:20240620T140951Z
LAST-MODIFIED:20251113T172153Z
UID:10006199-1878402600-1878408900@englewoodchristian.com
SUMMARY:Tuesday Night Small Group
DESCRIPTION:This Small Group meets Tuesday nights at 6:30pm and is led by Jim Chandler.
URL:https://englewoodchristian.com/event/tuesday-night-small-group/2029-07-10/
CATEGORIES:Adult,Bible Study
ORGANIZER;CN="Jim Chandler":MAILTO:jchandler@englewoodchristian.com
END:VEVENT
BEGIN:VEVENT
DTSTART;TZID=America/New_York:20290711T180000
DTEND;TZID=America/New_York:20290711T190000
DTSTAMP:20260425T114136
CREATED:20231031T010623Z
LAST-MODIFIED:20251118T205129Z
UID:10006303-1878487200-1878490800@englewoodchristian.com
SUMMARY:Adult Bible Study
DESCRIPTION:
URL:https://englewoodchristian.com/event/adult-bible-study-3/2029-07-11/
LOCATION:Englewood Christian Church\, 9600 Gulfstream Blvd\, Englewood\, FL\, 34224\, United States
CATEGORIES:Adult,Bible Study,Wednesday
END:VEVENT
BEGIN:VEVENT
DTSTART;TZID=America/New_York:20290712T090000
DTEND;TZID=America/New_York:20290712T100000
DTSTAMP:20260425T114136
CREATED:20231212T152706Z
LAST-MODIFIED:20251113T172636Z
UID:10006402-1878541200-1878544800@englewoodchristian.com
SUMMARY:Men's 4x4
DESCRIPTION:
URL:https://englewoodchristian.com/event/mens-4x4/2029-07-12/
LOCATION:Englewood Christian Church\, 9600 Gulfstream Blvd\, Englewood\, FL\, 34224\, United States
CATEGORIES:Bible Study,Mens
ATTACH;FMTTYPE=image/jpeg:https://englewoodchristian.com/wp-content/uploads/2023/06/mens_ministry_380x280.jpg
END:VEVENT
BEGIN:VEVENT
DTSTART;TZID=America/New_York:20290712T180000
DTEND;TZID=America/New_York:20290712T193000
DTSTAMP:20260425T114136
CREATED:20240620T153654Z
LAST-MODIFIED:20251113T172856Z
UID:10006475-1878573600-1878579000@englewoodchristian.com
SUMMARY:Thursday Night Small Group
DESCRIPTION:This small group meets every Thursday evening at 6:00pm.
URL:https://englewoodchristian.com/event/thursday-night-small-group/2029-07-12/
CATEGORIES:Adult,Bible Study
END:VEVENT
BEGIN:VEVENT
DTSTART;TZID=America/New_York:20290717T123000
DTEND;TZID=America/New_York:20290717T143000
DTSTAMP:20260425T114136
CREATED:20240102T185554Z
LAST-MODIFIED:20251113T171703Z
UID:10006065-1878985800-1878993000@englewoodchristian.com
SUMMARY:Tuesday Women's Bible Study
DESCRIPTION:
URL:https://englewoodchristian.com/event/tuesday-womens-bible-study/2029-07-17/
CATEGORIES:Adult,Bible Study,Ladies,Women
END:VEVENT
BEGIN:VEVENT
DTSTART;TZID=America/New_York:20290717T183000
DTEND;TZID=America/New_York:20290717T201500
DTSTAMP:20260425T114136
CREATED:20240620T140951Z
LAST-MODIFIED:20251113T172153Z
UID:10006200-1879007400-1879013700@englewoodchristian.com
SUMMARY:Tuesday Night Small Group
DESCRIPTION:This Small Group meets Tuesday nights at 6:30pm and is led by Jim Chandler.
URL:https://englewoodchristian.com/event/tuesday-night-small-group/2029-07-17/
CATEGORIES:Adult,Bible Study
ORGANIZER;CN="Jim Chandler":MAILTO:jchandler@englewoodchristian.com
END:VEVENT
BEGIN:VEVENT
DTSTART;TZID=America/New_York:20290718T180000
DTEND;TZID=America/New_York:20290718T190000
DTSTAMP:20260425T114136
CREATED:20231031T010623Z
LAST-MODIFIED:20251118T205129Z
UID:10006304-1879092000-1879095600@englewoodchristian.com
SUMMARY:Adult Bible Study
DESCRIPTION:
URL:https://englewoodchristian.com/event/adult-bible-study-3/2029-07-18/
LOCATION:Englewood Christian Church\, 9600 Gulfstream Blvd\, Englewood\, FL\, 34224\, United States
CATEGORIES:Adult,Bible Study,Wednesday
END:VEVENT
BEGIN:VEVENT
DTSTART;TZID=America/New_York:20290719T090000
DTEND;TZID=America/New_York:20290719T100000
DTSTAMP:20260425T114136
CREATED:20231212T152706Z
LAST-MODIFIED:20251113T172636Z
UID:10006403-1879146000-1879149600@englewoodchristian.com
SUMMARY:Men's 4x4
DESCRIPTION:
URL:https://englewoodchristian.com/event/mens-4x4/2029-07-19/
LOCATION:Englewood Christian Church\, 9600 Gulfstream Blvd\, Englewood\, FL\, 34224\, United States
CATEGORIES:Bible Study,Mens
ATTACH;FMTTYPE=image/jpeg:https://englewoodchristian.com/wp-content/uploads/2023/06/mens_ministry_380x280.jpg
END:VEVENT
BEGIN:VEVENT
DTSTART;TZID=America/New_York:20290719T180000
DTEND;TZID=America/New_York:20290719T193000
DTSTAMP:20260425T114136
CREATED:20240620T153654Z
LAST-MODIFIED:20251113T172856Z
UID:10006476-1879178400-1879183800@englewoodchristian.com
SUMMARY:Thursday Night Small Group
DESCRIPTION:This small group meets every Thursday evening at 6:00pm.
URL:https://englewoodchristian.com/event/thursday-night-small-group/2029-07-19/
CATEGORIES:Adult,Bible Study
END:VEVENT
BEGIN:VEVENT
DTSTART;TZID=America/New_York:20290724T123000
DTEND;TZID=America/New_York:20290724T143000
DTSTAMP:20260425T114136
CREATED:20240102T185554Z
LAST-MODIFIED:20251113T171703Z
UID:10006066-1879590600-1879597800@englewoodchristian.com
SUMMARY:Tuesday Women's Bible Study
DESCRIPTION:
URL:https://englewoodchristian.com/event/tuesday-womens-bible-study/2029-07-24/
CATEGORIES:Adult,Bible Study,Ladies,Women
END:VEVENT
BEGIN:VEVENT
DTSTART;TZID=America/New_York:20290724T183000
DTEND;TZID=America/New_York:20290724T201500
DTSTAMP:20260425T114136
CREATED:20240620T140951Z
LAST-MODIFIED:20251113T172153Z
UID:10006201-1879612200-1879618500@englewoodchristian.com
SUMMARY:Tuesday Night Small Group
DESCRIPTION:This Small Group meets Tuesday nights at 6:30pm and is led by Jim Chandler.
URL:https://englewoodchristian.com/event/tuesday-night-small-group/2029-07-24/
CATEGORIES:Adult,Bible Study
ORGANIZER;CN="Jim Chandler":MAILTO:jchandler@englewoodchristian.com
END:VEVENT
END:VCALENDAR