BEGIN:VCALENDAR
VERSION:2.0
PRODID:-//Englewood Christian Church - ECPv6.15.20//NONSGML v1.0//EN
CALSCALE:GREGORIAN
METHOD:PUBLISH
X-WR-CALNAME:Englewood Christian Church
X-ORIGINAL-URL:https://englewoodchristian.com
X-WR-CALDESC:Events for Englewood Christian Church
REFRESH-INTERVAL;VALUE=DURATION:PT1H
X-Robots-Tag:noindex
X-PUBLISHED-TTL:PT1H
BEGIN:VTIMEZONE
TZID:America/New_York
BEGIN:DAYLIGHT
TZOFFSETFROM:-0500
TZOFFSETTO:-0400
TZNAME:EDT
DTSTART:20280312T070000
END:DAYLIGHT
BEGIN:STANDARD
TZOFFSETFROM:-0400
TZOFFSETTO:-0500
TZNAME:EST
DTSTART:20281105T060000
END:STANDARD
BEGIN:DAYLIGHT
TZOFFSETFROM:-0500
TZOFFSETTO:-0400
TZNAME:EDT
DTSTART:20290311T070000
END:DAYLIGHT
BEGIN:STANDARD
TZOFFSETFROM:-0400
TZOFFSETTO:-0500
TZNAME:EST
DTSTART:20291104T060000
END:STANDARD
BEGIN:DAYLIGHT
TZOFFSETFROM:-0500
TZOFFSETTO:-0400
TZNAME:EDT
DTSTART:20300310T070000
END:DAYLIGHT
BEGIN:STANDARD
TZOFFSETFROM:-0400
TZOFFSETTO:-0500
TZNAME:EST
DTSTART:20301103T060000
END:STANDARD
END:VTIMEZONE
BEGIN:VEVENT
DTSTART;TZID=America/New_York:20290725T180000
DTEND;TZID=America/New_York:20290725T190000
DTSTAMP:20260425T143058
CREATED:20231031T010623Z
LAST-MODIFIED:20251118T205129Z
UID:10006305-1879696800-1879700400@englewoodchristian.com
SUMMARY:Adult Bible Study
DESCRIPTION:
URL:https://englewoodchristian.com/event/adult-bible-study-3/2029-07-25/
LOCATION:Englewood Christian Church\, 9600 Gulfstream Blvd\, Englewood\, FL\, 34224\, United States
CATEGORIES:Adult,Bible Study,Wednesday
END:VEVENT
BEGIN:VEVENT
DTSTART;TZID=America/New_York:20290726T090000
DTEND;TZID=America/New_York:20290726T100000
DTSTAMP:20260425T143058
CREATED:20231212T152706Z
LAST-MODIFIED:20251113T172636Z
UID:10006404-1879750800-1879754400@englewoodchristian.com
SUMMARY:Men's 4x4
DESCRIPTION:
URL:https://englewoodchristian.com/event/mens-4x4/2029-07-26/
LOCATION:Englewood Christian Church\, 9600 Gulfstream Blvd\, Englewood\, FL\, 34224\, United States
CATEGORIES:Bible Study,Mens
ATTACH;FMTTYPE=image/jpeg:https://englewoodchristian.com/wp-content/uploads/2023/06/mens_ministry_380x280.jpg
END:VEVENT
BEGIN:VEVENT
DTSTART;TZID=America/New_York:20290726T180000
DTEND;TZID=America/New_York:20290726T193000
DTSTAMP:20260425T143058
CREATED:20240620T153654Z
LAST-MODIFIED:20251113T172856Z
UID:10006477-1879783200-1879788600@englewoodchristian.com
SUMMARY:Thursday Night Small Group
DESCRIPTION:This small group meets every Thursday evening at 6:00pm.
URL:https://englewoodchristian.com/event/thursday-night-small-group/2029-07-26/
CATEGORIES:Adult,Bible Study
END:VEVENT
BEGIN:VEVENT
DTSTART;TZID=America/New_York:20290731T123000
DTEND;TZID=America/New_York:20290731T143000
DTSTAMP:20260425T143058
CREATED:20240102T185554Z
LAST-MODIFIED:20251113T171703Z
UID:10006067-1880195400-1880202600@englewoodchristian.com
SUMMARY:Tuesday Women's Bible Study
DESCRIPTION:
URL:https://englewoodchristian.com/event/tuesday-womens-bible-study/2029-07-31/
CATEGORIES:Adult,Bible Study,Ladies,Women
END:VEVENT
BEGIN:VEVENT
DTSTART;TZID=America/New_York:20290731T183000
DTEND;TZID=America/New_York:20290731T201500
DTSTAMP:20260425T143058
CREATED:20240620T140951Z
LAST-MODIFIED:20251113T172153Z
UID:10006202-1880217000-1880223300@englewoodchristian.com
SUMMARY:Tuesday Night Small Group
DESCRIPTION:This Small Group meets Tuesday nights at 6:30pm and is led by Jim Chandler.
URL:https://englewoodchristian.com/event/tuesday-night-small-group/2029-07-31/
CATEGORIES:Adult,Bible Study
ORGANIZER;CN="Jim Chandler":MAILTO:jchandler@englewoodchristian.com
END:VEVENT
BEGIN:VEVENT
DTSTART;TZID=America/New_York:20290801T180000
DTEND;TZID=America/New_York:20290801T190000
DTSTAMP:20260425T143058
CREATED:20231031T010623Z
LAST-MODIFIED:20251118T205129Z
UID:10006306-1880301600-1880305200@englewoodchristian.com
SUMMARY:Adult Bible Study
DESCRIPTION:
URL:https://englewoodchristian.com/event/adult-bible-study-3/2029-08-01/
LOCATION:Englewood Christian Church\, 9600 Gulfstream Blvd\, Englewood\, FL\, 34224\, United States
CATEGORIES:Adult,Bible Study,Wednesday
END:VEVENT
BEGIN:VEVENT
DTSTART;TZID=America/New_York:20290802T090000
DTEND;TZID=America/New_York:20290802T100000
DTSTAMP:20260425T143058
CREATED:20231212T152706Z
LAST-MODIFIED:20251113T172636Z
UID:10006405-1880355600-1880359200@englewoodchristian.com
SUMMARY:Men's 4x4
DESCRIPTION:
URL:https://englewoodchristian.com/event/mens-4x4/2029-08-02/
LOCATION:Englewood Christian Church\, 9600 Gulfstream Blvd\, Englewood\, FL\, 34224\, United States
CATEGORIES:Bible Study,Mens
ATTACH;FMTTYPE=image/jpeg:https://englewoodchristian.com/wp-content/uploads/2023/06/mens_ministry_380x280.jpg
END:VEVENT
BEGIN:VEVENT
DTSTART;TZID=America/New_York:20290802T180000
DTEND;TZID=America/New_York:20290802T193000
DTSTAMP:20260425T143058
CREATED:20240620T153654Z
LAST-MODIFIED:20251113T172856Z
UID:10006478-1880388000-1880393400@englewoodchristian.com
SUMMARY:Thursday Night Small Group
DESCRIPTION:This small group meets every Thursday evening at 6:00pm.
URL:https://englewoodchristian.com/event/thursday-night-small-group/2029-08-02/
CATEGORIES:Adult,Bible Study
END:VEVENT
BEGIN:VEVENT
DTSTART;TZID=America/New_York:20290807T123000
DTEND;TZID=America/New_York:20290807T143000
DTSTAMP:20260425T143058
CREATED:20240102T185554Z
LAST-MODIFIED:20251113T171703Z
UID:10006068-1880800200-1880807400@englewoodchristian.com
SUMMARY:Tuesday Women's Bible Study
DESCRIPTION:
URL:https://englewoodchristian.com/event/tuesday-womens-bible-study/2029-08-07/
CATEGORIES:Adult,Bible Study,Ladies,Women
END:VEVENT
BEGIN:VEVENT
DTSTART;TZID=America/New_York:20290807T183000
DTEND;TZID=America/New_York:20290807T201500
DTSTAMP:20260425T143058
CREATED:20240620T140951Z
LAST-MODIFIED:20251113T172153Z
UID:10006203-1880821800-1880828100@englewoodchristian.com
SUMMARY:Tuesday Night Small Group
DESCRIPTION:This Small Group meets Tuesday nights at 6:30pm and is led by Jim Chandler.
URL:https://englewoodchristian.com/event/tuesday-night-small-group/2029-08-07/
CATEGORIES:Adult,Bible Study
ORGANIZER;CN="Jim Chandler":MAILTO:jchandler@englewoodchristian.com
END:VEVENT
BEGIN:VEVENT
DTSTART;TZID=America/New_York:20290808T180000
DTEND;TZID=America/New_York:20290808T190000
DTSTAMP:20260425T143058
CREATED:20231031T010623Z
LAST-MODIFIED:20251118T205129Z
UID:10006307-1880906400-1880910000@englewoodchristian.com
SUMMARY:Adult Bible Study
DESCRIPTION:
URL:https://englewoodchristian.com/event/adult-bible-study-3/2029-08-08/
LOCATION:Englewood Christian Church\, 9600 Gulfstream Blvd\, Englewood\, FL\, 34224\, United States
CATEGORIES:Adult,Bible Study,Wednesday
END:VEVENT
BEGIN:VEVENT
DTSTART;TZID=America/New_York:20290809T090000
DTEND;TZID=America/New_York:20290809T100000
DTSTAMP:20260425T143058
CREATED:20231212T152706Z
LAST-MODIFIED:20251113T172636Z
UID:10006406-1880960400-1880964000@englewoodchristian.com
SUMMARY:Men's 4x4
DESCRIPTION:
URL:https://englewoodchristian.com/event/mens-4x4/2029-08-09/
LOCATION:Englewood Christian Church\, 9600 Gulfstream Blvd\, Englewood\, FL\, 34224\, United States
CATEGORIES:Bible Study,Mens
ATTACH;FMTTYPE=image/jpeg:https://englewoodchristian.com/wp-content/uploads/2023/06/mens_ministry_380x280.jpg
END:VEVENT
BEGIN:VEVENT
DTSTART;TZID=America/New_York:20290809T180000
DTEND;TZID=America/New_York:20290809T193000
DTSTAMP:20260425T143058
CREATED:20240620T153654Z
LAST-MODIFIED:20251113T172856Z
UID:10006479-1880992800-1880998200@englewoodchristian.com
SUMMARY:Thursday Night Small Group
DESCRIPTION:This small group meets every Thursday evening at 6:00pm.
URL:https://englewoodchristian.com/event/thursday-night-small-group/2029-08-09/
CATEGORIES:Adult,Bible Study
END:VEVENT
BEGIN:VEVENT
DTSTART;TZID=America/New_York:20290814T123000
DTEND;TZID=America/New_York:20290814T143000
DTSTAMP:20260425T143058
CREATED:20240102T185554Z
LAST-MODIFIED:20251113T171703Z
UID:10006069-1881405000-1881412200@englewoodchristian.com
SUMMARY:Tuesday Women's Bible Study
DESCRIPTION:
URL:https://englewoodchristian.com/event/tuesday-womens-bible-study/2029-08-14/
CATEGORIES:Adult,Bible Study,Ladies,Women
END:VEVENT
BEGIN:VEVENT
DTSTART;TZID=America/New_York:20290814T183000
DTEND;TZID=America/New_York:20290814T201500
DTSTAMP:20260425T143058
CREATED:20240620T140951Z
LAST-MODIFIED:20251113T172153Z
UID:10006204-1881426600-1881432900@englewoodchristian.com
SUMMARY:Tuesday Night Small Group
DESCRIPTION:This Small Group meets Tuesday nights at 6:30pm and is led by Jim Chandler.
URL:https://englewoodchristian.com/event/tuesday-night-small-group/2029-08-14/
CATEGORIES:Adult,Bible Study
ORGANIZER;CN="Jim Chandler":MAILTO:jchandler@englewoodchristian.com
END:VEVENT
BEGIN:VEVENT
DTSTART;TZID=America/New_York:20290815T180000
DTEND;TZID=America/New_York:20290815T190000
DTSTAMP:20260425T143058
CREATED:20231031T010623Z
LAST-MODIFIED:20251118T205129Z
UID:10006308-1881511200-1881514800@englewoodchristian.com
SUMMARY:Adult Bible Study
DESCRIPTION:
URL:https://englewoodchristian.com/event/adult-bible-study-3/2029-08-15/
LOCATION:Englewood Christian Church\, 9600 Gulfstream Blvd\, Englewood\, FL\, 34224\, United States
CATEGORIES:Adult,Bible Study,Wednesday
END:VEVENT
BEGIN:VEVENT
DTSTART;TZID=America/New_York:20290816T090000
DTEND;TZID=America/New_York:20290816T100000
DTSTAMP:20260425T143058
CREATED:20231212T152706Z
LAST-MODIFIED:20251113T172636Z
UID:10006407-1881565200-1881568800@englewoodchristian.com
SUMMARY:Men's 4x4
DESCRIPTION:
URL:https://englewoodchristian.com/event/mens-4x4/2029-08-16/
LOCATION:Englewood Christian Church\, 9600 Gulfstream Blvd\, Englewood\, FL\, 34224\, United States
CATEGORIES:Bible Study,Mens
ATTACH;FMTTYPE=image/jpeg:https://englewoodchristian.com/wp-content/uploads/2023/06/mens_ministry_380x280.jpg
END:VEVENT
BEGIN:VEVENT
DTSTART;TZID=America/New_York:20290816T180000
DTEND;TZID=America/New_York:20290816T193000
DTSTAMP:20260425T143058
CREATED:20240620T153654Z
LAST-MODIFIED:20251113T172856Z
UID:10006480-1881597600-1881603000@englewoodchristian.com
SUMMARY:Thursday Night Small Group
DESCRIPTION:This small group meets every Thursday evening at 6:00pm.
URL:https://englewoodchristian.com/event/thursday-night-small-group/2029-08-16/
CATEGORIES:Adult,Bible Study
END:VEVENT
BEGIN:VEVENT
DTSTART;TZID=America/New_York:20290821T123000
DTEND;TZID=America/New_York:20290821T143000
DTSTAMP:20260425T143058
CREATED:20240102T185554Z
LAST-MODIFIED:20251113T171703Z
UID:10006070-1882009800-1882017000@englewoodchristian.com
SUMMARY:Tuesday Women's Bible Study
DESCRIPTION:
URL:https://englewoodchristian.com/event/tuesday-womens-bible-study/2029-08-21/
CATEGORIES:Adult,Bible Study,Ladies,Women
END:VEVENT
BEGIN:VEVENT
DTSTART;TZID=America/New_York:20290821T183000
DTEND;TZID=America/New_York:20290821T201500
DTSTAMP:20260425T143058
CREATED:20240620T140951Z
LAST-MODIFIED:20251113T172153Z
UID:10006205-1882031400-1882037700@englewoodchristian.com
SUMMARY:Tuesday Night Small Group
DESCRIPTION:This Small Group meets Tuesday nights at 6:30pm and is led by Jim Chandler.
URL:https://englewoodchristian.com/event/tuesday-night-small-group/2029-08-21/
CATEGORIES:Adult,Bible Study
ORGANIZER;CN="Jim Chandler":MAILTO:jchandler@englewoodchristian.com
END:VEVENT
BEGIN:VEVENT
DTSTART;TZID=America/New_York:20290822T180000
DTEND;TZID=America/New_York:20290822T190000
DTSTAMP:20260425T143058
CREATED:20231031T010623Z
LAST-MODIFIED:20251118T205129Z
UID:10006309-1882116000-1882119600@englewoodchristian.com
SUMMARY:Adult Bible Study
DESCRIPTION:
URL:https://englewoodchristian.com/event/adult-bible-study-3/2029-08-22/
LOCATION:Englewood Christian Church\, 9600 Gulfstream Blvd\, Englewood\, FL\, 34224\, United States
CATEGORIES:Adult,Bible Study,Wednesday
END:VEVENT
BEGIN:VEVENT
DTSTART;TZID=America/New_York:20290823T090000
DTEND;TZID=America/New_York:20290823T100000
DTSTAMP:20260425T143058
CREATED:20231212T152706Z
LAST-MODIFIED:20251113T172636Z
UID:10006408-1882170000-1882173600@englewoodchristian.com
SUMMARY:Men's 4x4
DESCRIPTION:
URL:https://englewoodchristian.com/event/mens-4x4/2029-08-23/
LOCATION:Englewood Christian Church\, 9600 Gulfstream Blvd\, Englewood\, FL\, 34224\, United States
CATEGORIES:Bible Study,Mens
ATTACH;FMTTYPE=image/jpeg:https://englewoodchristian.com/wp-content/uploads/2023/06/mens_ministry_380x280.jpg
END:VEVENT
BEGIN:VEVENT
DTSTART;TZID=America/New_York:20290823T180000
DTEND;TZID=America/New_York:20290823T193000
DTSTAMP:20260425T143058
CREATED:20240620T153654Z
LAST-MODIFIED:20251113T172856Z
UID:10006481-1882202400-1882207800@englewoodchristian.com
SUMMARY:Thursday Night Small Group
DESCRIPTION:This small group meets every Thursday evening at 6:00pm.
URL:https://englewoodchristian.com/event/thursday-night-small-group/2029-08-23/
CATEGORIES:Adult,Bible Study
END:VEVENT
BEGIN:VEVENT
DTSTART;TZID=America/New_York:20290828T123000
DTEND;TZID=America/New_York:20290828T143000
DTSTAMP:20260425T143058
CREATED:20240102T185554Z
LAST-MODIFIED:20251113T171703Z
UID:10006071-1882614600-1882621800@englewoodchristian.com
SUMMARY:Tuesday Women's Bible Study
DESCRIPTION:
URL:https://englewoodchristian.com/event/tuesday-womens-bible-study/2029-08-28/
CATEGORIES:Adult,Bible Study,Ladies,Women
END:VEVENT
BEGIN:VEVENT
DTSTART;TZID=America/New_York:20290828T183000
DTEND;TZID=America/New_York:20290828T201500
DTSTAMP:20260425T143058
CREATED:20240620T140951Z
LAST-MODIFIED:20251113T172153Z
UID:10006206-1882636200-1882642500@englewoodchristian.com
SUMMARY:Tuesday Night Small Group
DESCRIPTION:This Small Group meets Tuesday nights at 6:30pm and is led by Jim Chandler.
URL:https://englewoodchristian.com/event/tuesday-night-small-group/2029-08-28/
CATEGORIES:Adult,Bible Study
ORGANIZER;CN="Jim Chandler":MAILTO:jchandler@englewoodchristian.com
END:VEVENT
BEGIN:VEVENT
DTSTART;TZID=America/New_York:20290829T180000
DTEND;TZID=America/New_York:20290829T190000
DTSTAMP:20260425T143059
CREATED:20231031T010623Z
LAST-MODIFIED:20251118T205129Z
UID:10006310-1882720800-1882724400@englewoodchristian.com
SUMMARY:Adult Bible Study
DESCRIPTION:
URL:https://englewoodchristian.com/event/adult-bible-study-3/2029-08-29/
LOCATION:Englewood Christian Church\, 9600 Gulfstream Blvd\, Englewood\, FL\, 34224\, United States
CATEGORIES:Adult,Bible Study,Wednesday
END:VEVENT
BEGIN:VEVENT
DTSTART;TZID=America/New_York:20290830T090000
DTEND;TZID=America/New_York:20290830T100000
DTSTAMP:20260425T143059
CREATED:20231212T152706Z
LAST-MODIFIED:20251113T172636Z
UID:10006409-1882774800-1882778400@englewoodchristian.com
SUMMARY:Men's 4x4
DESCRIPTION:
URL:https://englewoodchristian.com/event/mens-4x4/2029-08-30/
LOCATION:Englewood Christian Church\, 9600 Gulfstream Blvd\, Englewood\, FL\, 34224\, United States
CATEGORIES:Bible Study,Mens
ATTACH;FMTTYPE=image/jpeg:https://englewoodchristian.com/wp-content/uploads/2023/06/mens_ministry_380x280.jpg
END:VEVENT
BEGIN:VEVENT
DTSTART;TZID=America/New_York:20290830T180000
DTEND;TZID=America/New_York:20290830T193000
DTSTAMP:20260425T143059
CREATED:20240620T153654Z
LAST-MODIFIED:20251113T172856Z
UID:10006482-1882807200-1882812600@englewoodchristian.com
SUMMARY:Thursday Night Small Group
DESCRIPTION:This small group meets every Thursday evening at 6:00pm.
URL:https://englewoodchristian.com/event/thursday-night-small-group/2029-08-30/
CATEGORIES:Adult,Bible Study
END:VEVENT
BEGIN:VEVENT
DTSTART;TZID=America/New_York:20290904T123000
DTEND;TZID=America/New_York:20290904T143000
DTSTAMP:20260425T143059
CREATED:20240102T185554Z
LAST-MODIFIED:20251113T171703Z
UID:10006072-1883219400-1883226600@englewoodchristian.com
SUMMARY:Tuesday Women's Bible Study
DESCRIPTION:
URL:https://englewoodchristian.com/event/tuesday-womens-bible-study/2029-09-04/
CATEGORIES:Adult,Bible Study,Ladies,Women
END:VEVENT
BEGIN:VEVENT
DTSTART;TZID=America/New_York:20290904T183000
DTEND;TZID=America/New_York:20290904T201500
DTSTAMP:20260425T143059
CREATED:20240620T140951Z
LAST-MODIFIED:20251113T172153Z
UID:10006207-1883241000-1883247300@englewoodchristian.com
SUMMARY:Tuesday Night Small Group
DESCRIPTION:This Small Group meets Tuesday nights at 6:30pm and is led by Jim Chandler.
URL:https://englewoodchristian.com/event/tuesday-night-small-group/2029-09-04/
CATEGORIES:Adult,Bible Study
ORGANIZER;CN="Jim Chandler":MAILTO:jchandler@englewoodchristian.com
END:VEVENT
END:VCALENDAR