BEGIN:VCALENDAR
VERSION:2.0
PRODID:-//Englewood Christian Church - ECPv6.15.20//NONSGML v1.0//EN
CALSCALE:GREGORIAN
METHOD:PUBLISH
X-WR-CALNAME:Englewood Christian Church
X-ORIGINAL-URL:https://englewoodchristian.com
X-WR-CALDESC:Events for Englewood Christian Church
REFRESH-INTERVAL;VALUE=DURATION:PT1H
X-Robots-Tag:noindex
X-PUBLISHED-TTL:PT1H
BEGIN:VTIMEZONE
TZID:America/New_York
BEGIN:DAYLIGHT
TZOFFSETFROM:-0500
TZOFFSETTO:-0400
TZNAME:EDT
DTSTART:20290311T070000
END:DAYLIGHT
BEGIN:STANDARD
TZOFFSETFROM:-0400
TZOFFSETTO:-0500
TZNAME:EST
DTSTART:20291104T060000
END:STANDARD
BEGIN:DAYLIGHT
TZOFFSETFROM:-0500
TZOFFSETTO:-0400
TZNAME:EDT
DTSTART:20300310T070000
END:DAYLIGHT
BEGIN:STANDARD
TZOFFSETFROM:-0400
TZOFFSETTO:-0500
TZNAME:EST
DTSTART:20301103T060000
END:STANDARD
BEGIN:DAYLIGHT
TZOFFSETFROM:-0500
TZOFFSETTO:-0400
TZNAME:EDT
DTSTART:20310309T070000
END:DAYLIGHT
BEGIN:STANDARD
TZOFFSETFROM:-0400
TZOFFSETTO:-0500
TZNAME:EST
DTSTART:20311102T060000
END:STANDARD
END:VTIMEZONE
BEGIN:VEVENT
DTSTART;TZID=America/New_York:20301015T183000
DTEND;TZID=America/New_York:20301015T201500
DTSTAMP:20260424T162544
CREATED:20240620T140951Z
LAST-MODIFIED:20251113T172153Z
UID:10006265-1918319400-1918325700@englewoodchristian.com
SUMMARY:Tuesday Night Small Group
DESCRIPTION:This Small Group meets Tuesday nights at 6:30pm and is led by Jim Chandler.
URL:https://englewoodchristian.com/event/tuesday-night-small-group/2030-10-15/
CATEGORIES:Adult,Bible Study
ORGANIZER;CN="Jim Chandler":MAILTO:jchandler@englewoodchristian.com
END:VEVENT
BEGIN:VEVENT
DTSTART;TZID=America/New_York:20301016T180000
DTEND;TZID=America/New_York:20301016T190000
DTSTAMP:20260424T162544
CREATED:20231031T010623Z
LAST-MODIFIED:20251118T205129Z
UID:10006369-1918404000-1918407600@englewoodchristian.com
SUMMARY:Adult Bible Study
DESCRIPTION:
URL:https://englewoodchristian.com/event/adult-bible-study-3/2030-10-16/
LOCATION:Englewood Christian Church\, 9600 Gulfstream Blvd\, Englewood\, FL\, 34224\, United States
CATEGORIES:Adult,Bible Study,Wednesday
END:VEVENT
BEGIN:VEVENT
DTSTART;TZID=America/New_York:20301017T180000
DTEND;TZID=America/New_York:20301017T193000
DTSTAMP:20260424T162544
CREATED:20240620T153654Z
LAST-MODIFIED:20251113T172856Z
UID:10006541-1918490400-1918495800@englewoodchristian.com
SUMMARY:Thursday Night Small Group
DESCRIPTION:This small group meets every Thursday evening at 6:00pm.
URL:https://englewoodchristian.com/event/thursday-night-small-group/2030-10-17/
CATEGORIES:Adult,Bible Study
END:VEVENT
BEGIN:VEVENT
DTSTART;TZID=America/New_York:20301021T190000
DTEND;TZID=America/New_York:20301021T203000
DTSTAMP:20260424T162544
CREATED:20251113T171841Z
LAST-MODIFIED:20251119T192902Z
UID:10006193-1918839600-1918845000@englewoodchristian.com
SUMMARY:Men’s 4x4
DESCRIPTION:Men’s bible study group at the church Monday nights starting at 7pm.
URL:https://englewoodchristian.com/event/mens-4x4-3-2/2030-10-21/
LOCATION:Englewood Christian Church\, 9600 Gulfstream Blvd\, Englewood\, FL\, 34224\, United States
CATEGORIES:Adult,Mens
ORGANIZER;CN="Jim Chandler":MAILTO:jchandler@englewoodchristian.com
END:VEVENT
BEGIN:VEVENT
DTSTART;TZID=America/New_York:20301022T123000
DTEND;TZID=America/New_York:20301022T143000
DTSTAMP:20260424T162544
CREATED:20240102T185554Z
LAST-MODIFIED:20251113T171703Z
UID:10006131-1918902600-1918909800@englewoodchristian.com
SUMMARY:Tuesday Women's Bible Study
DESCRIPTION:
URL:https://englewoodchristian.com/event/tuesday-womens-bible-study/2030-10-22/
CATEGORIES:Adult,Bible Study,Ladies,Women
END:VEVENT
BEGIN:VEVENT
DTSTART;TZID=America/New_York:20301022T183000
DTEND;TZID=America/New_York:20301022T201500
DTSTAMP:20260424T162544
CREATED:20240620T140951Z
LAST-MODIFIED:20251113T172153Z
UID:10006266-1918924200-1918930500@englewoodchristian.com
SUMMARY:Tuesday Night Small Group
DESCRIPTION:This Small Group meets Tuesday nights at 6:30pm and is led by Jim Chandler.
URL:https://englewoodchristian.com/event/tuesday-night-small-group/2030-10-22/
CATEGORIES:Adult,Bible Study
ORGANIZER;CN="Jim Chandler":MAILTO:jchandler@englewoodchristian.com
END:VEVENT
BEGIN:VEVENT
DTSTART;TZID=America/New_York:20301023T180000
DTEND;TZID=America/New_York:20301023T190000
DTSTAMP:20260424T162544
CREATED:20231031T010623Z
LAST-MODIFIED:20251118T205129Z
UID:10006370-1919008800-1919012400@englewoodchristian.com
SUMMARY:Adult Bible Study
DESCRIPTION:
URL:https://englewoodchristian.com/event/adult-bible-study-3/2030-10-23/
LOCATION:Englewood Christian Church\, 9600 Gulfstream Blvd\, Englewood\, FL\, 34224\, United States
CATEGORIES:Adult,Bible Study,Wednesday
END:VEVENT
BEGIN:VEVENT
DTSTART;TZID=America/New_York:20301024T180000
DTEND;TZID=America/New_York:20301024T193000
DTSTAMP:20260424T162544
CREATED:20240620T153654Z
LAST-MODIFIED:20251113T172856Z
UID:10006542-1919095200-1919100600@englewoodchristian.com
SUMMARY:Thursday Night Small Group
DESCRIPTION:This small group meets every Thursday evening at 6:00pm.
URL:https://englewoodchristian.com/event/thursday-night-small-group/2030-10-24/
CATEGORIES:Adult,Bible Study
END:VEVENT
BEGIN:VEVENT
DTSTART;TZID=America/New_York:20301028T190000
DTEND;TZID=America/New_York:20301028T203000
DTSTAMP:20260424T162544
CREATED:20251113T171841Z
LAST-MODIFIED:20251119T192902Z
UID:10006194-1919444400-1919449800@englewoodchristian.com
SUMMARY:Men’s 4x4
DESCRIPTION:Men’s bible study group at the church Monday nights starting at 7pm.
URL:https://englewoodchristian.com/event/mens-4x4-3-2/2030-10-28/
LOCATION:Englewood Christian Church\, 9600 Gulfstream Blvd\, Englewood\, FL\, 34224\, United States
CATEGORIES:Adult,Mens
ORGANIZER;CN="Jim Chandler":MAILTO:jchandler@englewoodchristian.com
END:VEVENT
BEGIN:VEVENT
DTSTART;TZID=America/New_York:20301029T123000
DTEND;TZID=America/New_York:20301029T143000
DTSTAMP:20260424T162544
CREATED:20240102T185554Z
LAST-MODIFIED:20251113T171703Z
UID:10006132-1919507400-1919514600@englewoodchristian.com
SUMMARY:Tuesday Women's Bible Study
DESCRIPTION:
URL:https://englewoodchristian.com/event/tuesday-womens-bible-study/2030-10-29/
CATEGORIES:Adult,Bible Study,Ladies,Women
END:VEVENT
BEGIN:VEVENT
DTSTART;TZID=America/New_York:20301029T183000
DTEND;TZID=America/New_York:20301029T201500
DTSTAMP:20260424T162544
CREATED:20240620T140951Z
LAST-MODIFIED:20251113T172153Z
UID:10006267-1919529000-1919535300@englewoodchristian.com
SUMMARY:Tuesday Night Small Group
DESCRIPTION:This Small Group meets Tuesday nights at 6:30pm and is led by Jim Chandler.
URL:https://englewoodchristian.com/event/tuesday-night-small-group/2030-10-29/
CATEGORIES:Adult,Bible Study
ORGANIZER;CN="Jim Chandler":MAILTO:jchandler@englewoodchristian.com
END:VEVENT
BEGIN:VEVENT
DTSTART;TZID=America/New_York:20301030T180000
DTEND;TZID=America/New_York:20301030T190000
DTSTAMP:20260424T162544
CREATED:20231031T010623Z
LAST-MODIFIED:20251118T205129Z
UID:10006371-1919613600-1919617200@englewoodchristian.com
SUMMARY:Adult Bible Study
DESCRIPTION:
URL:https://englewoodchristian.com/event/adult-bible-study-3/2030-10-30/
LOCATION:Englewood Christian Church\, 9600 Gulfstream Blvd\, Englewood\, FL\, 34224\, United States
CATEGORIES:Adult,Bible Study,Wednesday
END:VEVENT
BEGIN:VEVENT
DTSTART;TZID=America/New_York:20301031T180000
DTEND;TZID=America/New_York:20301031T193000
DTSTAMP:20260424T162544
CREATED:20240620T153654Z
LAST-MODIFIED:20251113T172856Z
UID:10006543-1919700000-1919705400@englewoodchristian.com
SUMMARY:Thursday Night Small Group
DESCRIPTION:This small group meets every Thursday evening at 6:00pm.
URL:https://englewoodchristian.com/event/thursday-night-small-group/2030-10-31/
CATEGORIES:Adult,Bible Study
END:VEVENT
BEGIN:VEVENT
DTSTART;TZID=America/New_York:20301104T190000
DTEND;TZID=America/New_York:20301104T203000
DTSTAMP:20260424T162544
CREATED:20251113T171841Z
LAST-MODIFIED:20251119T192902Z
UID:10006195-1920049200-1920054600@englewoodchristian.com
SUMMARY:Men’s 4x4
DESCRIPTION:Men’s bible study group at the church Monday nights starting at 7pm.
URL:https://englewoodchristian.com/event/mens-4x4-3-2/2030-11-04/
LOCATION:Englewood Christian Church\, 9600 Gulfstream Blvd\, Englewood\, FL\, 34224\, United States
CATEGORIES:Adult,Mens
ORGANIZER;CN="Jim Chandler":MAILTO:jchandler@englewoodchristian.com
END:VEVENT
BEGIN:VEVENT
DTSTART;TZID=America/New_York:20301105T123000
DTEND;TZID=America/New_York:20301105T143000
DTSTAMP:20260424T162544
CREATED:20240102T185554Z
LAST-MODIFIED:20251113T171703Z
UID:10006133-1920112200-1920119400@englewoodchristian.com
SUMMARY:Tuesday Women's Bible Study
DESCRIPTION:
URL:https://englewoodchristian.com/event/tuesday-womens-bible-study/2030-11-05/
CATEGORIES:Adult,Bible Study,Ladies,Women
END:VEVENT
BEGIN:VEVENT
DTSTART;TZID=America/New_York:20301105T183000
DTEND;TZID=America/New_York:20301105T201500
DTSTAMP:20260424T162544
CREATED:20240620T140951Z
LAST-MODIFIED:20251113T172153Z
UID:10006268-1920133800-1920140100@englewoodchristian.com
SUMMARY:Tuesday Night Small Group
DESCRIPTION:This Small Group meets Tuesday nights at 6:30pm and is led by Jim Chandler.
URL:https://englewoodchristian.com/event/tuesday-night-small-group/2030-11-05/
CATEGORIES:Adult,Bible Study
ORGANIZER;CN="Jim Chandler":MAILTO:jchandler@englewoodchristian.com
END:VEVENT
BEGIN:VEVENT
DTSTART;TZID=America/New_York:20301106T180000
DTEND;TZID=America/New_York:20301106T190000
DTSTAMP:20260424T162544
CREATED:20231031T010623Z
LAST-MODIFIED:20251118T205129Z
UID:10006372-1920218400-1920222000@englewoodchristian.com
SUMMARY:Adult Bible Study
DESCRIPTION:
URL:https://englewoodchristian.com/event/adult-bible-study-3/2030-11-06/
LOCATION:Englewood Christian Church\, 9600 Gulfstream Blvd\, Englewood\, FL\, 34224\, United States
CATEGORIES:Adult,Bible Study,Wednesday
END:VEVENT
BEGIN:VEVENT
DTSTART;TZID=America/New_York:20301107T180000
DTEND;TZID=America/New_York:20301107T193000
DTSTAMP:20260424T162544
CREATED:20240620T153654Z
LAST-MODIFIED:20251113T172856Z
UID:10006544-1920304800-1920310200@englewoodchristian.com
SUMMARY:Thursday Night Small Group
DESCRIPTION:This small group meets every Thursday evening at 6:00pm.
URL:https://englewoodchristian.com/event/thursday-night-small-group/2030-11-07/
CATEGORIES:Adult,Bible Study
END:VEVENT
BEGIN:VEVENT
DTSTART;TZID=America/New_York:20301111T190000
DTEND;TZID=America/New_York:20301111T203000
DTSTAMP:20260424T162544
CREATED:20251113T171841Z
LAST-MODIFIED:20251119T192902Z
UID:10006196-1920654000-1920659400@englewoodchristian.com
SUMMARY:Men’s 4x4
DESCRIPTION:Men’s bible study group at the church Monday nights starting at 7pm.
URL:https://englewoodchristian.com/event/mens-4x4-3-2/2030-11-11/
LOCATION:Englewood Christian Church\, 9600 Gulfstream Blvd\, Englewood\, FL\, 34224\, United States
CATEGORIES:Adult,Mens
ORGANIZER;CN="Jim Chandler":MAILTO:jchandler@englewoodchristian.com
END:VEVENT
BEGIN:VEVENT
DTSTART;TZID=America/New_York:20301112T123000
DTEND;TZID=America/New_York:20301112T143000
DTSTAMP:20260424T162544
CREATED:20240102T185554Z
LAST-MODIFIED:20251113T171703Z
UID:10006134-1920717000-1920724200@englewoodchristian.com
SUMMARY:Tuesday Women's Bible Study
DESCRIPTION:
URL:https://englewoodchristian.com/event/tuesday-womens-bible-study/2030-11-12/
CATEGORIES:Adult,Bible Study,Ladies,Women
END:VEVENT
BEGIN:VEVENT
DTSTART;TZID=America/New_York:20301112T183000
DTEND;TZID=America/New_York:20301112T201500
DTSTAMP:20260424T162544
CREATED:20240620T140951Z
LAST-MODIFIED:20251113T172153Z
UID:10006269-1920738600-1920744900@englewoodchristian.com
SUMMARY:Tuesday Night Small Group
DESCRIPTION:This Small Group meets Tuesday nights at 6:30pm and is led by Jim Chandler.
URL:https://englewoodchristian.com/event/tuesday-night-small-group/2030-11-12/
CATEGORIES:Adult,Bible Study
ORGANIZER;CN="Jim Chandler":MAILTO:jchandler@englewoodchristian.com
END:VEVENT
BEGIN:VEVENT
DTSTART;TZID=America/New_York:20301113T180000
DTEND;TZID=America/New_York:20301113T190000
DTSTAMP:20260424T162544
CREATED:20231031T010623Z
LAST-MODIFIED:20251118T205129Z
UID:10006373-1920823200-1920826800@englewoodchristian.com
SUMMARY:Adult Bible Study
DESCRIPTION:
URL:https://englewoodchristian.com/event/adult-bible-study-3/2030-11-13/
LOCATION:Englewood Christian Church\, 9600 Gulfstream Blvd\, Englewood\, FL\, 34224\, United States
CATEGORIES:Adult,Bible Study,Wednesday
END:VEVENT
BEGIN:VEVENT
DTSTART;TZID=America/New_York:20301118T190000
DTEND;TZID=America/New_York:20301118T203000
DTSTAMP:20260424T162544
CREATED:20251113T171841Z
LAST-MODIFIED:20251119T192902Z
UID:10006550-1921258800-1921264200@englewoodchristian.com
SUMMARY:Men’s 4x4
DESCRIPTION:Men’s bible study group at the church Monday nights starting at 7pm.
URL:https://englewoodchristian.com/event/mens-4x4-3-2/2030-11-18/
LOCATION:Englewood Christian Church\, 9600 Gulfstream Blvd\, Englewood\, FL\, 34224\, United States
CATEGORIES:Adult,Mens
ORGANIZER;CN="Jim Chandler":MAILTO:jchandler@englewoodchristian.com
END:VEVENT
END:VCALENDAR