BEGIN:VCALENDAR
VERSION:2.0
PRODID:-//Englewood Christian Church - ECPv6.15.20//NONSGML v1.0//EN
CALSCALE:GREGORIAN
METHOD:PUBLISH
X-WR-CALNAME:Englewood Christian Church
X-ORIGINAL-URL:https://englewoodchristian.com
X-WR-CALDESC:Events for Englewood Christian Church
REFRESH-INTERVAL;VALUE=DURATION:PT1H
X-Robots-Tag:noindex
X-PUBLISHED-TTL:PT1H
BEGIN:VTIMEZONE
TZID:America/New_York
BEGIN:DAYLIGHT
TZOFFSETFROM:-0500
TZOFFSETTO:-0400
TZNAME:EDT
DTSTART:20280312T070000
END:DAYLIGHT
BEGIN:STANDARD
TZOFFSETFROM:-0400
TZOFFSETTO:-0500
TZNAME:EST
DTSTART:20281105T060000
END:STANDARD
BEGIN:DAYLIGHT
TZOFFSETFROM:-0500
TZOFFSETTO:-0400
TZNAME:EDT
DTSTART:20290311T070000
END:DAYLIGHT
BEGIN:STANDARD
TZOFFSETFROM:-0400
TZOFFSETTO:-0500
TZNAME:EST
DTSTART:20291104T060000
END:STANDARD
BEGIN:DAYLIGHT
TZOFFSETFROM:-0500
TZOFFSETTO:-0400
TZNAME:EDT
DTSTART:20300310T070000
END:DAYLIGHT
BEGIN:STANDARD
TZOFFSETFROM:-0400
TZOFFSETTO:-0500
TZNAME:EST
DTSTART:20301103T060000
END:STANDARD
END:VTIMEZONE
BEGIN:VEVENT
DTSTART;TZID=America/New_York:20290422T180000
DTEND;TZID=America/New_York:20290422T190000
DTSTAMP:20260424T164114
CREATED:20240620T151840Z
LAST-MODIFIED:20240620T151840Z
UID:10004855-1871575200-1871578800@englewoodchristian.com
SUMMARY:Sunday Night Small Group
DESCRIPTION:This Small Group meets on Sunday evenings at 6:00pm and is led by Jim Chandler.
URL:https://englewoodchristian.com/event/sunday-night-small-group/2029-04-22/
CATEGORIES:Adult,Bible Study
ORGANIZER;CN="Jim Chandler":MAILTO:jchandler@englewoodchristian.com
END:VEVENT
BEGIN:VEVENT
DTSTART;TZID=America/New_York:20290423T190000
DTEND;TZID=America/New_York:20290423T203000
DTSTAMP:20260424T164114
CREATED:20251113T171841Z
LAST-MODIFIED:20251119T192902Z
UID:10005573-1871665200-1871670600@englewoodchristian.com
SUMMARY:Men’s 4x4
DESCRIPTION:Men’s bible study group at the church Monday nights starting at 7pm.
URL:https://englewoodchristian.com/event/mens-4x4-3-2/2029-04-23/
LOCATION:Englewood Christian Church\, 9600 Gulfstream Blvd\, Englewood\, FL\, 34224\, United States
CATEGORIES:Adult,Mens
ORGANIZER;CN="Jim Chandler":MAILTO:jchandler@englewoodchristian.com
END:VEVENT
BEGIN:VEVENT
DTSTART;TZID=America/New_York:20290424T123000
DTEND;TZID=America/New_York:20290424T143000
DTSTAMP:20260424T164114
CREATED:20240102T185554Z
LAST-MODIFIED:20251113T171703Z
UID:10006053-1871728200-1871735400@englewoodchristian.com
SUMMARY:Tuesday Women's Bible Study
DESCRIPTION:
URL:https://englewoodchristian.com/event/tuesday-womens-bible-study/2029-04-24/
CATEGORIES:Adult,Bible Study,Ladies,Women
END:VEVENT
BEGIN:VEVENT
DTSTART;TZID=America/New_York:20290424T183000
DTEND;TZID=America/New_York:20290424T201500
DTSTAMP:20260424T164114
CREATED:20240620T140951Z
LAST-MODIFIED:20251113T172153Z
UID:10004569-1871749800-1871756100@englewoodchristian.com
SUMMARY:Tuesday Night Small Group
DESCRIPTION:This Small Group meets Tuesday nights at 6:30pm and is led by Jim Chandler.
URL:https://englewoodchristian.com/event/tuesday-night-small-group/2029-04-24/
CATEGORIES:Adult,Bible Study
ORGANIZER;CN="Jim Chandler":MAILTO:jchandler@englewoodchristian.com
END:VEVENT
BEGIN:VEVENT
DTSTART;TZID=America/New_York:20290425T180000
DTEND;TZID=America/New_York:20290425T190000
DTSTAMP:20260424T164114
CREATED:20231031T010623Z
LAST-MODIFIED:20251118T205129Z
UID:10006292-1871834400-1871838000@englewoodchristian.com
SUMMARY:Adult Bible Study
DESCRIPTION:
URL:https://englewoodchristian.com/event/adult-bible-study-3/2029-04-25/
LOCATION:Englewood Christian Church\, 9600 Gulfstream Blvd\, Englewood\, FL\, 34224\, United States
CATEGORIES:Adult,Bible Study,Wednesday
END:VEVENT
BEGIN:VEVENT
DTSTART;TZID=America/New_York:20290426T180000
DTEND;TZID=America/New_York:20290426T193000
DTSTAMP:20260424T164114
CREATED:20240620T153654Z
LAST-MODIFIED:20251113T172856Z
UID:10005106-1871920800-1871926200@englewoodchristian.com
SUMMARY:Thursday Night Small Group
DESCRIPTION:This small group meets every Thursday evening at 6:00pm.
URL:https://englewoodchristian.com/event/thursday-night-small-group/2029-04-26/
CATEGORIES:Adult,Bible Study
END:VEVENT
BEGIN:VEVENT
DTSTART;TZID=America/New_York:20290429T093000
DTEND;TZID=America/New_York:20290429T101500
DTSTAMP:20260424T164114
CREATED:20240523T201136Z
LAST-MODIFIED:20240523T201138Z
UID:10004310-1872149400-1872152100@englewoodchristian.com
SUMMARY:Adult Sunday School
DESCRIPTION:
URL:https://englewoodchristian.com/event/adult-sunday-school-2-2-2/2029-04-29/
LOCATION:Englewood Christian Church\, 9600 Gulfstream Blvd\, Englewood\, FL\, 34224\, United States
CATEGORIES:Adult,Sunday,Sunday School
END:VEVENT
BEGIN:VEVENT
DTSTART;TZID=America/New_York:20290429T180000
DTEND;TZID=America/New_York:20290429T190000
DTSTAMP:20260424T164114
CREATED:20240620T151840Z
LAST-MODIFIED:20240620T151840Z
UID:10004856-1872180000-1872183600@englewoodchristian.com
SUMMARY:Sunday Night Small Group
DESCRIPTION:This Small Group meets on Sunday evenings at 6:00pm and is led by Jim Chandler.
URL:https://englewoodchristian.com/event/sunday-night-small-group/2029-04-29/
CATEGORIES:Adult,Bible Study
ORGANIZER;CN="Jim Chandler":MAILTO:jchandler@englewoodchristian.com
END:VEVENT
BEGIN:VEVENT
DTSTART;TZID=America/New_York:20290430T190000
DTEND;TZID=America/New_York:20290430T203000
DTSTAMP:20260424T164114
CREATED:20251113T171841Z
LAST-MODIFIED:20251119T192902Z
UID:10005574-1872270000-1872275400@englewoodchristian.com
SUMMARY:Men’s 4x4
DESCRIPTION:Men’s bible study group at the church Monday nights starting at 7pm.
URL:https://englewoodchristian.com/event/mens-4x4-3-2/2029-04-30/
LOCATION:Englewood Christian Church\, 9600 Gulfstream Blvd\, Englewood\, FL\, 34224\, United States
CATEGORIES:Adult,Mens
ORGANIZER;CN="Jim Chandler":MAILTO:jchandler@englewoodchristian.com
END:VEVENT
BEGIN:VEVENT
DTSTART;TZID=America/New_York:20290501T123000
DTEND;TZID=America/New_York:20290501T143000
DTSTAMP:20260424T164114
CREATED:20240102T185554Z
LAST-MODIFIED:20251113T171703Z
UID:10006054-1872333000-1872340200@englewoodchristian.com
SUMMARY:Tuesday Women's Bible Study
DESCRIPTION:
URL:https://englewoodchristian.com/event/tuesday-womens-bible-study/2029-05-01/
CATEGORIES:Adult,Bible Study,Ladies,Women
END:VEVENT
BEGIN:VEVENT
DTSTART;TZID=America/New_York:20290501T183000
DTEND;TZID=America/New_York:20290501T201500
DTSTAMP:20260424T164114
CREATED:20240620T140951Z
LAST-MODIFIED:20251113T172153Z
UID:10004570-1872354600-1872360900@englewoodchristian.com
SUMMARY:Tuesday Night Small Group
DESCRIPTION:This Small Group meets Tuesday nights at 6:30pm and is led by Jim Chandler.
URL:https://englewoodchristian.com/event/tuesday-night-small-group/2029-05-01/
CATEGORIES:Adult,Bible Study
ORGANIZER;CN="Jim Chandler":MAILTO:jchandler@englewoodchristian.com
END:VEVENT
BEGIN:VEVENT
DTSTART;TZID=America/New_York:20290502T180000
DTEND;TZID=America/New_York:20290502T190000
DTSTAMP:20260424T164114
CREATED:20231031T010623Z
LAST-MODIFIED:20251118T205129Z
UID:10006293-1872439200-1872442800@englewoodchristian.com
SUMMARY:Adult Bible Study
DESCRIPTION:
URL:https://englewoodchristian.com/event/adult-bible-study-3/2029-05-02/
LOCATION:Englewood Christian Church\, 9600 Gulfstream Blvd\, Englewood\, FL\, 34224\, United States
CATEGORIES:Adult,Bible Study,Wednesday
END:VEVENT
BEGIN:VEVENT
DTSTART;TZID=America/New_York:20290503T180000
DTEND;TZID=America/New_York:20290503T193000
DTSTAMP:20260424T164114
CREATED:20240620T153654Z
LAST-MODIFIED:20251113T172856Z
UID:10005107-1872525600-1872531000@englewoodchristian.com
SUMMARY:Thursday Night Small Group
DESCRIPTION:This small group meets every Thursday evening at 6:00pm.
URL:https://englewoodchristian.com/event/thursday-night-small-group/2029-05-03/
CATEGORIES:Adult,Bible Study
END:VEVENT
BEGIN:VEVENT
DTSTART;TZID=America/New_York:20290506T093000
DTEND;TZID=America/New_York:20290506T101500
DTSTAMP:20260424T164114
CREATED:20240523T201136Z
LAST-MODIFIED:20240523T201138Z
UID:10004311-1872754200-1872756900@englewoodchristian.com
SUMMARY:Adult Sunday School
DESCRIPTION:
URL:https://englewoodchristian.com/event/adult-sunday-school-2-2-2/2029-05-06/
LOCATION:Englewood Christian Church\, 9600 Gulfstream Blvd\, Englewood\, FL\, 34224\, United States
CATEGORIES:Adult,Sunday,Sunday School
END:VEVENT
BEGIN:VEVENT
DTSTART;TZID=America/New_York:20290506T180000
DTEND;TZID=America/New_York:20290506T190000
DTSTAMP:20260424T164114
CREATED:20240620T151840Z
LAST-MODIFIED:20240620T151840Z
UID:10004857-1872784800-1872788400@englewoodchristian.com
SUMMARY:Sunday Night Small Group
DESCRIPTION:This Small Group meets on Sunday evenings at 6:00pm and is led by Jim Chandler.
URL:https://englewoodchristian.com/event/sunday-night-small-group/2029-05-06/
CATEGORIES:Adult,Bible Study
ORGANIZER;CN="Jim Chandler":MAILTO:jchandler@englewoodchristian.com
END:VEVENT
BEGIN:VEVENT
DTSTART;TZID=America/New_York:20290507T190000
DTEND;TZID=America/New_York:20290507T203000
DTSTAMP:20260424T164114
CREATED:20251113T171841Z
LAST-MODIFIED:20251119T192902Z
UID:10005575-1872874800-1872880200@englewoodchristian.com
SUMMARY:Men’s 4x4
DESCRIPTION:Men’s bible study group at the church Monday nights starting at 7pm.
URL:https://englewoodchristian.com/event/mens-4x4-3-2/2029-05-07/
LOCATION:Englewood Christian Church\, 9600 Gulfstream Blvd\, Englewood\, FL\, 34224\, United States
CATEGORIES:Adult,Mens
ORGANIZER;CN="Jim Chandler":MAILTO:jchandler@englewoodchristian.com
END:VEVENT
BEGIN:VEVENT
DTSTART;TZID=America/New_York:20290508T123000
DTEND;TZID=America/New_York:20290508T143000
DTSTAMP:20260424T164114
CREATED:20240102T185554Z
LAST-MODIFIED:20251113T171703Z
UID:10006055-1872937800-1872945000@englewoodchristian.com
SUMMARY:Tuesday Women's Bible Study
DESCRIPTION:
URL:https://englewoodchristian.com/event/tuesday-womens-bible-study/2029-05-08/
CATEGORIES:Adult,Bible Study,Ladies,Women
END:VEVENT
BEGIN:VEVENT
DTSTART;TZID=America/New_York:20290508T183000
DTEND;TZID=America/New_York:20290508T201500
DTSTAMP:20260424T164114
CREATED:20240620T140951Z
LAST-MODIFIED:20251113T172153Z
UID:10004571-1872959400-1872965700@englewoodchristian.com
SUMMARY:Tuesday Night Small Group
DESCRIPTION:This Small Group meets Tuesday nights at 6:30pm and is led by Jim Chandler.
URL:https://englewoodchristian.com/event/tuesday-night-small-group/2029-05-08/
CATEGORIES:Adult,Bible Study
ORGANIZER;CN="Jim Chandler":MAILTO:jchandler@englewoodchristian.com
END:VEVENT
BEGIN:VEVENT
DTSTART;TZID=America/New_York:20290509T180000
DTEND;TZID=America/New_York:20290509T190000
DTSTAMP:20260424T164114
CREATED:20231031T010623Z
LAST-MODIFIED:20251118T205129Z
UID:10006294-1873044000-1873047600@englewoodchristian.com
SUMMARY:Adult Bible Study
DESCRIPTION:
URL:https://englewoodchristian.com/event/adult-bible-study-3/2029-05-09/
LOCATION:Englewood Christian Church\, 9600 Gulfstream Blvd\, Englewood\, FL\, 34224\, United States
CATEGORIES:Adult,Bible Study,Wednesday
END:VEVENT
BEGIN:VEVENT
DTSTART;TZID=America/New_York:20290510T180000
DTEND;TZID=America/New_York:20290510T193000
DTSTAMP:20260424T164114
CREATED:20240620T153654Z
LAST-MODIFIED:20251113T172856Z
UID:10005108-1873130400-1873135800@englewoodchristian.com
SUMMARY:Thursday Night Small Group
DESCRIPTION:This small group meets every Thursday evening at 6:00pm.
URL:https://englewoodchristian.com/event/thursday-night-small-group/2029-05-10/
CATEGORIES:Adult,Bible Study
END:VEVENT
BEGIN:VEVENT
DTSTART;TZID=America/New_York:20290513T093000
DTEND;TZID=America/New_York:20290513T101500
DTSTAMP:20260424T164114
CREATED:20240523T201136Z
LAST-MODIFIED:20240523T201138Z
UID:10004312-1873359000-1873361700@englewoodchristian.com
SUMMARY:Adult Sunday School
DESCRIPTION:
URL:https://englewoodchristian.com/event/adult-sunday-school-2-2-2/2029-05-13/
LOCATION:Englewood Christian Church\, 9600 Gulfstream Blvd\, Englewood\, FL\, 34224\, United States
CATEGORIES:Adult,Sunday,Sunday School
END:VEVENT
BEGIN:VEVENT
DTSTART;TZID=America/New_York:20290513T180000
DTEND;TZID=America/New_York:20290513T190000
DTSTAMP:20260424T164114
CREATED:20240620T151840Z
LAST-MODIFIED:20240620T151840Z
UID:10004858-1873389600-1873393200@englewoodchristian.com
SUMMARY:Sunday Night Small Group
DESCRIPTION:This Small Group meets on Sunday evenings at 6:00pm and is led by Jim Chandler.
URL:https://englewoodchristian.com/event/sunday-night-small-group/2029-05-13/
CATEGORIES:Adult,Bible Study
ORGANIZER;CN="Jim Chandler":MAILTO:jchandler@englewoodchristian.com
END:VEVENT
BEGIN:VEVENT
DTSTART;TZID=America/New_York:20290514T190000
DTEND;TZID=America/New_York:20290514T203000
DTSTAMP:20260424T164114
CREATED:20251113T171841Z
LAST-MODIFIED:20251119T192902Z
UID:10005576-1873479600-1873485000@englewoodchristian.com
SUMMARY:Men’s 4x4
DESCRIPTION:Men’s bible study group at the church Monday nights starting at 7pm.
URL:https://englewoodchristian.com/event/mens-4x4-3-2/2029-05-14/
LOCATION:Englewood Christian Church\, 9600 Gulfstream Blvd\, Englewood\, FL\, 34224\, United States
CATEGORIES:Adult,Mens
ORGANIZER;CN="Jim Chandler":MAILTO:jchandler@englewoodchristian.com
END:VEVENT
BEGIN:VEVENT
DTSTART;TZID=America/New_York:20290515T123000
DTEND;TZID=America/New_York:20290515T143000
DTSTAMP:20260424T164114
CREATED:20240102T185554Z
LAST-MODIFIED:20251113T171703Z
UID:10006056-1873542600-1873549800@englewoodchristian.com
SUMMARY:Tuesday Women's Bible Study
DESCRIPTION:
URL:https://englewoodchristian.com/event/tuesday-womens-bible-study/2029-05-15/
CATEGORIES:Adult,Bible Study,Ladies,Women
END:VEVENT
BEGIN:VEVENT
DTSTART;TZID=America/New_York:20290515T183000
DTEND;TZID=America/New_York:20290515T201500
DTSTAMP:20260424T164114
CREATED:20240620T140951Z
LAST-MODIFIED:20251113T172153Z
UID:10004572-1873564200-1873570500@englewoodchristian.com
SUMMARY:Tuesday Night Small Group
DESCRIPTION:This Small Group meets Tuesday nights at 6:30pm and is led by Jim Chandler.
URL:https://englewoodchristian.com/event/tuesday-night-small-group/2029-05-15/
CATEGORIES:Adult,Bible Study
ORGANIZER;CN="Jim Chandler":MAILTO:jchandler@englewoodchristian.com
END:VEVENT
BEGIN:VEVENT
DTSTART;TZID=America/New_York:20290516T180000
DTEND;TZID=America/New_York:20290516T190000
DTSTAMP:20260424T164114
CREATED:20231031T010623Z
LAST-MODIFIED:20251118T205129Z
UID:10006295-1873648800-1873652400@englewoodchristian.com
SUMMARY:Adult Bible Study
DESCRIPTION:
URL:https://englewoodchristian.com/event/adult-bible-study-3/2029-05-16/
LOCATION:Englewood Christian Church\, 9600 Gulfstream Blvd\, Englewood\, FL\, 34224\, United States
CATEGORIES:Adult,Bible Study,Wednesday
END:VEVENT
BEGIN:VEVENT
DTSTART;TZID=America/New_York:20290517T180000
DTEND;TZID=America/New_York:20290517T193000
DTSTAMP:20260424T164114
CREATED:20240620T153654Z
LAST-MODIFIED:20251113T172856Z
UID:10005109-1873735200-1873740600@englewoodchristian.com
SUMMARY:Thursday Night Small Group
DESCRIPTION:This small group meets every Thursday evening at 6:00pm.
URL:https://englewoodchristian.com/event/thursday-night-small-group/2029-05-17/
CATEGORIES:Adult,Bible Study
END:VEVENT
BEGIN:VEVENT
DTSTART;TZID=America/New_York:20290520T093000
DTEND;TZID=America/New_York:20290520T101500
DTSTAMP:20260424T164114
CREATED:20240523T201136Z
LAST-MODIFIED:20240523T201138Z
UID:10004313-1873963800-1873966500@englewoodchristian.com
SUMMARY:Adult Sunday School
DESCRIPTION:
URL:https://englewoodchristian.com/event/adult-sunday-school-2-2-2/2029-05-20/
LOCATION:Englewood Christian Church\, 9600 Gulfstream Blvd\, Englewood\, FL\, 34224\, United States
CATEGORIES:Adult,Sunday,Sunday School
END:VEVENT
BEGIN:VEVENT
DTSTART;TZID=America/New_York:20290520T180000
DTEND;TZID=America/New_York:20290520T190000
DTSTAMP:20260424T164114
CREATED:20240620T151840Z
LAST-MODIFIED:20240620T151840Z
UID:10004859-1873994400-1873998000@englewoodchristian.com
SUMMARY:Sunday Night Small Group
DESCRIPTION:This Small Group meets on Sunday evenings at 6:00pm and is led by Jim Chandler.
URL:https://englewoodchristian.com/event/sunday-night-small-group/2029-05-20/
CATEGORIES:Adult,Bible Study
ORGANIZER;CN="Jim Chandler":MAILTO:jchandler@englewoodchristian.com
END:VEVENT
BEGIN:VEVENT
DTSTART;TZID=America/New_York:20290521T190000
DTEND;TZID=America/New_York:20290521T203000
DTSTAMP:20260424T164114
CREATED:20251113T171841Z
LAST-MODIFIED:20251119T192902Z
UID:10005577-1874084400-1874089800@englewoodchristian.com
SUMMARY:Men’s 4x4
DESCRIPTION:Men’s bible study group at the church Monday nights starting at 7pm.
URL:https://englewoodchristian.com/event/mens-4x4-3-2/2029-05-21/
LOCATION:Englewood Christian Church\, 9600 Gulfstream Blvd\, Englewood\, FL\, 34224\, United States
CATEGORIES:Adult,Mens
ORGANIZER;CN="Jim Chandler":MAILTO:jchandler@englewoodchristian.com
END:VEVENT
END:VCALENDAR