BEGIN:VCALENDAR
VERSION:2.0
PRODID:-//Englewood Christian Church - ECPv6.15.20//NONSGML v1.0//EN
CALSCALE:GREGORIAN
METHOD:PUBLISH
X-WR-CALNAME:Englewood Christian Church
X-ORIGINAL-URL:https://englewoodchristian.com
X-WR-CALDESC:Events for Englewood Christian Church
REFRESH-INTERVAL;VALUE=DURATION:PT1H
X-Robots-Tag:noindex
X-PUBLISHED-TTL:PT1H
BEGIN:VTIMEZONE
TZID:America/New_York
BEGIN:DAYLIGHT
TZOFFSETFROM:-0500
TZOFFSETTO:-0400
TZNAME:EDT
DTSTART:20280312T070000
END:DAYLIGHT
BEGIN:STANDARD
TZOFFSETFROM:-0400
TZOFFSETTO:-0500
TZNAME:EST
DTSTART:20281105T060000
END:STANDARD
BEGIN:DAYLIGHT
TZOFFSETFROM:-0500
TZOFFSETTO:-0400
TZNAME:EDT
DTSTART:20290311T070000
END:DAYLIGHT
BEGIN:STANDARD
TZOFFSETFROM:-0400
TZOFFSETTO:-0500
TZNAME:EST
DTSTART:20291104T060000
END:STANDARD
BEGIN:DAYLIGHT
TZOFFSETFROM:-0500
TZOFFSETTO:-0400
TZNAME:EDT
DTSTART:20300310T070000
END:DAYLIGHT
BEGIN:STANDARD
TZOFFSETFROM:-0400
TZOFFSETTO:-0500
TZNAME:EST
DTSTART:20301103T060000
END:STANDARD
END:VTIMEZONE
BEGIN:VEVENT
DTSTART;TZID=America/New_York:20290218T180000
DTEND;TZID=America/New_York:20290218T190000
DTSTAMP:20260424T165950
CREATED:20240620T151840Z
LAST-MODIFIED:20240620T151840Z
UID:10004846-1866132000-1866135600@englewoodchristian.com
SUMMARY:Sunday Night Small Group
DESCRIPTION:This Small Group meets on Sunday evenings at 6:00pm and is led by Jim Chandler.
URL:https://englewoodchristian.com/event/sunday-night-small-group/2029-02-18/
CATEGORIES:Adult,Bible Study
ORGANIZER;CN="Jim Chandler":MAILTO:jchandler@englewoodchristian.com
END:VEVENT
BEGIN:VEVENT
DTSTART;TZID=America/New_York:20290219T190000
DTEND;TZID=America/New_York:20290219T203000
DTSTAMP:20260424T165950
CREATED:20251113T171841Z
LAST-MODIFIED:20251119T192902Z
UID:10005564-1866222000-1866227400@englewoodchristian.com
SUMMARY:Men’s 4x4
DESCRIPTION:Men’s bible study group at the church Monday nights starting at 7pm.
URL:https://englewoodchristian.com/event/mens-4x4-3-2/2029-02-19/
LOCATION:Englewood Christian Church\, 9600 Gulfstream Blvd\, Englewood\, FL\, 34224\, United States
CATEGORIES:Adult,Mens
ORGANIZER;CN="Jim Chandler":MAILTO:jchandler@englewoodchristian.com
END:VEVENT
BEGIN:VEVENT
DTSTART;TZID=America/New_York:20290220T123000
DTEND;TZID=America/New_York:20290220T143000
DTSTAMP:20260424T165950
CREATED:20240102T185554Z
LAST-MODIFIED:20251113T171703Z
UID:10006044-1866285000-1866292200@englewoodchristian.com
SUMMARY:Tuesday Women's Bible Study
DESCRIPTION:
URL:https://englewoodchristian.com/event/tuesday-womens-bible-study/2029-02-20/
CATEGORIES:Adult,Bible Study,Ladies,Women
END:VEVENT
BEGIN:VEVENT
DTSTART;TZID=America/New_York:20290220T183000
DTEND;TZID=America/New_York:20290220T201500
DTSTAMP:20260424T165950
CREATED:20240620T140951Z
LAST-MODIFIED:20251113T172153Z
UID:10004560-1866306600-1866312900@englewoodchristian.com
SUMMARY:Tuesday Night Small Group
DESCRIPTION:This Small Group meets Tuesday nights at 6:30pm and is led by Jim Chandler.
URL:https://englewoodchristian.com/event/tuesday-night-small-group/2029-02-20/
CATEGORIES:Adult,Bible Study
ORGANIZER;CN="Jim Chandler":MAILTO:jchandler@englewoodchristian.com
END:VEVENT
BEGIN:VEVENT
DTSTART;TZID=America/New_York:20290221T180000
DTEND;TZID=America/New_York:20290221T190000
DTSTAMP:20260424T165950
CREATED:20231031T010623Z
LAST-MODIFIED:20251118T205129Z
UID:10006283-1866391200-1866394800@englewoodchristian.com
SUMMARY:Adult Bible Study
DESCRIPTION:
URL:https://englewoodchristian.com/event/adult-bible-study-3/2029-02-21/
LOCATION:Englewood Christian Church\, 9600 Gulfstream Blvd\, Englewood\, FL\, 34224\, United States
CATEGORIES:Adult,Bible Study,Wednesday
END:VEVENT
BEGIN:VEVENT
DTSTART;TZID=America/New_York:20290222T180000
DTEND;TZID=America/New_York:20290222T193000
DTSTAMP:20260424T165950
CREATED:20240620T153654Z
LAST-MODIFIED:20251113T172856Z
UID:10005097-1866477600-1866483000@englewoodchristian.com
SUMMARY:Thursday Night Small Group
DESCRIPTION:This small group meets every Thursday evening at 6:00pm.
URL:https://englewoodchristian.com/event/thursday-night-small-group/2029-02-22/
CATEGORIES:Adult,Bible Study
END:VEVENT
BEGIN:VEVENT
DTSTART;TZID=America/New_York:20290225T093000
DTEND;TZID=America/New_York:20290225T101500
DTSTAMP:20260424T165950
CREATED:20240523T201136Z
LAST-MODIFIED:20240523T201138Z
UID:10004301-1866706200-1866708900@englewoodchristian.com
SUMMARY:Adult Sunday School
DESCRIPTION:
URL:https://englewoodchristian.com/event/adult-sunday-school-2-2-2/2029-02-25/
LOCATION:Englewood Christian Church\, 9600 Gulfstream Blvd\, Englewood\, FL\, 34224\, United States
CATEGORIES:Adult,Sunday,Sunday School
END:VEVENT
BEGIN:VEVENT
DTSTART;TZID=America/New_York:20290225T180000
DTEND;TZID=America/New_York:20290225T190000
DTSTAMP:20260424T165950
CREATED:20240620T151840Z
LAST-MODIFIED:20240620T151840Z
UID:10004847-1866736800-1866740400@englewoodchristian.com
SUMMARY:Sunday Night Small Group
DESCRIPTION:This Small Group meets on Sunday evenings at 6:00pm and is led by Jim Chandler.
URL:https://englewoodchristian.com/event/sunday-night-small-group/2029-02-25/
CATEGORIES:Adult,Bible Study
ORGANIZER;CN="Jim Chandler":MAILTO:jchandler@englewoodchristian.com
END:VEVENT
BEGIN:VEVENT
DTSTART;TZID=America/New_York:20290226T190000
DTEND;TZID=America/New_York:20290226T203000
DTSTAMP:20260424T165950
CREATED:20251113T171841Z
LAST-MODIFIED:20251119T192902Z
UID:10005565-1866826800-1866832200@englewoodchristian.com
SUMMARY:Men’s 4x4
DESCRIPTION:Men’s bible study group at the church Monday nights starting at 7pm.
URL:https://englewoodchristian.com/event/mens-4x4-3-2/2029-02-26/
LOCATION:Englewood Christian Church\, 9600 Gulfstream Blvd\, Englewood\, FL\, 34224\, United States
CATEGORIES:Adult,Mens
ORGANIZER;CN="Jim Chandler":MAILTO:jchandler@englewoodchristian.com
END:VEVENT
BEGIN:VEVENT
DTSTART;TZID=America/New_York:20290227T123000
DTEND;TZID=America/New_York:20290227T143000
DTSTAMP:20260424T165950
CREATED:20240102T185554Z
LAST-MODIFIED:20251113T171703Z
UID:10006045-1866889800-1866897000@englewoodchristian.com
SUMMARY:Tuesday Women's Bible Study
DESCRIPTION:
URL:https://englewoodchristian.com/event/tuesday-womens-bible-study/2029-02-27/
CATEGORIES:Adult,Bible Study,Ladies,Women
END:VEVENT
BEGIN:VEVENT
DTSTART;TZID=America/New_York:20290227T183000
DTEND;TZID=America/New_York:20290227T201500
DTSTAMP:20260424T165950
CREATED:20240620T140951Z
LAST-MODIFIED:20251113T172153Z
UID:10004561-1866911400-1866917700@englewoodchristian.com
SUMMARY:Tuesday Night Small Group
DESCRIPTION:This Small Group meets Tuesday nights at 6:30pm and is led by Jim Chandler.
URL:https://englewoodchristian.com/event/tuesday-night-small-group/2029-02-27/
CATEGORIES:Adult,Bible Study
ORGANIZER;CN="Jim Chandler":MAILTO:jchandler@englewoodchristian.com
END:VEVENT
BEGIN:VEVENT
DTSTART;TZID=America/New_York:20290228T180000
DTEND;TZID=America/New_York:20290228T190000
DTSTAMP:20260424T165950
CREATED:20231031T010623Z
LAST-MODIFIED:20251118T205129Z
UID:10006284-1866996000-1866999600@englewoodchristian.com
SUMMARY:Adult Bible Study
DESCRIPTION:
URL:https://englewoodchristian.com/event/adult-bible-study-3/2029-02-28/
LOCATION:Englewood Christian Church\, 9600 Gulfstream Blvd\, Englewood\, FL\, 34224\, United States
CATEGORIES:Adult,Bible Study,Wednesday
END:VEVENT
BEGIN:VEVENT
DTSTART;TZID=America/New_York:20290301T180000
DTEND;TZID=America/New_York:20290301T193000
DTSTAMP:20260424T165950
CREATED:20240620T153654Z
LAST-MODIFIED:20251113T172856Z
UID:10005098-1867082400-1867087800@englewoodchristian.com
SUMMARY:Thursday Night Small Group
DESCRIPTION:This small group meets every Thursday evening at 6:00pm.
URL:https://englewoodchristian.com/event/thursday-night-small-group/2029-03-01/
CATEGORIES:Adult,Bible Study
END:VEVENT
BEGIN:VEVENT
DTSTART;TZID=America/New_York:20290304T093000
DTEND;TZID=America/New_York:20290304T101500
DTSTAMP:20260424T165950
CREATED:20240523T201136Z
LAST-MODIFIED:20240523T201138Z
UID:10004302-1867311000-1867313700@englewoodchristian.com
SUMMARY:Adult Sunday School
DESCRIPTION:
URL:https://englewoodchristian.com/event/adult-sunday-school-2-2-2/2029-03-04/
LOCATION:Englewood Christian Church\, 9600 Gulfstream Blvd\, Englewood\, FL\, 34224\, United States
CATEGORIES:Adult,Sunday,Sunday School
END:VEVENT
BEGIN:VEVENT
DTSTART;TZID=America/New_York:20290304T180000
DTEND;TZID=America/New_York:20290304T190000
DTSTAMP:20260424T165950
CREATED:20240620T151840Z
LAST-MODIFIED:20240620T151840Z
UID:10004848-1867341600-1867345200@englewoodchristian.com
SUMMARY:Sunday Night Small Group
DESCRIPTION:This Small Group meets on Sunday evenings at 6:00pm and is led by Jim Chandler.
URL:https://englewoodchristian.com/event/sunday-night-small-group/2029-03-04/
CATEGORIES:Adult,Bible Study
ORGANIZER;CN="Jim Chandler":MAILTO:jchandler@englewoodchristian.com
END:VEVENT
BEGIN:VEVENT
DTSTART;TZID=America/New_York:20290305T190000
DTEND;TZID=America/New_York:20290305T203000
DTSTAMP:20260424T165950
CREATED:20251113T171841Z
LAST-MODIFIED:20251119T192902Z
UID:10005566-1867431600-1867437000@englewoodchristian.com
SUMMARY:Men’s 4x4
DESCRIPTION:Men’s bible study group at the church Monday nights starting at 7pm.
URL:https://englewoodchristian.com/event/mens-4x4-3-2/2029-03-05/
LOCATION:Englewood Christian Church\, 9600 Gulfstream Blvd\, Englewood\, FL\, 34224\, United States
CATEGORIES:Adult,Mens
ORGANIZER;CN="Jim Chandler":MAILTO:jchandler@englewoodchristian.com
END:VEVENT
BEGIN:VEVENT
DTSTART;TZID=America/New_York:20290306T123000
DTEND;TZID=America/New_York:20290306T143000
DTSTAMP:20260424T165950
CREATED:20240102T185554Z
LAST-MODIFIED:20251113T171703Z
UID:10006046-1867494600-1867501800@englewoodchristian.com
SUMMARY:Tuesday Women's Bible Study
DESCRIPTION:
URL:https://englewoodchristian.com/event/tuesday-womens-bible-study/2029-03-06/
CATEGORIES:Adult,Bible Study,Ladies,Women
END:VEVENT
BEGIN:VEVENT
DTSTART;TZID=America/New_York:20290306T183000
DTEND;TZID=America/New_York:20290306T201500
DTSTAMP:20260424T165950
CREATED:20240620T140951Z
LAST-MODIFIED:20251113T172153Z
UID:10004562-1867516200-1867522500@englewoodchristian.com
SUMMARY:Tuesday Night Small Group
DESCRIPTION:This Small Group meets Tuesday nights at 6:30pm and is led by Jim Chandler.
URL:https://englewoodchristian.com/event/tuesday-night-small-group/2029-03-06/
CATEGORIES:Adult,Bible Study
ORGANIZER;CN="Jim Chandler":MAILTO:jchandler@englewoodchristian.com
END:VEVENT
BEGIN:VEVENT
DTSTART;TZID=America/New_York:20290307T180000
DTEND;TZID=America/New_York:20290307T190000
DTSTAMP:20260424T165950
CREATED:20231031T010623Z
LAST-MODIFIED:20251118T205129Z
UID:10006285-1867600800-1867604400@englewoodchristian.com
SUMMARY:Adult Bible Study
DESCRIPTION:
URL:https://englewoodchristian.com/event/adult-bible-study-3/2029-03-07/
LOCATION:Englewood Christian Church\, 9600 Gulfstream Blvd\, Englewood\, FL\, 34224\, United States
CATEGORIES:Adult,Bible Study,Wednesday
END:VEVENT
BEGIN:VEVENT
DTSTART;TZID=America/New_York:20290308T180000
DTEND;TZID=America/New_York:20290308T193000
DTSTAMP:20260424T165950
CREATED:20240620T153654Z
LAST-MODIFIED:20251113T172856Z
UID:10005099-1867687200-1867692600@englewoodchristian.com
SUMMARY:Thursday Night Small Group
DESCRIPTION:This small group meets every Thursday evening at 6:00pm.
URL:https://englewoodchristian.com/event/thursday-night-small-group/2029-03-08/
CATEGORIES:Adult,Bible Study
END:VEVENT
BEGIN:VEVENT
DTSTART;TZID=America/New_York:20290311T093000
DTEND;TZID=America/New_York:20290311T101500
DTSTAMP:20260424T165950
CREATED:20240523T201136Z
LAST-MODIFIED:20240523T201138Z
UID:10004303-1867915800-1867918500@englewoodchristian.com
SUMMARY:Adult Sunday School
DESCRIPTION:
URL:https://englewoodchristian.com/event/adult-sunday-school-2-2-2/2029-03-11/
LOCATION:Englewood Christian Church\, 9600 Gulfstream Blvd\, Englewood\, FL\, 34224\, United States
CATEGORIES:Adult,Sunday,Sunday School
END:VEVENT
BEGIN:VEVENT
DTSTART;TZID=America/New_York:20290311T180000
DTEND;TZID=America/New_York:20290311T190000
DTSTAMP:20260424T165950
CREATED:20240620T151840Z
LAST-MODIFIED:20240620T151840Z
UID:10004849-1867946400-1867950000@englewoodchristian.com
SUMMARY:Sunday Night Small Group
DESCRIPTION:This Small Group meets on Sunday evenings at 6:00pm and is led by Jim Chandler.
URL:https://englewoodchristian.com/event/sunday-night-small-group/2029-03-11/
CATEGORIES:Adult,Bible Study
ORGANIZER;CN="Jim Chandler":MAILTO:jchandler@englewoodchristian.com
END:VEVENT
BEGIN:VEVENT
DTSTART;TZID=America/New_York:20290312T190000
DTEND;TZID=America/New_York:20290312T203000
DTSTAMP:20260424T165950
CREATED:20251113T171841Z
LAST-MODIFIED:20251119T192902Z
UID:10005567-1868036400-1868041800@englewoodchristian.com
SUMMARY:Men’s 4x4
DESCRIPTION:Men’s bible study group at the church Monday nights starting at 7pm.
URL:https://englewoodchristian.com/event/mens-4x4-3-2/2029-03-12/
LOCATION:Englewood Christian Church\, 9600 Gulfstream Blvd\, Englewood\, FL\, 34224\, United States
CATEGORIES:Adult,Mens
ORGANIZER;CN="Jim Chandler":MAILTO:jchandler@englewoodchristian.com
END:VEVENT
BEGIN:VEVENT
DTSTART;TZID=America/New_York:20290313T123000
DTEND;TZID=America/New_York:20290313T143000
DTSTAMP:20260424T165950
CREATED:20240102T185554Z
LAST-MODIFIED:20251113T171703Z
UID:10006047-1868099400-1868106600@englewoodchristian.com
SUMMARY:Tuesday Women's Bible Study
DESCRIPTION:
URL:https://englewoodchristian.com/event/tuesday-womens-bible-study/2029-03-13/
CATEGORIES:Adult,Bible Study,Ladies,Women
END:VEVENT
BEGIN:VEVENT
DTSTART;TZID=America/New_York:20290313T183000
DTEND;TZID=America/New_York:20290313T201500
DTSTAMP:20260424T165950
CREATED:20240620T140951Z
LAST-MODIFIED:20251113T172153Z
UID:10004563-1868121000-1868127300@englewoodchristian.com
SUMMARY:Tuesday Night Small Group
DESCRIPTION:This Small Group meets Tuesday nights at 6:30pm and is led by Jim Chandler.
URL:https://englewoodchristian.com/event/tuesday-night-small-group/2029-03-13/
CATEGORIES:Adult,Bible Study
ORGANIZER;CN="Jim Chandler":MAILTO:jchandler@englewoodchristian.com
END:VEVENT
BEGIN:VEVENT
DTSTART;TZID=America/New_York:20290314T180000
DTEND;TZID=America/New_York:20290314T190000
DTSTAMP:20260424T165950
CREATED:20231031T010623Z
LAST-MODIFIED:20251118T205129Z
UID:10006286-1868205600-1868209200@englewoodchristian.com
SUMMARY:Adult Bible Study
DESCRIPTION:
URL:https://englewoodchristian.com/event/adult-bible-study-3/2029-03-14/
LOCATION:Englewood Christian Church\, 9600 Gulfstream Blvd\, Englewood\, FL\, 34224\, United States
CATEGORIES:Adult,Bible Study,Wednesday
END:VEVENT
BEGIN:VEVENT
DTSTART;TZID=America/New_York:20290315T180000
DTEND;TZID=America/New_York:20290315T193000
DTSTAMP:20260424T165950
CREATED:20240620T153654Z
LAST-MODIFIED:20251113T172856Z
UID:10005100-1868292000-1868297400@englewoodchristian.com
SUMMARY:Thursday Night Small Group
DESCRIPTION:This small group meets every Thursday evening at 6:00pm.
URL:https://englewoodchristian.com/event/thursday-night-small-group/2029-03-15/
CATEGORIES:Adult,Bible Study
END:VEVENT
BEGIN:VEVENT
DTSTART;TZID=America/New_York:20290318T093000
DTEND;TZID=America/New_York:20290318T101500
DTSTAMP:20260424T165950
CREATED:20240523T201136Z
LAST-MODIFIED:20240523T201138Z
UID:10004304-1868520600-1868523300@englewoodchristian.com
SUMMARY:Adult Sunday School
DESCRIPTION:
URL:https://englewoodchristian.com/event/adult-sunday-school-2-2-2/2029-03-18/
LOCATION:Englewood Christian Church\, 9600 Gulfstream Blvd\, Englewood\, FL\, 34224\, United States
CATEGORIES:Adult,Sunday,Sunday School
END:VEVENT
BEGIN:VEVENT
DTSTART;TZID=America/New_York:20290318T180000
DTEND;TZID=America/New_York:20290318T190000
DTSTAMP:20260424T165950
CREATED:20240620T151840Z
LAST-MODIFIED:20240620T151840Z
UID:10004850-1868551200-1868554800@englewoodchristian.com
SUMMARY:Sunday Night Small Group
DESCRIPTION:This Small Group meets on Sunday evenings at 6:00pm and is led by Jim Chandler.
URL:https://englewoodchristian.com/event/sunday-night-small-group/2029-03-18/
CATEGORIES:Adult,Bible Study
ORGANIZER;CN="Jim Chandler":MAILTO:jchandler@englewoodchristian.com
END:VEVENT
BEGIN:VEVENT
DTSTART;TZID=America/New_York:20290319T190000
DTEND;TZID=America/New_York:20290319T203000
DTSTAMP:20260424T165950
CREATED:20251113T171841Z
LAST-MODIFIED:20251119T192902Z
UID:10005568-1868641200-1868646600@englewoodchristian.com
SUMMARY:Men’s 4x4
DESCRIPTION:Men’s bible study group at the church Monday nights starting at 7pm.
URL:https://englewoodchristian.com/event/mens-4x4-3-2/2029-03-19/
LOCATION:Englewood Christian Church\, 9600 Gulfstream Blvd\, Englewood\, FL\, 34224\, United States
CATEGORIES:Adult,Mens
ORGANIZER;CN="Jim Chandler":MAILTO:jchandler@englewoodchristian.com
END:VEVENT
END:VCALENDAR