BEGIN:VCALENDAR
VERSION:2.0
PRODID:-//Englewood Christian Church - ECPv6.15.20//NONSGML v1.0//EN
CALSCALE:GREGORIAN
METHOD:PUBLISH
X-ORIGINAL-URL:https://englewoodchristian.com
X-WR-CALDESC:Events for Englewood Christian Church
REFRESH-INTERVAL;VALUE=DURATION:PT1H
X-Robots-Tag:noindex
X-PUBLISHED-TTL:PT1H
BEGIN:VTIMEZONE
TZID:America/New_York
BEGIN:DAYLIGHT
TZOFFSETFROM:-0500
TZOFFSETTO:-0400
TZNAME:EDT
DTSTART:20260308T070000
END:DAYLIGHT
BEGIN:STANDARD
TZOFFSETFROM:-0400
TZOFFSETTO:-0500
TZNAME:EST
DTSTART:20261101T060000
END:STANDARD
BEGIN:DAYLIGHT
TZOFFSETFROM:-0500
TZOFFSETTO:-0400
TZNAME:EDT
DTSTART:20270314T070000
END:DAYLIGHT
BEGIN:STANDARD
TZOFFSETFROM:-0400
TZOFFSETTO:-0500
TZNAME:EST
DTSTART:20271107T060000
END:STANDARD
BEGIN:DAYLIGHT
TZOFFSETFROM:-0500
TZOFFSETTO:-0400
TZNAME:EDT
DTSTART:20280312T070000
END:DAYLIGHT
BEGIN:STANDARD
TZOFFSETFROM:-0400
TZOFFSETTO:-0500
TZNAME:EST
DTSTART:20281105T060000
END:STANDARD
END:VTIMEZONE
BEGIN:VEVENT
DTSTART;TZID=America/New_York:20271013T180000
DTEND;TZID=America/New_York:20271013T190000
DTSTAMP:20260424T081926
CREATED:20231031T010623Z
LAST-MODIFIED:20251118T205129Z
UID:10001272-1823450400-1823454000@englewoodchristian.com
SUMMARY:Adult Bible Study
DESCRIPTION:
URL:https://englewoodchristian.com/event/adult-bible-study-3/2027-10-13/
LOCATION:Englewood Christian Church\, 9600 Gulfstream Blvd\, Englewood\, FL\, 34224\, United States
CATEGORIES:Adult,Bible Study,Wednesday
END:VEVENT
BEGIN:VEVENT
DTSTART;TZID=America/New_York:20271014T180000
DTEND;TZID=America/New_York:20271014T193000
DTSTAMP:20260424T081926
CREATED:20240620T153654Z
LAST-MODIFIED:20251113T172856Z
UID:10005026-1823536800-1823542200@englewoodchristian.com
SUMMARY:Thursday Night Small Group
DESCRIPTION:This small group meets every Thursday evening at 6:00pm.
URL:https://englewoodchristian.com/event/thursday-night-small-group/2027-10-14/
CATEGORIES:Adult,Bible Study
END:VEVENT
BEGIN:VEVENT
DTSTART;TZID=America/New_York:20271017T093000
DTEND;TZID=America/New_York:20271017T101500
DTSTAMP:20260424T081926
CREATED:20240523T201136Z
LAST-MODIFIED:20240523T201138Z
UID:10004230-1823765400-1823768100@englewoodchristian.com
SUMMARY:Adult Sunday School
DESCRIPTION:
URL:https://englewoodchristian.com/event/adult-sunday-school-2-2-2/2027-10-17/
LOCATION:Englewood Christian Church\, 9600 Gulfstream Blvd\, Englewood\, FL\, 34224\, United States
CATEGORIES:Adult,Sunday,Sunday School
END:VEVENT
BEGIN:VEVENT
DTSTART;TZID=America/New_York:20271017T180000
DTEND;TZID=America/New_York:20271017T190000
DTSTAMP:20260424T081926
CREATED:20240620T151840Z
LAST-MODIFIED:20240620T151840Z
UID:10004776-1823796000-1823799600@englewoodchristian.com
SUMMARY:Sunday Night Small Group
DESCRIPTION:This Small Group meets on Sunday evenings at 6:00pm and is led by Jim Chandler.
URL:https://englewoodchristian.com/event/sunday-night-small-group/2027-10-17/
CATEGORIES:Adult,Bible Study
ORGANIZER;CN="Jim Chandler":MAILTO:jchandler@englewoodchristian.com
END:VEVENT
BEGIN:VEVENT
DTSTART;TZID=America/New_York:20271018T190000
DTEND;TZID=America/New_York:20271018T203000
DTSTAMP:20260424T081926
CREATED:20251113T171841Z
LAST-MODIFIED:20251119T192902Z
UID:10005494-1823886000-1823891400@englewoodchristian.com
SUMMARY:Men’s 4x4
DESCRIPTION:Men’s bible study group at the church Monday nights starting at 7pm.
URL:https://englewoodchristian.com/event/mens-4x4-3-2/2027-10-18/
LOCATION:Englewood Christian Church\, 9600 Gulfstream Blvd\, Englewood\, FL\, 34224\, United States
CATEGORIES:Adult,Mens
ORGANIZER;CN="Jim Chandler":MAILTO:jchandler@englewoodchristian.com
END:VEVENT
BEGIN:VEVENT
DTSTART;TZID=America/New_York:20271019T123000
DTEND;TZID=America/New_York:20271019T143000
DTSTAMP:20260424T081926
CREATED:20240102T185554Z
LAST-MODIFIED:20251113T171703Z
UID:10001830-1823949000-1823956200@englewoodchristian.com
SUMMARY:Tuesday Women's Bible Study
DESCRIPTION:
URL:https://englewoodchristian.com/event/tuesday-womens-bible-study/2027-10-19/
CATEGORIES:Adult,Bible Study,Ladies,Women
END:VEVENT
BEGIN:VEVENT
DTSTART;TZID=America/New_York:20271019T183000
DTEND;TZID=America/New_York:20271019T201500
DTSTAMP:20260424T081926
CREATED:20240620T140951Z
LAST-MODIFIED:20251113T172153Z
UID:10004490-1823970600-1823976900@englewoodchristian.com
SUMMARY:Tuesday Night Small Group
DESCRIPTION:This Small Group meets Tuesday nights at 6:30pm and is led by Jim Chandler.
URL:https://englewoodchristian.com/event/tuesday-night-small-group/2027-10-19/
CATEGORIES:Adult,Bible Study
ORGANIZER;CN="Jim Chandler":MAILTO:jchandler@englewoodchristian.com
END:VEVENT
BEGIN:VEVENT
DTSTART;TZID=America/New_York:20271020T180000
DTEND;TZID=America/New_York:20271020T190000
DTSTAMP:20260424T081926
CREATED:20231031T010623Z
LAST-MODIFIED:20251118T205129Z
UID:10001273-1824055200-1824058800@englewoodchristian.com
SUMMARY:Adult Bible Study
DESCRIPTION:
URL:https://englewoodchristian.com/event/adult-bible-study-3/2027-10-20/
LOCATION:Englewood Christian Church\, 9600 Gulfstream Blvd\, Englewood\, FL\, 34224\, United States
CATEGORIES:Adult,Bible Study,Wednesday
END:VEVENT
BEGIN:VEVENT
DTSTART;TZID=America/New_York:20271021T180000
DTEND;TZID=America/New_York:20271021T193000
DTSTAMP:20260424T081926
CREATED:20240620T153654Z
LAST-MODIFIED:20251113T172856Z
UID:10005027-1824141600-1824147000@englewoodchristian.com
SUMMARY:Thursday Night Small Group
DESCRIPTION:This small group meets every Thursday evening at 6:00pm.
URL:https://englewoodchristian.com/event/thursday-night-small-group/2027-10-21/
CATEGORIES:Adult,Bible Study
END:VEVENT
BEGIN:VEVENT
DTSTART;TZID=America/New_York:20271024T093000
DTEND;TZID=America/New_York:20271024T101500
DTSTAMP:20260424T081926
CREATED:20240523T201136Z
LAST-MODIFIED:20240523T201138Z
UID:10004231-1824370200-1824372900@englewoodchristian.com
SUMMARY:Adult Sunday School
DESCRIPTION:
URL:https://englewoodchristian.com/event/adult-sunday-school-2-2-2/2027-10-24/
LOCATION:Englewood Christian Church\, 9600 Gulfstream Blvd\, Englewood\, FL\, 34224\, United States
CATEGORIES:Adult,Sunday,Sunday School
END:VEVENT
BEGIN:VEVENT
DTSTART;TZID=America/New_York:20271024T180000
DTEND;TZID=America/New_York:20271024T190000
DTSTAMP:20260424T081926
CREATED:20240620T151840Z
LAST-MODIFIED:20240620T151840Z
UID:10004777-1824400800-1824404400@englewoodchristian.com
SUMMARY:Sunday Night Small Group
DESCRIPTION:This Small Group meets on Sunday evenings at 6:00pm and is led by Jim Chandler.
URL:https://englewoodchristian.com/event/sunday-night-small-group/2027-10-24/
CATEGORIES:Adult,Bible Study
ORGANIZER;CN="Jim Chandler":MAILTO:jchandler@englewoodchristian.com
END:VEVENT
BEGIN:VEVENT
DTSTART;TZID=America/New_York:20271025T190000
DTEND;TZID=America/New_York:20271025T203000
DTSTAMP:20260424T081926
CREATED:20251113T171841Z
LAST-MODIFIED:20251119T192902Z
UID:10005495-1824490800-1824496200@englewoodchristian.com
SUMMARY:Men’s 4x4
DESCRIPTION:Men’s bible study group at the church Monday nights starting at 7pm.
URL:https://englewoodchristian.com/event/mens-4x4-3-2/2027-10-25/
LOCATION:Englewood Christian Church\, 9600 Gulfstream Blvd\, Englewood\, FL\, 34224\, United States
CATEGORIES:Adult,Mens
ORGANIZER;CN="Jim Chandler":MAILTO:jchandler@englewoodchristian.com
END:VEVENT
BEGIN:VEVENT
DTSTART;TZID=America/New_York:20271026T123000
DTEND;TZID=America/New_York:20271026T143000
DTSTAMP:20260424T081926
CREATED:20240102T185554Z
LAST-MODIFIED:20251113T171703Z
UID:10001831-1824553800-1824561000@englewoodchristian.com
SUMMARY:Tuesday Women's Bible Study
DESCRIPTION:
URL:https://englewoodchristian.com/event/tuesday-womens-bible-study/2027-10-26/
CATEGORIES:Adult,Bible Study,Ladies,Women
END:VEVENT
BEGIN:VEVENT
DTSTART;TZID=America/New_York:20271026T183000
DTEND;TZID=America/New_York:20271026T201500
DTSTAMP:20260424T081926
CREATED:20240620T140951Z
LAST-MODIFIED:20251113T172153Z
UID:10004491-1824575400-1824581700@englewoodchristian.com
SUMMARY:Tuesday Night Small Group
DESCRIPTION:This Small Group meets Tuesday nights at 6:30pm and is led by Jim Chandler.
URL:https://englewoodchristian.com/event/tuesday-night-small-group/2027-10-26/
CATEGORIES:Adult,Bible Study
ORGANIZER;CN="Jim Chandler":MAILTO:jchandler@englewoodchristian.com
END:VEVENT
BEGIN:VEVENT
DTSTART;TZID=America/New_York:20271027T180000
DTEND;TZID=America/New_York:20271027T190000
DTSTAMP:20260424T081926
CREATED:20231031T010623Z
LAST-MODIFIED:20251118T205129Z
UID:10001274-1824660000-1824663600@englewoodchristian.com
SUMMARY:Adult Bible Study
DESCRIPTION:
URL:https://englewoodchristian.com/event/adult-bible-study-3/2027-10-27/
LOCATION:Englewood Christian Church\, 9600 Gulfstream Blvd\, Englewood\, FL\, 34224\, United States
CATEGORIES:Adult,Bible Study,Wednesday
END:VEVENT
BEGIN:VEVENT
DTSTART;TZID=America/New_York:20271028T180000
DTEND;TZID=America/New_York:20271028T193000
DTSTAMP:20260424T081926
CREATED:20240620T153654Z
LAST-MODIFIED:20251113T172856Z
UID:10005028-1824746400-1824751800@englewoodchristian.com
SUMMARY:Thursday Night Small Group
DESCRIPTION:This small group meets every Thursday evening at 6:00pm.
URL:https://englewoodchristian.com/event/thursday-night-small-group/2027-10-28/
CATEGORIES:Adult,Bible Study
END:VEVENT
BEGIN:VEVENT
DTSTART;TZID=America/New_York:20271031T093000
DTEND;TZID=America/New_York:20271031T101500
DTSTAMP:20260424T081926
CREATED:20240523T201136Z
LAST-MODIFIED:20240523T201138Z
UID:10004232-1824975000-1824977700@englewoodchristian.com
SUMMARY:Adult Sunday School
DESCRIPTION:
URL:https://englewoodchristian.com/event/adult-sunday-school-2-2-2/2027-10-31/
LOCATION:Englewood Christian Church\, 9600 Gulfstream Blvd\, Englewood\, FL\, 34224\, United States
CATEGORIES:Adult,Sunday,Sunday School
END:VEVENT
BEGIN:VEVENT
DTSTART;TZID=America/New_York:20271031T180000
DTEND;TZID=America/New_York:20271031T190000
DTSTAMP:20260424T081926
CREATED:20240620T151840Z
LAST-MODIFIED:20240620T151840Z
UID:10004778-1825005600-1825009200@englewoodchristian.com
SUMMARY:Sunday Night Small Group
DESCRIPTION:This Small Group meets on Sunday evenings at 6:00pm and is led by Jim Chandler.
URL:https://englewoodchristian.com/event/sunday-night-small-group/2027-10-31/
CATEGORIES:Adult,Bible Study
ORGANIZER;CN="Jim Chandler":MAILTO:jchandler@englewoodchristian.com
END:VEVENT
BEGIN:VEVENT
DTSTART;TZID=America/New_York:20271101T190000
DTEND;TZID=America/New_York:20271101T203000
DTSTAMP:20260424T081926
CREATED:20251113T171841Z
LAST-MODIFIED:20251119T192902Z
UID:10005496-1825095600-1825101000@englewoodchristian.com
SUMMARY:Men’s 4x4
DESCRIPTION:Men’s bible study group at the church Monday nights starting at 7pm.
URL:https://englewoodchristian.com/event/mens-4x4-3-2/2027-11-01/
LOCATION:Englewood Christian Church\, 9600 Gulfstream Blvd\, Englewood\, FL\, 34224\, United States
CATEGORIES:Adult,Mens
ORGANIZER;CN="Jim Chandler":MAILTO:jchandler@englewoodchristian.com
END:VEVENT
BEGIN:VEVENT
DTSTART;TZID=America/New_York:20271102T123000
DTEND;TZID=America/New_York:20271102T143000
DTSTAMP:20260424T081926
CREATED:20240102T185554Z
LAST-MODIFIED:20251113T171703Z
UID:10001832-1825158600-1825165800@englewoodchristian.com
SUMMARY:Tuesday Women's Bible Study
DESCRIPTION:
URL:https://englewoodchristian.com/event/tuesday-womens-bible-study/2027-11-02/
CATEGORIES:Adult,Bible Study,Ladies,Women
END:VEVENT
BEGIN:VEVENT
DTSTART;TZID=America/New_York:20271102T183000
DTEND;TZID=America/New_York:20271102T201500
DTSTAMP:20260424T081926
CREATED:20240620T140951Z
LAST-MODIFIED:20251113T172153Z
UID:10004492-1825180200-1825186500@englewoodchristian.com
SUMMARY:Tuesday Night Small Group
DESCRIPTION:This Small Group meets Tuesday nights at 6:30pm and is led by Jim Chandler.
URL:https://englewoodchristian.com/event/tuesday-night-small-group/2027-11-02/
CATEGORIES:Adult,Bible Study
ORGANIZER;CN="Jim Chandler":MAILTO:jchandler@englewoodchristian.com
END:VEVENT
BEGIN:VEVENT
DTSTART;TZID=America/New_York:20271103T180000
DTEND;TZID=America/New_York:20271103T190000
DTSTAMP:20260424T081926
CREATED:20231031T010623Z
LAST-MODIFIED:20251118T205129Z
UID:10001275-1825264800-1825268400@englewoodchristian.com
SUMMARY:Adult Bible Study
DESCRIPTION:
URL:https://englewoodchristian.com/event/adult-bible-study-3/2027-11-03/
LOCATION:Englewood Christian Church\, 9600 Gulfstream Blvd\, Englewood\, FL\, 34224\, United States
CATEGORIES:Adult,Bible Study,Wednesday
END:VEVENT
BEGIN:VEVENT
DTSTART;TZID=America/New_York:20271104T180000
DTEND;TZID=America/New_York:20271104T193000
DTSTAMP:20260424T081926
CREATED:20240620T153654Z
LAST-MODIFIED:20251113T172856Z
UID:10005029-1825351200-1825356600@englewoodchristian.com
SUMMARY:Thursday Night Small Group
DESCRIPTION:This small group meets every Thursday evening at 6:00pm.
URL:https://englewoodchristian.com/event/thursday-night-small-group/2027-11-04/
CATEGORIES:Adult,Bible Study
END:VEVENT
BEGIN:VEVENT
DTSTART;TZID=America/New_York:20271107T093000
DTEND;TZID=America/New_York:20271107T101500
DTSTAMP:20260424T081926
CREATED:20240523T201136Z
LAST-MODIFIED:20240523T201138Z
UID:10004233-1825579800-1825582500@englewoodchristian.com
SUMMARY:Adult Sunday School
DESCRIPTION:
URL:https://englewoodchristian.com/event/adult-sunday-school-2-2-2/2027-11-07/
LOCATION:Englewood Christian Church\, 9600 Gulfstream Blvd\, Englewood\, FL\, 34224\, United States
CATEGORIES:Adult,Sunday,Sunday School
END:VEVENT
BEGIN:VEVENT
DTSTART;TZID=America/New_York:20271107T180000
DTEND;TZID=America/New_York:20271107T190000
DTSTAMP:20260424T081926
CREATED:20240620T151840Z
LAST-MODIFIED:20240620T151840Z
UID:10004779-1825610400-1825614000@englewoodchristian.com
SUMMARY:Sunday Night Small Group
DESCRIPTION:This Small Group meets on Sunday evenings at 6:00pm and is led by Jim Chandler.
URL:https://englewoodchristian.com/event/sunday-night-small-group/2027-11-07/
CATEGORIES:Adult,Bible Study
ORGANIZER;CN="Jim Chandler":MAILTO:jchandler@englewoodchristian.com
END:VEVENT
BEGIN:VEVENT
DTSTART;TZID=America/New_York:20271108T190000
DTEND;TZID=America/New_York:20271108T203000
DTSTAMP:20260424T081926
CREATED:20251113T171841Z
LAST-MODIFIED:20251119T192902Z
UID:10005497-1825700400-1825705800@englewoodchristian.com
SUMMARY:Men’s 4x4
DESCRIPTION:Men’s bible study group at the church Monday nights starting at 7pm.
URL:https://englewoodchristian.com/event/mens-4x4-3-2/2027-11-08/
LOCATION:Englewood Christian Church\, 9600 Gulfstream Blvd\, Englewood\, FL\, 34224\, United States
CATEGORIES:Adult,Mens
ORGANIZER;CN="Jim Chandler":MAILTO:jchandler@englewoodchristian.com
END:VEVENT
BEGIN:VEVENT
DTSTART;TZID=America/New_York:20271109T123000
DTEND;TZID=America/New_York:20271109T143000
DTSTAMP:20260424T081926
CREATED:20240102T185554Z
LAST-MODIFIED:20251113T171703Z
UID:10001833-1825763400-1825770600@englewoodchristian.com
SUMMARY:Tuesday Women's Bible Study
DESCRIPTION:
URL:https://englewoodchristian.com/event/tuesday-womens-bible-study/2027-11-09/
CATEGORIES:Adult,Bible Study,Ladies,Women
END:VEVENT
BEGIN:VEVENT
DTSTART;TZID=America/New_York:20271109T183000
DTEND;TZID=America/New_York:20271109T201500
DTSTAMP:20260424T081926
CREATED:20240620T140951Z
LAST-MODIFIED:20251113T172153Z
UID:10004493-1825785000-1825791300@englewoodchristian.com
SUMMARY:Tuesday Night Small Group
DESCRIPTION:This Small Group meets Tuesday nights at 6:30pm and is led by Jim Chandler.
URL:https://englewoodchristian.com/event/tuesday-night-small-group/2027-11-09/
CATEGORIES:Adult,Bible Study
ORGANIZER;CN="Jim Chandler":MAILTO:jchandler@englewoodchristian.com
END:VEVENT
BEGIN:VEVENT
DTSTART;TZID=America/New_York:20271110T180000
DTEND;TZID=America/New_York:20271110T190000
DTSTAMP:20260424T081926
CREATED:20231031T010623Z
LAST-MODIFIED:20251118T205129Z
UID:10001276-1825869600-1825873200@englewoodchristian.com
SUMMARY:Adult Bible Study
DESCRIPTION:
URL:https://englewoodchristian.com/event/adult-bible-study-3/2027-11-10/
LOCATION:Englewood Christian Church\, 9600 Gulfstream Blvd\, Englewood\, FL\, 34224\, United States
CATEGORIES:Adult,Bible Study,Wednesday
END:VEVENT
BEGIN:VEVENT
DTSTART;TZID=America/New_York:20271111T180000
DTEND;TZID=America/New_York:20271111T193000
DTSTAMP:20260424T081926
CREATED:20240620T153654Z
LAST-MODIFIED:20251113T172856Z
UID:10005030-1825956000-1825961400@englewoodchristian.com
SUMMARY:Thursday Night Small Group
DESCRIPTION:This small group meets every Thursday evening at 6:00pm.
URL:https://englewoodchristian.com/event/thursday-night-small-group/2027-11-11/
CATEGORIES:Adult,Bible Study
END:VEVENT
END:VCALENDAR