BEGIN:VCALENDAR
VERSION:2.0
PRODID:-//Englewood Christian Church - ECPv6.15.20//NONSGML v1.0//EN
CALSCALE:GREGORIAN
METHOD:PUBLISH
X-ORIGINAL-URL:https://englewoodchristian.com
X-WR-CALDESC:Events for Englewood Christian Church
REFRESH-INTERVAL;VALUE=DURATION:PT1H
X-Robots-Tag:noindex
X-PUBLISHED-TTL:PT1H
BEGIN:VTIMEZONE
TZID:America/New_York
BEGIN:DAYLIGHT
TZOFFSETFROM:-0500
TZOFFSETTO:-0400
TZNAME:EDT
DTSTART:20260308T070000
END:DAYLIGHT
BEGIN:STANDARD
TZOFFSETFROM:-0400
TZOFFSETTO:-0500
TZNAME:EST
DTSTART:20261101T060000
END:STANDARD
BEGIN:DAYLIGHT
TZOFFSETFROM:-0500
TZOFFSETTO:-0400
TZNAME:EDT
DTSTART:20270314T070000
END:DAYLIGHT
BEGIN:STANDARD
TZOFFSETFROM:-0400
TZOFFSETTO:-0500
TZNAME:EST
DTSTART:20271107T060000
END:STANDARD
BEGIN:DAYLIGHT
TZOFFSETFROM:-0500
TZOFFSETTO:-0400
TZNAME:EDT
DTSTART:20280312T070000
END:DAYLIGHT
BEGIN:STANDARD
TZOFFSETFROM:-0400
TZOFFSETTO:-0500
TZNAME:EST
DTSTART:20281105T060000
END:STANDARD
END:VTIMEZONE
BEGIN:VEVENT
DTSTART;TZID=America/New_York:20270824T123000
DTEND;TZID=America/New_York:20270824T143000
DTSTAMP:20260424T083424
CREATED:20240102T185554Z
LAST-MODIFIED:20251113T171703Z
UID:10001822-1819110600-1819117800@englewoodchristian.com
SUMMARY:Tuesday Women's Bible Study
DESCRIPTION:
URL:https://englewoodchristian.com/event/tuesday-womens-bible-study/2027-08-24/
CATEGORIES:Adult,Bible Study,Ladies,Women
END:VEVENT
BEGIN:VEVENT
DTSTART;TZID=America/New_York:20270824T183000
DTEND;TZID=America/New_York:20270824T201500
DTSTAMP:20260424T083424
CREATED:20240620T140951Z
LAST-MODIFIED:20251113T172153Z
UID:10004482-1819132200-1819138500@englewoodchristian.com
SUMMARY:Tuesday Night Small Group
DESCRIPTION:This Small Group meets Tuesday nights at 6:30pm and is led by Jim Chandler.
URL:https://englewoodchristian.com/event/tuesday-night-small-group/2027-08-24/
CATEGORIES:Adult,Bible Study
ORGANIZER;CN="Jim Chandler":MAILTO:jchandler@englewoodchristian.com
END:VEVENT
BEGIN:VEVENT
DTSTART;TZID=America/New_York:20270825T180000
DTEND;TZID=America/New_York:20270825T190000
DTSTAMP:20260424T083424
CREATED:20231031T010623Z
LAST-MODIFIED:20251118T205129Z
UID:10001265-1819216800-1819220400@englewoodchristian.com
SUMMARY:Adult Bible Study
DESCRIPTION:
URL:https://englewoodchristian.com/event/adult-bible-study-3/2027-08-25/
LOCATION:Englewood Christian Church\, 9600 Gulfstream Blvd\, Englewood\, FL\, 34224\, United States
CATEGORIES:Adult,Bible Study,Wednesday
END:VEVENT
BEGIN:VEVENT
DTSTART;TZID=America/New_York:20270826T180000
DTEND;TZID=America/New_York:20270826T193000
DTSTAMP:20260424T083424
CREATED:20240620T153654Z
LAST-MODIFIED:20251113T172856Z
UID:10005019-1819303200-1819308600@englewoodchristian.com
SUMMARY:Thursday Night Small Group
DESCRIPTION:This small group meets every Thursday evening at 6:00pm.
URL:https://englewoodchristian.com/event/thursday-night-small-group/2027-08-26/
CATEGORIES:Adult,Bible Study
END:VEVENT
BEGIN:VEVENT
DTSTART;TZID=America/New_York:20270829T093000
DTEND;TZID=America/New_York:20270829T101500
DTSTAMP:20260424T083424
CREATED:20240523T201136Z
LAST-MODIFIED:20240523T201138Z
UID:10004223-1819531800-1819534500@englewoodchristian.com
SUMMARY:Adult Sunday School
DESCRIPTION:
URL:https://englewoodchristian.com/event/adult-sunday-school-2-2-2/2027-08-29/
LOCATION:Englewood Christian Church\, 9600 Gulfstream Blvd\, Englewood\, FL\, 34224\, United States
CATEGORIES:Adult,Sunday,Sunday School
END:VEVENT
BEGIN:VEVENT
DTSTART;TZID=America/New_York:20270829T180000
DTEND;TZID=America/New_York:20270829T190000
DTSTAMP:20260424T083424
CREATED:20240620T151840Z
LAST-MODIFIED:20240620T151840Z
UID:10004769-1819562400-1819566000@englewoodchristian.com
SUMMARY:Sunday Night Small Group
DESCRIPTION:This Small Group meets on Sunday evenings at 6:00pm and is led by Jim Chandler.
URL:https://englewoodchristian.com/event/sunday-night-small-group/2027-08-29/
CATEGORIES:Adult,Bible Study
ORGANIZER;CN="Jim Chandler":MAILTO:jchandler@englewoodchristian.com
END:VEVENT
BEGIN:VEVENT
DTSTART;TZID=America/New_York:20270830T190000
DTEND;TZID=America/New_York:20270830T203000
DTSTAMP:20260424T083424
CREATED:20251113T171841Z
LAST-MODIFIED:20251119T192902Z
UID:10005487-1819652400-1819657800@englewoodchristian.com
SUMMARY:Men’s 4x4
DESCRIPTION:Men’s bible study group at the church Monday nights starting at 7pm.
URL:https://englewoodchristian.com/event/mens-4x4-3-2/2027-08-30/
LOCATION:Englewood Christian Church\, 9600 Gulfstream Blvd\, Englewood\, FL\, 34224\, United States
CATEGORIES:Adult,Mens
ORGANIZER;CN="Jim Chandler":MAILTO:jchandler@englewoodchristian.com
END:VEVENT
BEGIN:VEVENT
DTSTART;TZID=America/New_York:20270831T123000
DTEND;TZID=America/New_York:20270831T143000
DTSTAMP:20260424T083424
CREATED:20240102T185554Z
LAST-MODIFIED:20251113T171703Z
UID:10001823-1819715400-1819722600@englewoodchristian.com
SUMMARY:Tuesday Women's Bible Study
DESCRIPTION:
URL:https://englewoodchristian.com/event/tuesday-womens-bible-study/2027-08-31/
CATEGORIES:Adult,Bible Study,Ladies,Women
END:VEVENT
BEGIN:VEVENT
DTSTART;TZID=America/New_York:20270831T183000
DTEND;TZID=America/New_York:20270831T201500
DTSTAMP:20260424T083424
CREATED:20240620T140951Z
LAST-MODIFIED:20251113T172153Z
UID:10004483-1819737000-1819743300@englewoodchristian.com
SUMMARY:Tuesday Night Small Group
DESCRIPTION:This Small Group meets Tuesday nights at 6:30pm and is led by Jim Chandler.
URL:https://englewoodchristian.com/event/tuesday-night-small-group/2027-08-31/
CATEGORIES:Adult,Bible Study
ORGANIZER;CN="Jim Chandler":MAILTO:jchandler@englewoodchristian.com
END:VEVENT
BEGIN:VEVENT
DTSTART;TZID=America/New_York:20270901T180000
DTEND;TZID=America/New_York:20270901T190000
DTSTAMP:20260424T083424
CREATED:20231031T010623Z
LAST-MODIFIED:20251118T205129Z
UID:10001266-1819821600-1819825200@englewoodchristian.com
SUMMARY:Adult Bible Study
DESCRIPTION:
URL:https://englewoodchristian.com/event/adult-bible-study-3/2027-09-01/
LOCATION:Englewood Christian Church\, 9600 Gulfstream Blvd\, Englewood\, FL\, 34224\, United States
CATEGORIES:Adult,Bible Study,Wednesday
END:VEVENT
BEGIN:VEVENT
DTSTART;TZID=America/New_York:20270902T180000
DTEND;TZID=America/New_York:20270902T193000
DTSTAMP:20260424T083424
CREATED:20240620T153654Z
LAST-MODIFIED:20251113T172856Z
UID:10005020-1819908000-1819913400@englewoodchristian.com
SUMMARY:Thursday Night Small Group
DESCRIPTION:This small group meets every Thursday evening at 6:00pm.
URL:https://englewoodchristian.com/event/thursday-night-small-group/2027-09-02/
CATEGORIES:Adult,Bible Study
END:VEVENT
BEGIN:VEVENT
DTSTART;TZID=America/New_York:20270905T093000
DTEND;TZID=America/New_York:20270905T101500
DTSTAMP:20260424T083424
CREATED:20240523T201136Z
LAST-MODIFIED:20240523T201138Z
UID:10004224-1820136600-1820139300@englewoodchristian.com
SUMMARY:Adult Sunday School
DESCRIPTION:
URL:https://englewoodchristian.com/event/adult-sunday-school-2-2-2/2027-09-05/
LOCATION:Englewood Christian Church\, 9600 Gulfstream Blvd\, Englewood\, FL\, 34224\, United States
CATEGORIES:Adult,Sunday,Sunday School
END:VEVENT
BEGIN:VEVENT
DTSTART;TZID=America/New_York:20270905T180000
DTEND;TZID=America/New_York:20270905T190000
DTSTAMP:20260424T083424
CREATED:20240620T151840Z
LAST-MODIFIED:20240620T151840Z
UID:10004770-1820167200-1820170800@englewoodchristian.com
SUMMARY:Sunday Night Small Group
DESCRIPTION:This Small Group meets on Sunday evenings at 6:00pm and is led by Jim Chandler.
URL:https://englewoodchristian.com/event/sunday-night-small-group/2027-09-05/
CATEGORIES:Adult,Bible Study
ORGANIZER;CN="Jim Chandler":MAILTO:jchandler@englewoodchristian.com
END:VEVENT
BEGIN:VEVENT
DTSTART;TZID=America/New_York:20270906T190000
DTEND;TZID=America/New_York:20270906T203000
DTSTAMP:20260424T083424
CREATED:20251113T171841Z
LAST-MODIFIED:20251119T192902Z
UID:10005488-1820257200-1820262600@englewoodchristian.com
SUMMARY:Men’s 4x4
DESCRIPTION:Men’s bible study group at the church Monday nights starting at 7pm.
URL:https://englewoodchristian.com/event/mens-4x4-3-2/2027-09-06/
LOCATION:Englewood Christian Church\, 9600 Gulfstream Blvd\, Englewood\, FL\, 34224\, United States
CATEGORIES:Adult,Mens
ORGANIZER;CN="Jim Chandler":MAILTO:jchandler@englewoodchristian.com
END:VEVENT
BEGIN:VEVENT
DTSTART;TZID=America/New_York:20270907T123000
DTEND;TZID=America/New_York:20270907T143000
DTSTAMP:20260424T083424
CREATED:20240102T185554Z
LAST-MODIFIED:20251113T171703Z
UID:10001824-1820320200-1820327400@englewoodchristian.com
SUMMARY:Tuesday Women's Bible Study
DESCRIPTION:
URL:https://englewoodchristian.com/event/tuesday-womens-bible-study/2027-09-07/
CATEGORIES:Adult,Bible Study,Ladies,Women
END:VEVENT
BEGIN:VEVENT
DTSTART;TZID=America/New_York:20270907T183000
DTEND;TZID=America/New_York:20270907T201500
DTSTAMP:20260424T083424
CREATED:20240620T140951Z
LAST-MODIFIED:20251113T172153Z
UID:10004484-1820341800-1820348100@englewoodchristian.com
SUMMARY:Tuesday Night Small Group
DESCRIPTION:This Small Group meets Tuesday nights at 6:30pm and is led by Jim Chandler.
URL:https://englewoodchristian.com/event/tuesday-night-small-group/2027-09-07/
CATEGORIES:Adult,Bible Study
ORGANIZER;CN="Jim Chandler":MAILTO:jchandler@englewoodchristian.com
END:VEVENT
BEGIN:VEVENT
DTSTART;TZID=America/New_York:20270908T180000
DTEND;TZID=America/New_York:20270908T190000
DTSTAMP:20260424T083424
CREATED:20231031T010623Z
LAST-MODIFIED:20251118T205129Z
UID:10001267-1820426400-1820430000@englewoodchristian.com
SUMMARY:Adult Bible Study
DESCRIPTION:
URL:https://englewoodchristian.com/event/adult-bible-study-3/2027-09-08/
LOCATION:Englewood Christian Church\, 9600 Gulfstream Blvd\, Englewood\, FL\, 34224\, United States
CATEGORIES:Adult,Bible Study,Wednesday
END:VEVENT
BEGIN:VEVENT
DTSTART;TZID=America/New_York:20270909T180000
DTEND;TZID=America/New_York:20270909T193000
DTSTAMP:20260424T083424
CREATED:20240620T153654Z
LAST-MODIFIED:20251113T172856Z
UID:10005021-1820512800-1820518200@englewoodchristian.com
SUMMARY:Thursday Night Small Group
DESCRIPTION:This small group meets every Thursday evening at 6:00pm.
URL:https://englewoodchristian.com/event/thursday-night-small-group/2027-09-09/
CATEGORIES:Adult,Bible Study
END:VEVENT
BEGIN:VEVENT
DTSTART;TZID=America/New_York:20270912T093000
DTEND;TZID=America/New_York:20270912T101500
DTSTAMP:20260424T083424
CREATED:20240523T201136Z
LAST-MODIFIED:20240523T201138Z
UID:10004225-1820741400-1820744100@englewoodchristian.com
SUMMARY:Adult Sunday School
DESCRIPTION:
URL:https://englewoodchristian.com/event/adult-sunday-school-2-2-2/2027-09-12/
LOCATION:Englewood Christian Church\, 9600 Gulfstream Blvd\, Englewood\, FL\, 34224\, United States
CATEGORIES:Adult,Sunday,Sunday School
END:VEVENT
BEGIN:VEVENT
DTSTART;TZID=America/New_York:20270912T180000
DTEND;TZID=America/New_York:20270912T190000
DTSTAMP:20260424T083424
CREATED:20240620T151840Z
LAST-MODIFIED:20240620T151840Z
UID:10004771-1820772000-1820775600@englewoodchristian.com
SUMMARY:Sunday Night Small Group
DESCRIPTION:This Small Group meets on Sunday evenings at 6:00pm and is led by Jim Chandler.
URL:https://englewoodchristian.com/event/sunday-night-small-group/2027-09-12/
CATEGORIES:Adult,Bible Study
ORGANIZER;CN="Jim Chandler":MAILTO:jchandler@englewoodchristian.com
END:VEVENT
BEGIN:VEVENT
DTSTART;TZID=America/New_York:20270913T190000
DTEND;TZID=America/New_York:20270913T203000
DTSTAMP:20260424T083424
CREATED:20251113T171841Z
LAST-MODIFIED:20251119T192902Z
UID:10005489-1820862000-1820867400@englewoodchristian.com
SUMMARY:Men’s 4x4
DESCRIPTION:Men’s bible study group at the church Monday nights starting at 7pm.
URL:https://englewoodchristian.com/event/mens-4x4-3-2/2027-09-13/
LOCATION:Englewood Christian Church\, 9600 Gulfstream Blvd\, Englewood\, FL\, 34224\, United States
CATEGORIES:Adult,Mens
ORGANIZER;CN="Jim Chandler":MAILTO:jchandler@englewoodchristian.com
END:VEVENT
BEGIN:VEVENT
DTSTART;TZID=America/New_York:20270914T123000
DTEND;TZID=America/New_York:20270914T143000
DTSTAMP:20260424T083424
CREATED:20240102T185554Z
LAST-MODIFIED:20251113T171703Z
UID:10001825-1820925000-1820932200@englewoodchristian.com
SUMMARY:Tuesday Women's Bible Study
DESCRIPTION:
URL:https://englewoodchristian.com/event/tuesday-womens-bible-study/2027-09-14/
CATEGORIES:Adult,Bible Study,Ladies,Women
END:VEVENT
BEGIN:VEVENT
DTSTART;TZID=America/New_York:20270914T183000
DTEND;TZID=America/New_York:20270914T201500
DTSTAMP:20260424T083424
CREATED:20240620T140951Z
LAST-MODIFIED:20251113T172153Z
UID:10004485-1820946600-1820952900@englewoodchristian.com
SUMMARY:Tuesday Night Small Group
DESCRIPTION:This Small Group meets Tuesday nights at 6:30pm and is led by Jim Chandler.
URL:https://englewoodchristian.com/event/tuesday-night-small-group/2027-09-14/
CATEGORIES:Adult,Bible Study
ORGANIZER;CN="Jim Chandler":MAILTO:jchandler@englewoodchristian.com
END:VEVENT
BEGIN:VEVENT
DTSTART;TZID=America/New_York:20270915T180000
DTEND;TZID=America/New_York:20270915T190000
DTSTAMP:20260424T083424
CREATED:20231031T010623Z
LAST-MODIFIED:20251118T205129Z
UID:10001268-1821031200-1821034800@englewoodchristian.com
SUMMARY:Adult Bible Study
DESCRIPTION:
URL:https://englewoodchristian.com/event/adult-bible-study-3/2027-09-15/
LOCATION:Englewood Christian Church\, 9600 Gulfstream Blvd\, Englewood\, FL\, 34224\, United States
CATEGORIES:Adult,Bible Study,Wednesday
END:VEVENT
BEGIN:VEVENT
DTSTART;TZID=America/New_York:20270916T180000
DTEND;TZID=America/New_York:20270916T193000
DTSTAMP:20260424T083424
CREATED:20240620T153654Z
LAST-MODIFIED:20251113T172856Z
UID:10005022-1821117600-1821123000@englewoodchristian.com
SUMMARY:Thursday Night Small Group
DESCRIPTION:This small group meets every Thursday evening at 6:00pm.
URL:https://englewoodchristian.com/event/thursday-night-small-group/2027-09-16/
CATEGORIES:Adult,Bible Study
END:VEVENT
BEGIN:VEVENT
DTSTART;TZID=America/New_York:20270919T093000
DTEND;TZID=America/New_York:20270919T101500
DTSTAMP:20260424T083424
CREATED:20240523T201136Z
LAST-MODIFIED:20240523T201138Z
UID:10004226-1821346200-1821348900@englewoodchristian.com
SUMMARY:Adult Sunday School
DESCRIPTION:
URL:https://englewoodchristian.com/event/adult-sunday-school-2-2-2/2027-09-19/
LOCATION:Englewood Christian Church\, 9600 Gulfstream Blvd\, Englewood\, FL\, 34224\, United States
CATEGORIES:Adult,Sunday,Sunday School
END:VEVENT
BEGIN:VEVENT
DTSTART;TZID=America/New_York:20270919T180000
DTEND;TZID=America/New_York:20270919T190000
DTSTAMP:20260424T083424
CREATED:20240620T151840Z
LAST-MODIFIED:20240620T151840Z
UID:10004772-1821376800-1821380400@englewoodchristian.com
SUMMARY:Sunday Night Small Group
DESCRIPTION:This Small Group meets on Sunday evenings at 6:00pm and is led by Jim Chandler.
URL:https://englewoodchristian.com/event/sunday-night-small-group/2027-09-19/
CATEGORIES:Adult,Bible Study
ORGANIZER;CN="Jim Chandler":MAILTO:jchandler@englewoodchristian.com
END:VEVENT
BEGIN:VEVENT
DTSTART;TZID=America/New_York:20270920T190000
DTEND;TZID=America/New_York:20270920T203000
DTSTAMP:20260424T083424
CREATED:20251113T171841Z
LAST-MODIFIED:20251119T192902Z
UID:10005490-1821466800-1821472200@englewoodchristian.com
SUMMARY:Men’s 4x4
DESCRIPTION:Men’s bible study group at the church Monday nights starting at 7pm.
URL:https://englewoodchristian.com/event/mens-4x4-3-2/2027-09-20/
LOCATION:Englewood Christian Church\, 9600 Gulfstream Blvd\, Englewood\, FL\, 34224\, United States
CATEGORIES:Adult,Mens
ORGANIZER;CN="Jim Chandler":MAILTO:jchandler@englewoodchristian.com
END:VEVENT
BEGIN:VEVENT
DTSTART;TZID=America/New_York:20270921T123000
DTEND;TZID=America/New_York:20270921T143000
DTSTAMP:20260424T083424
CREATED:20240102T185554Z
LAST-MODIFIED:20251113T171703Z
UID:10001826-1821529800-1821537000@englewoodchristian.com
SUMMARY:Tuesday Women's Bible Study
DESCRIPTION:
URL:https://englewoodchristian.com/event/tuesday-womens-bible-study/2027-09-21/
CATEGORIES:Adult,Bible Study,Ladies,Women
END:VEVENT
BEGIN:VEVENT
DTSTART;TZID=America/New_York:20270921T183000
DTEND;TZID=America/New_York:20270921T201500
DTSTAMP:20260424T083424
CREATED:20240620T140951Z
LAST-MODIFIED:20251113T172153Z
UID:10004486-1821551400-1821557700@englewoodchristian.com
SUMMARY:Tuesday Night Small Group
DESCRIPTION:This Small Group meets Tuesday nights at 6:30pm and is led by Jim Chandler.
URL:https://englewoodchristian.com/event/tuesday-night-small-group/2027-09-21/
CATEGORIES:Adult,Bible Study
ORGANIZER;CN="Jim Chandler":MAILTO:jchandler@englewoodchristian.com
END:VEVENT
END:VCALENDAR