BEGIN:VCALENDAR
VERSION:2.0
PRODID:-//Englewood Christian Church - ECPv6.15.20//NONSGML v1.0//EN
CALSCALE:GREGORIAN
METHOD:PUBLISH
X-ORIGINAL-URL:https://englewoodchristian.com
X-WR-CALDESC:Events for Englewood Christian Church
REFRESH-INTERVAL;VALUE=DURATION:PT1H
X-Robots-Tag:noindex
X-PUBLISHED-TTL:PT1H
BEGIN:VTIMEZONE
TZID:America/New_York
BEGIN:DAYLIGHT
TZOFFSETFROM:-0500
TZOFFSETTO:-0400
TZNAME:EDT
DTSTART:20230312T070000
END:DAYLIGHT
BEGIN:STANDARD
TZOFFSETFROM:-0400
TZOFFSETTO:-0500
TZNAME:EST
DTSTART:20231105T060000
END:STANDARD
BEGIN:DAYLIGHT
TZOFFSETFROM:-0500
TZOFFSETTO:-0400
TZNAME:EDT
DTSTART:20240310T070000
END:DAYLIGHT
BEGIN:STANDARD
TZOFFSETFROM:-0400
TZOFFSETTO:-0500
TZNAME:EST
DTSTART:20241103T060000
END:STANDARD
BEGIN:DAYLIGHT
TZOFFSETFROM:-0500
TZOFFSETTO:-0400
TZNAME:EDT
DTSTART:20250309T070000
END:DAYLIGHT
BEGIN:STANDARD
TZOFFSETFROM:-0400
TZOFFSETTO:-0500
TZNAME:EST
DTSTART:20251102T060000
END:STANDARD
BEGIN:DAYLIGHT
TZOFFSETFROM:-0500
TZOFFSETTO:-0400
TZNAME:EDT
DTSTART:20260308T070000
END:DAYLIGHT
BEGIN:STANDARD
TZOFFSETFROM:-0400
TZOFFSETTO:-0500
TZNAME:EST
DTSTART:20261101T060000
END:STANDARD
END:VTIMEZONE
BEGIN:VEVENT
DTSTART;TZID=America/New_York:20241224T183000
DTEND;TZID=America/New_York:20241224T201500
DTSTAMP:20260425T111816
CREATED:20240620T140951Z
LAST-MODIFIED:20251113T172153Z
UID:10004343-1735065000-1735071300@englewoodchristian.com
SUMMARY:Tuesday Night Small Group
DESCRIPTION:This Small Group meets Tuesday nights at 6:30pm and is led by Jim Chandler.
URL:https://englewoodchristian.com/event/tuesday-night-small-group/2024-12-24/
LOCATION:FL
CATEGORIES:Adult,Bible Study
ORGANIZER;CN="Jim Chandler":MAILTO:jchandler@englewoodchristian.com
END:VEVENT
BEGIN:VEVENT
DTSTART;TZID=America/New_York:20241225T180000
DTEND;TZID=America/New_York:20241225T190000
DTSTAMP:20260425T111816
CREATED:20231031T010623Z
LAST-MODIFIED:20251118T205129Z
UID:10001126-1735149600-1735153200@englewoodchristian.com
SUMMARY:Adult Bible Study
DESCRIPTION:
URL:https://englewoodchristian.com/event/adult-bible-study-3/2024-12-25/
LOCATION:Englewood Christian Church\, 9600 Gulfstream Blvd\, Englewood\, FL\, 34224\, United States
CATEGORIES:Adult,Bible Study,Wednesday
END:VEVENT
BEGIN:VEVENT
DTSTART;TZID=America/New_York:20241226T180000
DTEND;TZID=America/New_York:20241226T193000
DTSTAMP:20260425T111816
CREATED:20240620T153654Z
LAST-MODIFIED:20251113T172856Z
UID:10004880-1735236000-1735241400@englewoodchristian.com
SUMMARY:Thursday Night Small Group
DESCRIPTION:This small group meets every Thursday evening at 6:00pm.
URL:https://englewoodchristian.com/event/thursday-night-small-group/2024-12-26/
LOCATION:FL
CATEGORIES:Adult,Bible Study
END:VEVENT
BEGIN:VEVENT
DTSTART;TZID=America/New_York:20241229T093000
DTEND;TZID=America/New_York:20241229T101500
DTSTAMP:20260425T111816
CREATED:20240523T201136Z
LAST-MODIFIED:20240523T201138Z
UID:10004084-1735464600-1735467300@englewoodchristian.com
SUMMARY:Adult Sunday School
DESCRIPTION:
URL:https://englewoodchristian.com/event/adult-sunday-school-2-2-2/2024-12-29/
LOCATION:Englewood Christian Church\, 9600 Gulfstream Blvd\, Englewood\, FL\, 34224\, United States
CATEGORIES:Adult,Sunday,Sunday School
END:VEVENT
BEGIN:VEVENT
DTSTART;TZID=America/New_York:20241229T180000
DTEND;TZID=America/New_York:20241229T190000
DTSTAMP:20260425T111816
CREATED:20240620T151840Z
LAST-MODIFIED:20240620T151840Z
UID:10004630-1735495200-1735498800@englewoodchristian.com
SUMMARY:Sunday Night Small Group
DESCRIPTION:This Small Group meets on Sunday evenings at 6:00pm and is led by Jim Chandler.
URL:https://englewoodchristian.com/event/sunday-night-small-group/2024-12-29/
LOCATION:FL
CATEGORIES:Adult,Bible Study
ORGANIZER;CN="Jim Chandler":MAILTO:jchandler@englewoodchristian.com
END:VEVENT
BEGIN:VEVENT
DTSTART;TZID=America/New_York:20241230T190000
DTEND;TZID=America/New_York:20241230T203000
DTSTAMP:20260425T111816
CREATED:20240905T124833Z
LAST-MODIFIED:20251119T192600Z
UID:10005348-1735585200-1735590600@englewoodchristian.com
SUMMARY:Men’s 4x4
DESCRIPTION:Men’s bible study group at the church Monday nights starting at 7pm.
URL:https://englewoodchristian.com/event/mens-4x4-3/2024-12-30/
LOCATION:Englewood Christian Church\, 9600 Gulfstream Blvd\, Englewood\, FL\, 34224\, United States
CATEGORIES:Adult,Mens
ORGANIZER;CN="Jim Chandler":MAILTO:jchandler@englewoodchristian.com
END:VEVENT
BEGIN:VEVENT
DTSTART;TZID=America/New_York:20241231T123000
DTEND;TZID=America/New_York:20241231T143000
DTSTAMP:20260425T111816
CREATED:20240102T185554Z
LAST-MODIFIED:20251113T171703Z
UID:10001684-1735648200-1735655400@englewoodchristian.com
SUMMARY:Tuesday Women's Bible Study
DESCRIPTION:
URL:https://englewoodchristian.com/event/tuesday-womens-bible-study/2024-12-31/
LOCATION:FL
CATEGORIES:Adult,Bible Study,Ladies,Women
END:VEVENT
BEGIN:VEVENT
DTSTART;TZID=America/New_York:20241231T183000
DTEND;TZID=America/New_York:20241231T201500
DTSTAMP:20260425T111816
CREATED:20240620T140951Z
LAST-MODIFIED:20251113T172153Z
UID:10004344-1735669800-1735676100@englewoodchristian.com
SUMMARY:Tuesday Night Small Group
DESCRIPTION:This Small Group meets Tuesday nights at 6:30pm and is led by Jim Chandler.
URL:https://englewoodchristian.com/event/tuesday-night-small-group/2024-12-31/
LOCATION:FL
CATEGORIES:Adult,Bible Study
ORGANIZER;CN="Jim Chandler":MAILTO:jchandler@englewoodchristian.com
END:VEVENT
BEGIN:VEVENT
DTSTART;TZID=America/New_York:20250101T180000
DTEND;TZID=America/New_York:20250101T190000
DTSTAMP:20260425T111816
CREATED:20231031T010623Z
LAST-MODIFIED:20251118T205129Z
UID:10001127-1735754400-1735758000@englewoodchristian.com
SUMMARY:Adult Bible Study
DESCRIPTION:
URL:https://englewoodchristian.com/event/adult-bible-study-3/2025-01-01/
LOCATION:Englewood Christian Church\, 9600 Gulfstream Blvd\, Englewood\, FL\, 34224\, United States
CATEGORIES:Adult,Bible Study,Wednesday
END:VEVENT
BEGIN:VEVENT
DTSTART;TZID=America/New_York:20250102T180000
DTEND;TZID=America/New_York:20250102T193000
DTSTAMP:20260425T111816
CREATED:20240620T153654Z
LAST-MODIFIED:20251113T172856Z
UID:10004881-1735840800-1735846200@englewoodchristian.com
SUMMARY:Thursday Night Small Group
DESCRIPTION:This small group meets every Thursday evening at 6:00pm.
URL:https://englewoodchristian.com/event/thursday-night-small-group/2025-01-02/
LOCATION:FL
CATEGORIES:Adult,Bible Study
END:VEVENT
BEGIN:VEVENT
DTSTART;TZID=America/New_York:20250105T093000
DTEND;TZID=America/New_York:20250105T101500
DTSTAMP:20260425T111816
CREATED:20240523T201136Z
LAST-MODIFIED:20240523T201138Z
UID:10004085-1736069400-1736072100@englewoodchristian.com
SUMMARY:Adult Sunday School
DESCRIPTION:
URL:https://englewoodchristian.com/event/adult-sunday-school-2-2-2/2025-01-05/
LOCATION:Englewood Christian Church\, 9600 Gulfstream Blvd\, Englewood\, FL\, 34224\, United States
CATEGORIES:Adult,Sunday,Sunday School
END:VEVENT
BEGIN:VEVENT
DTSTART;TZID=America/New_York:20250105T180000
DTEND;TZID=America/New_York:20250105T190000
DTSTAMP:20260425T111816
CREATED:20240620T151840Z
LAST-MODIFIED:20240620T151840Z
UID:10004631-1736100000-1736103600@englewoodchristian.com
SUMMARY:Sunday Night Small Group
DESCRIPTION:This Small Group meets on Sunday evenings at 6:00pm and is led by Jim Chandler.
URL:https://englewoodchristian.com/event/sunday-night-small-group/2025-01-05/
LOCATION:FL
CATEGORIES:Adult,Bible Study
ORGANIZER;CN="Jim Chandler":MAILTO:jchandler@englewoodchristian.com
END:VEVENT
BEGIN:VEVENT
DTSTART;TZID=America/New_York:20250106T190000
DTEND;TZID=America/New_York:20250106T203000
DTSTAMP:20260425T111816
CREATED:20240905T124833Z
LAST-MODIFIED:20251119T192600Z
UID:10005349-1736190000-1736195400@englewoodchristian.com
SUMMARY:Men’s 4x4
DESCRIPTION:Men’s bible study group at the church Monday nights starting at 7pm.
URL:https://englewoodchristian.com/event/mens-4x4-3/2025-01-06/
LOCATION:Englewood Christian Church\, 9600 Gulfstream Blvd\, Englewood\, FL\, 34224\, United States
CATEGORIES:Adult,Mens
ORGANIZER;CN="Jim Chandler":MAILTO:jchandler@englewoodchristian.com
END:VEVENT
BEGIN:VEVENT
DTSTART;TZID=America/New_York:20250107T123000
DTEND;TZID=America/New_York:20250107T143000
DTSTAMP:20260425T111816
CREATED:20240102T185554Z
LAST-MODIFIED:20251113T171703Z
UID:10001685-1736253000-1736260200@englewoodchristian.com
SUMMARY:Tuesday Women's Bible Study
DESCRIPTION:
URL:https://englewoodchristian.com/event/tuesday-womens-bible-study/2025-01-07/
LOCATION:FL
CATEGORIES:Adult,Bible Study,Ladies,Women
END:VEVENT
BEGIN:VEVENT
DTSTART;TZID=America/New_York:20250107T183000
DTEND;TZID=America/New_York:20250107T201500
DTSTAMP:20260425T111816
CREATED:20240620T140951Z
LAST-MODIFIED:20251113T172153Z
UID:10004345-1736274600-1736280900@englewoodchristian.com
SUMMARY:Tuesday Night Small Group
DESCRIPTION:This Small Group meets Tuesday nights at 6:30pm and is led by Jim Chandler.
URL:https://englewoodchristian.com/event/tuesday-night-small-group/2025-01-07/
LOCATION:FL
CATEGORIES:Adult,Bible Study
ORGANIZER;CN="Jim Chandler":MAILTO:jchandler@englewoodchristian.com
END:VEVENT
BEGIN:VEVENT
DTSTART;TZID=America/New_York:20250108T180000
DTEND;TZID=America/New_York:20250108T190000
DTSTAMP:20260425T111816
CREATED:20231031T010623Z
LAST-MODIFIED:20251118T205129Z
UID:10001128-1736359200-1736362800@englewoodchristian.com
SUMMARY:Adult Bible Study
DESCRIPTION:
URL:https://englewoodchristian.com/event/adult-bible-study-3/2025-01-08/
LOCATION:Englewood Christian Church\, 9600 Gulfstream Blvd\, Englewood\, FL\, 34224\, United States
CATEGORIES:Adult,Bible Study,Wednesday
END:VEVENT
BEGIN:VEVENT
DTSTART;TZID=America/New_York:20250109T180000
DTEND;TZID=America/New_York:20250109T193000
DTSTAMP:20260425T111816
CREATED:20240620T153654Z
LAST-MODIFIED:20251113T172856Z
UID:10004882-1736445600-1736451000@englewoodchristian.com
SUMMARY:Thursday Night Small Group
DESCRIPTION:This small group meets every Thursday evening at 6:00pm.
URL:https://englewoodchristian.com/event/thursday-night-small-group/2025-01-09/
LOCATION:FL
CATEGORIES:Adult,Bible Study
END:VEVENT
BEGIN:VEVENT
DTSTART;TZID=America/New_York:20250112T093000
DTEND;TZID=America/New_York:20250112T101500
DTSTAMP:20260425T111816
CREATED:20240523T201136Z
LAST-MODIFIED:20240523T201138Z
UID:10004086-1736674200-1736676900@englewoodchristian.com
SUMMARY:Adult Sunday School
DESCRIPTION:
URL:https://englewoodchristian.com/event/adult-sunday-school-2-2-2/2025-01-12/
LOCATION:Englewood Christian Church\, 9600 Gulfstream Blvd\, Englewood\, FL\, 34224\, United States
CATEGORIES:Adult,Sunday,Sunday School
END:VEVENT
BEGIN:VEVENT
DTSTART;TZID=America/New_York:20250112T180000
DTEND;TZID=America/New_York:20250112T190000
DTSTAMP:20260425T111816
CREATED:20240620T151840Z
LAST-MODIFIED:20240620T151840Z
UID:10004632-1736704800-1736708400@englewoodchristian.com
SUMMARY:Sunday Night Small Group
DESCRIPTION:This Small Group meets on Sunday evenings at 6:00pm and is led by Jim Chandler.
URL:https://englewoodchristian.com/event/sunday-night-small-group/2025-01-12/
LOCATION:FL
CATEGORIES:Adult,Bible Study
ORGANIZER;CN="Jim Chandler":MAILTO:jchandler@englewoodchristian.com
END:VEVENT
BEGIN:VEVENT
DTSTART;TZID=America/New_York:20250113T190000
DTEND;TZID=America/New_York:20250113T203000
DTSTAMP:20260425T111816
CREATED:20240905T124833Z
LAST-MODIFIED:20251119T192600Z
UID:10005350-1736794800-1736800200@englewoodchristian.com
SUMMARY:Men’s 4x4
DESCRIPTION:Men’s bible study group at the church Monday nights starting at 7pm.
URL:https://englewoodchristian.com/event/mens-4x4-3/2025-01-13/
LOCATION:Englewood Christian Church\, 9600 Gulfstream Blvd\, Englewood\, FL\, 34224\, United States
CATEGORIES:Adult,Mens
ORGANIZER;CN="Jim Chandler":MAILTO:jchandler@englewoodchristian.com
END:VEVENT
BEGIN:VEVENT
DTSTART;TZID=America/New_York:20250114T123000
DTEND;TZID=America/New_York:20250114T143000
DTSTAMP:20260425T111816
CREATED:20240102T185554Z
LAST-MODIFIED:20251113T171703Z
UID:10001686-1736857800-1736865000@englewoodchristian.com
SUMMARY:Tuesday Women's Bible Study
DESCRIPTION:
URL:https://englewoodchristian.com/event/tuesday-womens-bible-study/2025-01-14/
LOCATION:FL
CATEGORIES:Adult,Bible Study,Ladies,Women
END:VEVENT
BEGIN:VEVENT
DTSTART;TZID=America/New_York:20250114T183000
DTEND;TZID=America/New_York:20250114T201500
DTSTAMP:20260425T111816
CREATED:20240620T140951Z
LAST-MODIFIED:20251113T172153Z
UID:10004346-1736879400-1736885700@englewoodchristian.com
SUMMARY:Tuesday Night Small Group
DESCRIPTION:This Small Group meets Tuesday nights at 6:30pm and is led by Jim Chandler.
URL:https://englewoodchristian.com/event/tuesday-night-small-group/2025-01-14/
LOCATION:FL
CATEGORIES:Adult,Bible Study
ORGANIZER;CN="Jim Chandler":MAILTO:jchandler@englewoodchristian.com
END:VEVENT
BEGIN:VEVENT
DTSTART;TZID=America/New_York:20250115T180000
DTEND;TZID=America/New_York:20250115T190000
DTSTAMP:20260425T111816
CREATED:20231031T010623Z
LAST-MODIFIED:20251118T205129Z
UID:10001129-1736964000-1736967600@englewoodchristian.com
SUMMARY:Adult Bible Study
DESCRIPTION:
URL:https://englewoodchristian.com/event/adult-bible-study-3/2025-01-15/
LOCATION:Englewood Christian Church\, 9600 Gulfstream Blvd\, Englewood\, FL\, 34224\, United States
CATEGORIES:Adult,Bible Study,Wednesday
END:VEVENT
BEGIN:VEVENT
DTSTART;TZID=America/New_York:20250116T180000
DTEND;TZID=America/New_York:20250116T193000
DTSTAMP:20260425T111816
CREATED:20240620T153654Z
LAST-MODIFIED:20251113T172856Z
UID:10004883-1737050400-1737055800@englewoodchristian.com
SUMMARY:Thursday Night Small Group
DESCRIPTION:This small group meets every Thursday evening at 6:00pm.
URL:https://englewoodchristian.com/event/thursday-night-small-group/2025-01-16/
LOCATION:FL
CATEGORIES:Adult,Bible Study
END:VEVENT
BEGIN:VEVENT
DTSTART;TZID=America/New_York:20250119T093000
DTEND;TZID=America/New_York:20250119T101500
DTSTAMP:20260425T111816
CREATED:20240523T201136Z
LAST-MODIFIED:20240523T201138Z
UID:10004087-1737279000-1737281700@englewoodchristian.com
SUMMARY:Adult Sunday School
DESCRIPTION:
URL:https://englewoodchristian.com/event/adult-sunday-school-2-2-2/2025-01-19/
LOCATION:Englewood Christian Church\, 9600 Gulfstream Blvd\, Englewood\, FL\, 34224\, United States
CATEGORIES:Adult,Sunday,Sunday School
END:VEVENT
BEGIN:VEVENT
DTSTART;TZID=America/New_York:20250119T180000
DTEND;TZID=America/New_York:20250119T190000
DTSTAMP:20260425T111816
CREATED:20240620T151840Z
LAST-MODIFIED:20240620T151840Z
UID:10004633-1737309600-1737313200@englewoodchristian.com
SUMMARY:Sunday Night Small Group
DESCRIPTION:This Small Group meets on Sunday evenings at 6:00pm and is led by Jim Chandler.
URL:https://englewoodchristian.com/event/sunday-night-small-group/2025-01-19/
LOCATION:FL
CATEGORIES:Adult,Bible Study
ORGANIZER;CN="Jim Chandler":MAILTO:jchandler@englewoodchristian.com
END:VEVENT
BEGIN:VEVENT
DTSTART;TZID=America/New_York:20250120T190000
DTEND;TZID=America/New_York:20250120T203000
DTSTAMP:20260425T111816
CREATED:20240905T124833Z
LAST-MODIFIED:20251119T192600Z
UID:10005351-1737399600-1737405000@englewoodchristian.com
SUMMARY:Men’s 4x4
DESCRIPTION:Men’s bible study group at the church Monday nights starting at 7pm.
URL:https://englewoodchristian.com/event/mens-4x4-3/2025-01-20/
LOCATION:Englewood Christian Church\, 9600 Gulfstream Blvd\, Englewood\, FL\, 34224\, United States
CATEGORIES:Adult,Mens
ORGANIZER;CN="Jim Chandler":MAILTO:jchandler@englewoodchristian.com
END:VEVENT
BEGIN:VEVENT
DTSTART;TZID=America/New_York:20250121T123000
DTEND;TZID=America/New_York:20250121T143000
DTSTAMP:20260425T111816
CREATED:20240102T185554Z
LAST-MODIFIED:20251113T171703Z
UID:10001687-1737462600-1737469800@englewoodchristian.com
SUMMARY:Tuesday Women's Bible Study
DESCRIPTION:
URL:https://englewoodchristian.com/event/tuesday-womens-bible-study/2025-01-21/
LOCATION:FL
CATEGORIES:Adult,Bible Study,Ladies,Women
END:VEVENT
BEGIN:VEVENT
DTSTART;TZID=America/New_York:20250121T183000
DTEND;TZID=America/New_York:20250121T201500
DTSTAMP:20260425T111816
CREATED:20240620T140951Z
LAST-MODIFIED:20251113T172153Z
UID:10004347-1737484200-1737490500@englewoodchristian.com
SUMMARY:Tuesday Night Small Group
DESCRIPTION:This Small Group meets Tuesday nights at 6:30pm and is led by Jim Chandler.
URL:https://englewoodchristian.com/event/tuesday-night-small-group/2025-01-21/
LOCATION:FL
CATEGORIES:Adult,Bible Study
ORGANIZER;CN="Jim Chandler":MAILTO:jchandler@englewoodchristian.com
END:VEVENT
BEGIN:VEVENT
DTSTART;TZID=America/New_York:20250122T180000
DTEND;TZID=America/New_York:20250122T190000
DTSTAMP:20260425T111816
CREATED:20231031T010623Z
LAST-MODIFIED:20251118T205129Z
UID:10001130-1737568800-1737572400@englewoodchristian.com
SUMMARY:Adult Bible Study
DESCRIPTION:
URL:https://englewoodchristian.com/event/adult-bible-study-3/2025-01-22/
LOCATION:Englewood Christian Church\, 9600 Gulfstream Blvd\, Englewood\, FL\, 34224\, United States
CATEGORIES:Adult,Bible Study,Wednesday
END:VEVENT
END:VCALENDAR