BEGIN:VCALENDAR
VERSION:2.0
PRODID:-//Englewood Christian Church - ECPv6.15.20//NONSGML v1.0//EN
CALSCALE:GREGORIAN
METHOD:PUBLISH
X-WR-CALNAME:Englewood Christian Church
X-ORIGINAL-URL:https://englewoodchristian.com
X-WR-CALDESC:Events for Englewood Christian Church
REFRESH-INTERVAL;VALUE=DURATION:PT1H
X-Robots-Tag:noindex
X-PUBLISHED-TTL:PT1H
BEGIN:VTIMEZONE
TZID:America/New_York
BEGIN:DAYLIGHT
TZOFFSETFROM:-0500
TZOFFSETTO:-0400
TZNAME:EDT
DTSTART:20250309T070000
END:DAYLIGHT
BEGIN:STANDARD
TZOFFSETFROM:-0400
TZOFFSETTO:-0500
TZNAME:EST
DTSTART:20251102T060000
END:STANDARD
BEGIN:DAYLIGHT
TZOFFSETFROM:-0500
TZOFFSETTO:-0400
TZNAME:EDT
DTSTART:20260308T070000
END:DAYLIGHT
BEGIN:STANDARD
TZOFFSETFROM:-0400
TZOFFSETTO:-0500
TZNAME:EST
DTSTART:20261101T060000
END:STANDARD
BEGIN:DAYLIGHT
TZOFFSETFROM:-0500
TZOFFSETTO:-0400
TZNAME:EDT
DTSTART:20270314T070000
END:DAYLIGHT
BEGIN:STANDARD
TZOFFSETFROM:-0400
TZOFFSETTO:-0500
TZNAME:EST
DTSTART:20271107T060000
END:STANDARD
END:VTIMEZONE
BEGIN:VEVENT
DTSTART;TZID=America/New_York:20260118T093000
DTEND;TZID=America/New_York:20260118T101500
DTSTAMP:20260425T000911
CREATED:20240523T201136Z
LAST-MODIFIED:20240523T201138Z
UID:10004139-1768728600-1768731300@englewoodchristian.com
SUMMARY:Adult Sunday School
DESCRIPTION:
URL:https://englewoodchristian.com/event/adult-sunday-school-2-2-2/2026-01-18/
LOCATION:Englewood Christian Church\, 9600 Gulfstream Blvd\, Englewood\, FL\, 34224\, United States
CATEGORIES:Adult,Sunday,Sunday School
END:VEVENT
BEGIN:VEVENT
DTSTART;TZID=America/New_York:20260118T180000
DTEND;TZID=America/New_York:20260118T190000
DTSTAMP:20260425T000911
CREATED:20240620T151840Z
LAST-MODIFIED:20240620T151840Z
UID:10004685-1768759200-1768762800@englewoodchristian.com
SUMMARY:Sunday Night Small Group
DESCRIPTION:This Small Group meets on Sunday evenings at 6:00pm and is led by Jim Chandler.
URL:https://englewoodchristian.com/event/sunday-night-small-group/2026-01-18/
LOCATION:FL
CATEGORIES:Adult,Bible Study
ORGANIZER;CN="Jim Chandler":MAILTO:jchandler@englewoodchristian.com
END:VEVENT
BEGIN:VEVENT
DTSTART;TZID=America/New_York:20260119T190000
DTEND;TZID=America/New_York:20260119T203000
DTSTAMP:20260425T000911
CREATED:20251113T171841Z
LAST-MODIFIED:20251119T192902Z
UID:10005403-1768849200-1768854600@englewoodchristian.com
SUMMARY:Men’s 4x4
DESCRIPTION:Men’s bible study group at the church Monday nights starting at 7pm.
URL:https://englewoodchristian.com/event/mens-4x4-3-2/2026-01-19/
LOCATION:Englewood Christian Church\, 9600 Gulfstream Blvd\, Englewood\, FL\, 34224\, United States
CATEGORIES:Adult,Mens
ORGANIZER;CN="Jim Chandler":MAILTO:jchandler@englewoodchristian.com
END:VEVENT
BEGIN:VEVENT
DTSTART;TZID=America/New_York:20260120T123000
DTEND;TZID=America/New_York:20260120T143000
DTSTAMP:20260425T000911
CREATED:20240102T185554Z
LAST-MODIFIED:20251113T171703Z
UID:10001739-1768912200-1768919400@englewoodchristian.com
SUMMARY:Tuesday Women's Bible Study
DESCRIPTION:
URL:https://englewoodchristian.com/event/tuesday-womens-bible-study/2026-01-20/
LOCATION:FL
CATEGORIES:Adult,Bible Study,Ladies,Women
END:VEVENT
BEGIN:VEVENT
DTSTART;TZID=America/New_York:20260120T183000
DTEND;TZID=America/New_York:20260120T201500
DTSTAMP:20260425T000911
CREATED:20240620T140951Z
LAST-MODIFIED:20251113T172153Z
UID:10004399-1768933800-1768940100@englewoodchristian.com
SUMMARY:Tuesday Night Small Group
DESCRIPTION:This Small Group meets Tuesday nights at 6:30pm and is led by Jim Chandler.
URL:https://englewoodchristian.com/event/tuesday-night-small-group/2026-01-20/
LOCATION:FL
CATEGORIES:Adult,Bible Study
ORGANIZER;CN="Jim Chandler":MAILTO:jchandler@englewoodchristian.com
END:VEVENT
BEGIN:VEVENT
DTSTART;TZID=America/New_York:20260121T180000
DTEND;TZID=America/New_York:20260121T190000
DTSTAMP:20260425T000911
CREATED:20231031T010623Z
LAST-MODIFIED:20251118T205129Z
UID:10001182-1769018400-1769022000@englewoodchristian.com
SUMMARY:Adult Bible Study
DESCRIPTION:
URL:https://englewoodchristian.com/event/adult-bible-study-3/2026-01-21/
LOCATION:Englewood Christian Church\, 9600 Gulfstream Blvd\, Englewood\, FL\, 34224\, United States
CATEGORIES:Adult,Bible Study,Wednesday
END:VEVENT
BEGIN:VEVENT
DTSTART;TZID=America/New_York:20260122T180000
DTEND;TZID=America/New_York:20260122T193000
DTSTAMP:20260425T000911
CREATED:20240620T153654Z
LAST-MODIFIED:20251113T172856Z
UID:10004936-1769104800-1769110200@englewoodchristian.com
SUMMARY:Thursday Night Small Group
DESCRIPTION:This small group meets every Thursday evening at 6:00pm.
URL:https://englewoodchristian.com/event/thursday-night-small-group/2026-01-22/
LOCATION:FL
CATEGORIES:Adult,Bible Study
END:VEVENT
BEGIN:VEVENT
DTSTART;TZID=America/New_York:20260125T093000
DTEND;TZID=America/New_York:20260125T101500
DTSTAMP:20260425T000911
CREATED:20240523T201136Z
LAST-MODIFIED:20240523T201138Z
UID:10004140-1769333400-1769336100@englewoodchristian.com
SUMMARY:Adult Sunday School
DESCRIPTION:
URL:https://englewoodchristian.com/event/adult-sunday-school-2-2-2/2026-01-25/
LOCATION:Englewood Christian Church\, 9600 Gulfstream Blvd\, Englewood\, FL\, 34224\, United States
CATEGORIES:Adult,Sunday,Sunday School
END:VEVENT
BEGIN:VEVENT
DTSTART;TZID=America/New_York:20260125T180000
DTEND;TZID=America/New_York:20260125T190000
DTSTAMP:20260425T000911
CREATED:20240620T151840Z
LAST-MODIFIED:20240620T151840Z
UID:10004686-1769364000-1769367600@englewoodchristian.com
SUMMARY:Sunday Night Small Group
DESCRIPTION:This Small Group meets on Sunday evenings at 6:00pm and is led by Jim Chandler.
URL:https://englewoodchristian.com/event/sunday-night-small-group/2026-01-25/
LOCATION:FL
CATEGORIES:Adult,Bible Study
ORGANIZER;CN="Jim Chandler":MAILTO:jchandler@englewoodchristian.com
END:VEVENT
BEGIN:VEVENT
DTSTART;TZID=America/New_York:20260126T190000
DTEND;TZID=America/New_York:20260126T203000
DTSTAMP:20260425T000911
CREATED:20251113T171841Z
LAST-MODIFIED:20251119T192902Z
UID:10005404-1769454000-1769459400@englewoodchristian.com
SUMMARY:Men’s 4x4
DESCRIPTION:Men’s bible study group at the church Monday nights starting at 7pm.
URL:https://englewoodchristian.com/event/mens-4x4-3-2/2026-01-26/
LOCATION:Englewood Christian Church\, 9600 Gulfstream Blvd\, Englewood\, FL\, 34224\, United States
CATEGORIES:Adult,Mens
ORGANIZER;CN="Jim Chandler":MAILTO:jchandler@englewoodchristian.com
END:VEVENT
BEGIN:VEVENT
DTSTART;TZID=America/New_York:20260127T123000
DTEND;TZID=America/New_York:20260127T143000
DTSTAMP:20260425T000911
CREATED:20240102T185554Z
LAST-MODIFIED:20251113T171703Z
UID:10001740-1769517000-1769524200@englewoodchristian.com
SUMMARY:Tuesday Women's Bible Study
DESCRIPTION:
URL:https://englewoodchristian.com/event/tuesday-womens-bible-study/2026-01-27/
LOCATION:FL
CATEGORIES:Adult,Bible Study,Ladies,Women
END:VEVENT
BEGIN:VEVENT
DTSTART;TZID=America/New_York:20260127T183000
DTEND;TZID=America/New_York:20260127T201500
DTSTAMP:20260425T000911
CREATED:20240620T140951Z
LAST-MODIFIED:20251113T172153Z
UID:10004400-1769538600-1769544900@englewoodchristian.com
SUMMARY:Tuesday Night Small Group
DESCRIPTION:This Small Group meets Tuesday nights at 6:30pm and is led by Jim Chandler.
URL:https://englewoodchristian.com/event/tuesday-night-small-group/2026-01-27/
LOCATION:FL
CATEGORIES:Adult,Bible Study
ORGANIZER;CN="Jim Chandler":MAILTO:jchandler@englewoodchristian.com
END:VEVENT
BEGIN:VEVENT
DTSTART;TZID=America/New_York:20260128T180000
DTEND;TZID=America/New_York:20260128T190000
DTSTAMP:20260425T000911
CREATED:20231031T010623Z
LAST-MODIFIED:20251118T205129Z
UID:10001183-1769623200-1769626800@englewoodchristian.com
SUMMARY:Adult Bible Study
DESCRIPTION:
URL:https://englewoodchristian.com/event/adult-bible-study-3/2026-01-28/
LOCATION:Englewood Christian Church\, 9600 Gulfstream Blvd\, Englewood\, FL\, 34224\, United States
CATEGORIES:Adult,Bible Study,Wednesday
END:VEVENT
BEGIN:VEVENT
DTSTART;TZID=America/New_York:20260129T180000
DTEND;TZID=America/New_York:20260129T193000
DTSTAMP:20260425T000911
CREATED:20240620T153654Z
LAST-MODIFIED:20251113T172856Z
UID:10004937-1769709600-1769715000@englewoodchristian.com
SUMMARY:Thursday Night Small Group
DESCRIPTION:This small group meets every Thursday evening at 6:00pm.
URL:https://englewoodchristian.com/event/thursday-night-small-group/2026-01-29/
LOCATION:FL
CATEGORIES:Adult,Bible Study
END:VEVENT
BEGIN:VEVENT
DTSTART;TZID=America/New_York:20260201T093000
DTEND;TZID=America/New_York:20260201T101500
DTSTAMP:20260425T000911
CREATED:20240523T201136Z
LAST-MODIFIED:20240523T201138Z
UID:10004141-1769938200-1769940900@englewoodchristian.com
SUMMARY:Adult Sunday School
DESCRIPTION:
URL:https://englewoodchristian.com/event/adult-sunday-school-2-2-2/2026-02-01/
LOCATION:Englewood Christian Church\, 9600 Gulfstream Blvd\, Englewood\, FL\, 34224\, United States
CATEGORIES:Adult,Sunday,Sunday School
END:VEVENT
BEGIN:VEVENT
DTSTART;TZID=America/New_York:20260201T180000
DTEND;TZID=America/New_York:20260201T190000
DTSTAMP:20260425T000911
CREATED:20240620T151840Z
LAST-MODIFIED:20240620T151840Z
UID:10004687-1769968800-1769972400@englewoodchristian.com
SUMMARY:Sunday Night Small Group
DESCRIPTION:This Small Group meets on Sunday evenings at 6:00pm and is led by Jim Chandler.
URL:https://englewoodchristian.com/event/sunday-night-small-group/2026-02-01/
LOCATION:FL
CATEGORIES:Adult,Bible Study
ORGANIZER;CN="Jim Chandler":MAILTO:jchandler@englewoodchristian.com
END:VEVENT
BEGIN:VEVENT
DTSTART;TZID=America/New_York:20260202T190000
DTEND;TZID=America/New_York:20260202T203000
DTSTAMP:20260425T000911
CREATED:20251113T171841Z
LAST-MODIFIED:20251119T192902Z
UID:10005405-1770058800-1770064200@englewoodchristian.com
SUMMARY:Men’s 4x4
DESCRIPTION:Men’s bible study group at the church Monday nights starting at 7pm.
URL:https://englewoodchristian.com/event/mens-4x4-3-2/2026-02-02/
LOCATION:Englewood Christian Church\, 9600 Gulfstream Blvd\, Englewood\, FL\, 34224\, United States
CATEGORIES:Adult,Mens
ORGANIZER;CN="Jim Chandler":MAILTO:jchandler@englewoodchristian.com
END:VEVENT
BEGIN:VEVENT
DTSTART;TZID=America/New_York:20260203T123000
DTEND;TZID=America/New_York:20260203T143000
DTSTAMP:20260425T000911
CREATED:20240102T185554Z
LAST-MODIFIED:20251113T171703Z
UID:10001741-1770121800-1770129000@englewoodchristian.com
SUMMARY:Tuesday Women's Bible Study
DESCRIPTION:
URL:https://englewoodchristian.com/event/tuesday-womens-bible-study/2026-02-03/
LOCATION:FL
CATEGORIES:Adult,Bible Study,Ladies,Women
END:VEVENT
BEGIN:VEVENT
DTSTART;TZID=America/New_York:20260203T183000
DTEND;TZID=America/New_York:20260203T201500
DTSTAMP:20260425T000911
CREATED:20240620T140951Z
LAST-MODIFIED:20251113T172153Z
UID:10004401-1770143400-1770149700@englewoodchristian.com
SUMMARY:Tuesday Night Small Group
DESCRIPTION:This Small Group meets Tuesday nights at 6:30pm and is led by Jim Chandler.
URL:https://englewoodchristian.com/event/tuesday-night-small-group/2026-02-03/
LOCATION:FL
CATEGORIES:Adult,Bible Study
ORGANIZER;CN="Jim Chandler":MAILTO:jchandler@englewoodchristian.com
END:VEVENT
BEGIN:VEVENT
DTSTART;TZID=America/New_York:20260204T180000
DTEND;TZID=America/New_York:20260204T190000
DTSTAMP:20260425T000911
CREATED:20231031T010623Z
LAST-MODIFIED:20251118T205129Z
UID:10001184-1770228000-1770231600@englewoodchristian.com
SUMMARY:Adult Bible Study
DESCRIPTION:
URL:https://englewoodchristian.com/event/adult-bible-study-3/2026-02-04/
LOCATION:Englewood Christian Church\, 9600 Gulfstream Blvd\, Englewood\, FL\, 34224\, United States
CATEGORIES:Adult,Bible Study,Wednesday
END:VEVENT
BEGIN:VEVENT
DTSTART;TZID=America/New_York:20260205T180000
DTEND;TZID=America/New_York:20260205T193000
DTSTAMP:20260425T000911
CREATED:20240620T153654Z
LAST-MODIFIED:20251113T172856Z
UID:10004938-1770314400-1770319800@englewoodchristian.com
SUMMARY:Thursday Night Small Group
DESCRIPTION:This small group meets every Thursday evening at 6:00pm.
URL:https://englewoodchristian.com/event/thursday-night-small-group/2026-02-05/
LOCATION:FL
CATEGORIES:Adult,Bible Study
END:VEVENT
BEGIN:VEVENT
DTSTART;TZID=America/New_York:20260208T093000
DTEND;TZID=America/New_York:20260208T101500
DTSTAMP:20260425T000911
CREATED:20240523T201136Z
LAST-MODIFIED:20240523T201138Z
UID:10004142-1770543000-1770545700@englewoodchristian.com
SUMMARY:Adult Sunday School
DESCRIPTION:
URL:https://englewoodchristian.com/event/adult-sunday-school-2-2-2/2026-02-08/
LOCATION:Englewood Christian Church\, 9600 Gulfstream Blvd\, Englewood\, FL\, 34224\, United States
CATEGORIES:Adult,Sunday,Sunday School
END:VEVENT
BEGIN:VEVENT
DTSTART;TZID=America/New_York:20260208T180000
DTEND;TZID=America/New_York:20260208T190000
DTSTAMP:20260425T000911
CREATED:20240620T151840Z
LAST-MODIFIED:20240620T151840Z
UID:10004688-1770573600-1770577200@englewoodchristian.com
SUMMARY:Sunday Night Small Group
DESCRIPTION:This Small Group meets on Sunday evenings at 6:00pm and is led by Jim Chandler.
URL:https://englewoodchristian.com/event/sunday-night-small-group/2026-02-08/
LOCATION:FL
CATEGORIES:Adult,Bible Study
ORGANIZER;CN="Jim Chandler":MAILTO:jchandler@englewoodchristian.com
END:VEVENT
BEGIN:VEVENT
DTSTART;TZID=America/New_York:20260209T190000
DTEND;TZID=America/New_York:20260209T203000
DTSTAMP:20260425T000911
CREATED:20251113T171841Z
LAST-MODIFIED:20251119T192902Z
UID:10005406-1770663600-1770669000@englewoodchristian.com
SUMMARY:Men’s 4x4
DESCRIPTION:Men’s bible study group at the church Monday nights starting at 7pm.
URL:https://englewoodchristian.com/event/mens-4x4-3-2/2026-02-09/
LOCATION:Englewood Christian Church\, 9600 Gulfstream Blvd\, Englewood\, FL\, 34224\, United States
CATEGORIES:Adult,Mens
ORGANIZER;CN="Jim Chandler":MAILTO:jchandler@englewoodchristian.com
END:VEVENT
BEGIN:VEVENT
DTSTART;TZID=America/New_York:20260210T123000
DTEND;TZID=America/New_York:20260210T143000
DTSTAMP:20260425T000911
CREATED:20240102T185554Z
LAST-MODIFIED:20251113T171703Z
UID:10001742-1770726600-1770733800@englewoodchristian.com
SUMMARY:Tuesday Women's Bible Study
DESCRIPTION:
URL:https://englewoodchristian.com/event/tuesday-womens-bible-study/2026-02-10/
LOCATION:FL
CATEGORIES:Adult,Bible Study,Ladies,Women
END:VEVENT
BEGIN:VEVENT
DTSTART;TZID=America/New_York:20260210T183000
DTEND;TZID=America/New_York:20260210T201500
DTSTAMP:20260425T000911
CREATED:20240620T140951Z
LAST-MODIFIED:20251113T172153Z
UID:10004402-1770748200-1770754500@englewoodchristian.com
SUMMARY:Tuesday Night Small Group
DESCRIPTION:This Small Group meets Tuesday nights at 6:30pm and is led by Jim Chandler.
URL:https://englewoodchristian.com/event/tuesday-night-small-group/2026-02-10/
LOCATION:FL
CATEGORIES:Adult,Bible Study
ORGANIZER;CN="Jim Chandler":MAILTO:jchandler@englewoodchristian.com
END:VEVENT
BEGIN:VEVENT
DTSTART;TZID=America/New_York:20260211T180000
DTEND;TZID=America/New_York:20260211T190000
DTSTAMP:20260425T000911
CREATED:20231031T010623Z
LAST-MODIFIED:20251118T205129Z
UID:10001185-1770832800-1770836400@englewoodchristian.com
SUMMARY:Adult Bible Study
DESCRIPTION:
URL:https://englewoodchristian.com/event/adult-bible-study-3/2026-02-11/
LOCATION:Englewood Christian Church\, 9600 Gulfstream Blvd\, Englewood\, FL\, 34224\, United States
CATEGORIES:Adult,Bible Study,Wednesday
END:VEVENT
BEGIN:VEVENT
DTSTART;TZID=America/New_York:20260212T180000
DTEND;TZID=America/New_York:20260212T193000
DTSTAMP:20260425T000911
CREATED:20240620T153654Z
LAST-MODIFIED:20251113T172856Z
UID:10004939-1770919200-1770924600@englewoodchristian.com
SUMMARY:Thursday Night Small Group
DESCRIPTION:This small group meets every Thursday evening at 6:00pm.
URL:https://englewoodchristian.com/event/thursday-night-small-group/2026-02-12/
LOCATION:FL
CATEGORIES:Adult,Bible Study
END:VEVENT
BEGIN:VEVENT
DTSTART;TZID=America/New_York:20260215T093000
DTEND;TZID=America/New_York:20260215T101500
DTSTAMP:20260425T000911
CREATED:20240523T201136Z
LAST-MODIFIED:20240523T201138Z
UID:10004143-1771147800-1771150500@englewoodchristian.com
SUMMARY:Adult Sunday School
DESCRIPTION:
URL:https://englewoodchristian.com/event/adult-sunday-school-2-2-2/2026-02-15/
LOCATION:Englewood Christian Church\, 9600 Gulfstream Blvd\, Englewood\, FL\, 34224\, United States
CATEGORIES:Adult,Sunday,Sunday School
END:VEVENT
BEGIN:VEVENT
DTSTART;TZID=America/New_York:20260215T180000
DTEND;TZID=America/New_York:20260215T190000
DTSTAMP:20260425T000911
CREATED:20240620T151840Z
LAST-MODIFIED:20240620T151840Z
UID:10004689-1771178400-1771182000@englewoodchristian.com
SUMMARY:Sunday Night Small Group
DESCRIPTION:This Small Group meets on Sunday evenings at 6:00pm and is led by Jim Chandler.
URL:https://englewoodchristian.com/event/sunday-night-small-group/2026-02-15/
LOCATION:FL
CATEGORIES:Adult,Bible Study
ORGANIZER;CN="Jim Chandler":MAILTO:jchandler@englewoodchristian.com
END:VEVENT
END:VCALENDAR