BEGIN:VCALENDAR
VERSION:2.0
PRODID:-//Englewood Christian Church - ECPv6.15.20//NONSGML v1.0//EN
CALSCALE:GREGORIAN
METHOD:PUBLISH
X-WR-CALNAME:Englewood Christian Church
X-ORIGINAL-URL:https://englewoodchristian.com
X-WR-CALDESC:Events for Englewood Christian Church
REFRESH-INTERVAL;VALUE=DURATION:PT1H
X-Robots-Tag:noindex
X-PUBLISHED-TTL:PT1H
BEGIN:VTIMEZONE
TZID:America/New_York
BEGIN:DAYLIGHT
TZOFFSETFROM:-0500
TZOFFSETTO:-0400
TZNAME:EDT
DTSTART:20240310T070000
END:DAYLIGHT
BEGIN:STANDARD
TZOFFSETFROM:-0400
TZOFFSETTO:-0500
TZNAME:EST
DTSTART:20241103T060000
END:STANDARD
BEGIN:DAYLIGHT
TZOFFSETFROM:-0500
TZOFFSETTO:-0400
TZNAME:EDT
DTSTART:20250309T070000
END:DAYLIGHT
BEGIN:STANDARD
TZOFFSETFROM:-0400
TZOFFSETTO:-0500
TZNAME:EST
DTSTART:20251102T060000
END:STANDARD
BEGIN:DAYLIGHT
TZOFFSETFROM:-0500
TZOFFSETTO:-0400
TZNAME:EDT
DTSTART:20260308T070000
END:DAYLIGHT
BEGIN:STANDARD
TZOFFSETFROM:-0400
TZOFFSETTO:-0500
TZNAME:EST
DTSTART:20261101T060000
END:STANDARD
END:VTIMEZONE
BEGIN:VEVENT
DTSTART;TZID=America/New_York:20250422T123000
DTEND;TZID=America/New_York:20250422T143000
DTSTAMP:20260425T074050
CREATED:20240102T185554Z
LAST-MODIFIED:20251113T171703Z
UID:10001700-1745325000-1745332200@englewoodchristian.com
SUMMARY:Tuesday Women's Bible Study
DESCRIPTION:
URL:https://englewoodchristian.com/event/tuesday-womens-bible-study/2025-04-22/
LOCATION:FL
CATEGORIES:Adult,Bible Study,Ladies,Women
END:VEVENT
BEGIN:VEVENT
DTSTART;TZID=America/New_York:20250422T183000
DTEND;TZID=America/New_York:20250422T201500
DTSTAMP:20260425T074050
CREATED:20240620T140951Z
LAST-MODIFIED:20251113T172153Z
UID:10004360-1745346600-1745352900@englewoodchristian.com
SUMMARY:Tuesday Night Small Group
DESCRIPTION:This Small Group meets Tuesday nights at 6:30pm and is led by Jim Chandler.
URL:https://englewoodchristian.com/event/tuesday-night-small-group/2025-04-22/
LOCATION:FL
CATEGORIES:Adult,Bible Study
ORGANIZER;CN="Jim Chandler":MAILTO:jchandler@englewoodchristian.com
END:VEVENT
BEGIN:VEVENT
DTSTART;TZID=America/New_York:20250423T180000
DTEND;TZID=America/New_York:20250423T190000
DTSTAMP:20260425T074050
CREATED:20231031T010623Z
LAST-MODIFIED:20251118T205129Z
UID:10001143-1745431200-1745434800@englewoodchristian.com
SUMMARY:Adult Bible Study
DESCRIPTION:
URL:https://englewoodchristian.com/event/adult-bible-study-3/2025-04-23/
LOCATION:Englewood Christian Church\, 9600 Gulfstream Blvd\, Englewood\, FL\, 34224\, United States
CATEGORIES:Adult,Bible Study,Wednesday
END:VEVENT
BEGIN:VEVENT
DTSTART;TZID=America/New_York:20250424T180000
DTEND;TZID=America/New_York:20250424T193000
DTSTAMP:20260425T074050
CREATED:20240620T153654Z
LAST-MODIFIED:20251113T172856Z
UID:10004897-1745517600-1745523000@englewoodchristian.com
SUMMARY:Thursday Night Small Group
DESCRIPTION:This small group meets every Thursday evening at 6:00pm.
URL:https://englewoodchristian.com/event/thursday-night-small-group/2025-04-24/
LOCATION:FL
CATEGORIES:Adult,Bible Study
END:VEVENT
BEGIN:VEVENT
DTSTART;TZID=America/New_York:20250427T093000
DTEND;TZID=America/New_York:20250427T101500
DTSTAMP:20260425T074050
CREATED:20240523T201136Z
LAST-MODIFIED:20240523T201138Z
UID:10004101-1745746200-1745748900@englewoodchristian.com
SUMMARY:Adult Sunday School
DESCRIPTION:
URL:https://englewoodchristian.com/event/adult-sunday-school-2-2-2/2025-04-27/
LOCATION:Englewood Christian Church\, 9600 Gulfstream Blvd\, Englewood\, FL\, 34224\, United States
CATEGORIES:Adult,Sunday,Sunday School
END:VEVENT
BEGIN:VEVENT
DTSTART;TZID=America/New_York:20250427T180000
DTEND;TZID=America/New_York:20250427T190000
DTSTAMP:20260425T074050
CREATED:20240620T151840Z
LAST-MODIFIED:20240620T151840Z
UID:10004647-1745776800-1745780400@englewoodchristian.com
SUMMARY:Sunday Night Small Group
DESCRIPTION:This Small Group meets on Sunday evenings at 6:00pm and is led by Jim Chandler.
URL:https://englewoodchristian.com/event/sunday-night-small-group/2025-04-27/
LOCATION:FL
CATEGORIES:Adult,Bible Study
ORGANIZER;CN="Jim Chandler":MAILTO:jchandler@englewoodchristian.com
END:VEVENT
BEGIN:VEVENT
DTSTART;TZID=America/New_York:20250428T190000
DTEND;TZID=America/New_York:20250428T203000
DTSTAMP:20260425T074050
CREATED:20240905T124833Z
LAST-MODIFIED:20251119T192600Z
UID:10005365-1745866800-1745872200@englewoodchristian.com
SUMMARY:Men’s 4x4
DESCRIPTION:Men’s bible study group at the church Monday nights starting at 7pm.
URL:https://englewoodchristian.com/event/mens-4x4-3/2025-04-28/
LOCATION:Englewood Christian Church\, 9600 Gulfstream Blvd\, Englewood\, FL\, 34224\, United States
CATEGORIES:Adult,Mens
ORGANIZER;CN="Jim Chandler":MAILTO:jchandler@englewoodchristian.com
END:VEVENT
BEGIN:VEVENT
DTSTART;TZID=America/New_York:20250429T123000
DTEND;TZID=America/New_York:20250429T143000
DTSTAMP:20260425T074050
CREATED:20240102T185554Z
LAST-MODIFIED:20251113T171703Z
UID:10001701-1745929800-1745937000@englewoodchristian.com
SUMMARY:Tuesday Women's Bible Study
DESCRIPTION:
URL:https://englewoodchristian.com/event/tuesday-womens-bible-study/2025-04-29/
LOCATION:FL
CATEGORIES:Adult,Bible Study,Ladies,Women
END:VEVENT
BEGIN:VEVENT
DTSTART;TZID=America/New_York:20250429T183000
DTEND;TZID=America/New_York:20250429T201500
DTSTAMP:20260425T074050
CREATED:20240620T140951Z
LAST-MODIFIED:20251113T172153Z
UID:10004361-1745951400-1745957700@englewoodchristian.com
SUMMARY:Tuesday Night Small Group
DESCRIPTION:This Small Group meets Tuesday nights at 6:30pm and is led by Jim Chandler.
URL:https://englewoodchristian.com/event/tuesday-night-small-group/2025-04-29/
LOCATION:FL
CATEGORIES:Adult,Bible Study
ORGANIZER;CN="Jim Chandler":MAILTO:jchandler@englewoodchristian.com
END:VEVENT
BEGIN:VEVENT
DTSTART;TZID=America/New_York:20250430T180000
DTEND;TZID=America/New_York:20250430T190000
DTSTAMP:20260425T074050
CREATED:20231031T010623Z
LAST-MODIFIED:20251118T205129Z
UID:10001144-1746036000-1746039600@englewoodchristian.com
SUMMARY:Adult Bible Study
DESCRIPTION:
URL:https://englewoodchristian.com/event/adult-bible-study-3/2025-04-30/
LOCATION:Englewood Christian Church\, 9600 Gulfstream Blvd\, Englewood\, FL\, 34224\, United States
CATEGORIES:Adult,Bible Study,Wednesday
END:VEVENT
BEGIN:VEVENT
DTSTART;TZID=America/New_York:20250501T180000
DTEND;TZID=America/New_York:20250501T193000
DTSTAMP:20260425T074050
CREATED:20240620T153654Z
LAST-MODIFIED:20251113T172856Z
UID:10004898-1746122400-1746127800@englewoodchristian.com
SUMMARY:Thursday Night Small Group
DESCRIPTION:This small group meets every Thursday evening at 6:00pm.
URL:https://englewoodchristian.com/event/thursday-night-small-group/2025-05-01/
LOCATION:FL
CATEGORIES:Adult,Bible Study
END:VEVENT
BEGIN:VEVENT
DTSTART;TZID=America/New_York:20250504T093000
DTEND;TZID=America/New_York:20250504T101500
DTSTAMP:20260425T074050
CREATED:20240523T201136Z
LAST-MODIFIED:20240523T201138Z
UID:10004102-1746351000-1746353700@englewoodchristian.com
SUMMARY:Adult Sunday School
DESCRIPTION:
URL:https://englewoodchristian.com/event/adult-sunday-school-2-2-2/2025-05-04/
LOCATION:Englewood Christian Church\, 9600 Gulfstream Blvd\, Englewood\, FL\, 34224\, United States
CATEGORIES:Adult,Sunday,Sunday School
END:VEVENT
BEGIN:VEVENT
DTSTART;TZID=America/New_York:20250504T180000
DTEND;TZID=America/New_York:20250504T190000
DTSTAMP:20260425T074050
CREATED:20240620T151840Z
LAST-MODIFIED:20240620T151840Z
UID:10004648-1746381600-1746385200@englewoodchristian.com
SUMMARY:Sunday Night Small Group
DESCRIPTION:This Small Group meets on Sunday evenings at 6:00pm and is led by Jim Chandler.
URL:https://englewoodchristian.com/event/sunday-night-small-group/2025-05-04/
LOCATION:FL
CATEGORIES:Adult,Bible Study
ORGANIZER;CN="Jim Chandler":MAILTO:jchandler@englewoodchristian.com
END:VEVENT
BEGIN:VEVENT
DTSTART;TZID=America/New_York:20250505T190000
DTEND;TZID=America/New_York:20250505T203000
DTSTAMP:20260425T074050
CREATED:20240905T124833Z
LAST-MODIFIED:20251119T192600Z
UID:10005366-1746471600-1746477000@englewoodchristian.com
SUMMARY:Men’s 4x4
DESCRIPTION:Men’s bible study group at the church Monday nights starting at 7pm.
URL:https://englewoodchristian.com/event/mens-4x4-3/2025-05-05/
LOCATION:Englewood Christian Church\, 9600 Gulfstream Blvd\, Englewood\, FL\, 34224\, United States
CATEGORIES:Adult,Mens
ORGANIZER;CN="Jim Chandler":MAILTO:jchandler@englewoodchristian.com
END:VEVENT
BEGIN:VEVENT
DTSTART;TZID=America/New_York:20250506T123000
DTEND;TZID=America/New_York:20250506T143000
DTSTAMP:20260425T074050
CREATED:20240102T185554Z
LAST-MODIFIED:20251113T171703Z
UID:10001702-1746534600-1746541800@englewoodchristian.com
SUMMARY:Tuesday Women's Bible Study
DESCRIPTION:
URL:https://englewoodchristian.com/event/tuesday-womens-bible-study/2025-05-06/
LOCATION:FL
CATEGORIES:Adult,Bible Study,Ladies,Women
END:VEVENT
BEGIN:VEVENT
DTSTART;TZID=America/New_York:20250506T183000
DTEND;TZID=America/New_York:20250506T201500
DTSTAMP:20260425T074050
CREATED:20240620T140951Z
LAST-MODIFIED:20251113T172153Z
UID:10004362-1746556200-1746562500@englewoodchristian.com
SUMMARY:Tuesday Night Small Group
DESCRIPTION:This Small Group meets Tuesday nights at 6:30pm and is led by Jim Chandler.
URL:https://englewoodchristian.com/event/tuesday-night-small-group/2025-05-06/
LOCATION:FL
CATEGORIES:Adult,Bible Study
ORGANIZER;CN="Jim Chandler":MAILTO:jchandler@englewoodchristian.com
END:VEVENT
BEGIN:VEVENT
DTSTART;TZID=America/New_York:20250507T180000
DTEND;TZID=America/New_York:20250507T190000
DTSTAMP:20260425T074050
CREATED:20231031T010623Z
LAST-MODIFIED:20251118T205129Z
UID:10001145-1746640800-1746644400@englewoodchristian.com
SUMMARY:Adult Bible Study
DESCRIPTION:
URL:https://englewoodchristian.com/event/adult-bible-study-3/2025-05-07/
LOCATION:Englewood Christian Church\, 9600 Gulfstream Blvd\, Englewood\, FL\, 34224\, United States
CATEGORIES:Adult,Bible Study,Wednesday
END:VEVENT
BEGIN:VEVENT
DTSTART;TZID=America/New_York:20250508T180000
DTEND;TZID=America/New_York:20250508T193000
DTSTAMP:20260425T074050
CREATED:20240620T153654Z
LAST-MODIFIED:20251113T172856Z
UID:10004899-1746727200-1746732600@englewoodchristian.com
SUMMARY:Thursday Night Small Group
DESCRIPTION:This small group meets every Thursday evening at 6:00pm.
URL:https://englewoodchristian.com/event/thursday-night-small-group/2025-05-08/
LOCATION:FL
CATEGORIES:Adult,Bible Study
END:VEVENT
BEGIN:VEVENT
DTSTART;TZID=America/New_York:20250511T093000
DTEND;TZID=America/New_York:20250511T101500
DTSTAMP:20260425T074050
CREATED:20240523T201136Z
LAST-MODIFIED:20240523T201138Z
UID:10004103-1746955800-1746958500@englewoodchristian.com
SUMMARY:Adult Sunday School
DESCRIPTION:
URL:https://englewoodchristian.com/event/adult-sunday-school-2-2-2/2025-05-11/
LOCATION:Englewood Christian Church\, 9600 Gulfstream Blvd\, Englewood\, FL\, 34224\, United States
CATEGORIES:Adult,Sunday,Sunday School
END:VEVENT
BEGIN:VEVENT
DTSTART;TZID=America/New_York:20250511T180000
DTEND;TZID=America/New_York:20250511T190000
DTSTAMP:20260425T074050
CREATED:20240620T151840Z
LAST-MODIFIED:20240620T151840Z
UID:10004649-1746986400-1746990000@englewoodchristian.com
SUMMARY:Sunday Night Small Group
DESCRIPTION:This Small Group meets on Sunday evenings at 6:00pm and is led by Jim Chandler.
URL:https://englewoodchristian.com/event/sunday-night-small-group/2025-05-11/
LOCATION:FL
CATEGORIES:Adult,Bible Study
ORGANIZER;CN="Jim Chandler":MAILTO:jchandler@englewoodchristian.com
END:VEVENT
BEGIN:VEVENT
DTSTART;TZID=America/New_York:20250512T190000
DTEND;TZID=America/New_York:20250512T203000
DTSTAMP:20260425T074050
CREATED:20240905T124833Z
LAST-MODIFIED:20251119T192600Z
UID:10005367-1747076400-1747081800@englewoodchristian.com
SUMMARY:Men’s 4x4
DESCRIPTION:Men’s bible study group at the church Monday nights starting at 7pm.
URL:https://englewoodchristian.com/event/mens-4x4-3/2025-05-12/
LOCATION:Englewood Christian Church\, 9600 Gulfstream Blvd\, Englewood\, FL\, 34224\, United States
CATEGORIES:Adult,Mens
ORGANIZER;CN="Jim Chandler":MAILTO:jchandler@englewoodchristian.com
END:VEVENT
BEGIN:VEVENT
DTSTART;TZID=America/New_York:20250513T123000
DTEND;TZID=America/New_York:20250513T143000
DTSTAMP:20260425T074050
CREATED:20240102T185554Z
LAST-MODIFIED:20251113T171703Z
UID:10001703-1747139400-1747146600@englewoodchristian.com
SUMMARY:Tuesday Women's Bible Study
DESCRIPTION:
URL:https://englewoodchristian.com/event/tuesday-womens-bible-study/2025-05-13/
LOCATION:FL
CATEGORIES:Adult,Bible Study,Ladies,Women
END:VEVENT
BEGIN:VEVENT
DTSTART;TZID=America/New_York:20250513T183000
DTEND;TZID=America/New_York:20250513T201500
DTSTAMP:20260425T074050
CREATED:20240620T140951Z
LAST-MODIFIED:20251113T172153Z
UID:10004363-1747161000-1747167300@englewoodchristian.com
SUMMARY:Tuesday Night Small Group
DESCRIPTION:This Small Group meets Tuesday nights at 6:30pm and is led by Jim Chandler.
URL:https://englewoodchristian.com/event/tuesday-night-small-group/2025-05-13/
LOCATION:FL
CATEGORIES:Adult,Bible Study
ORGANIZER;CN="Jim Chandler":MAILTO:jchandler@englewoodchristian.com
END:VEVENT
BEGIN:VEVENT
DTSTART;TZID=America/New_York:20250514T180000
DTEND;TZID=America/New_York:20250514T190000
DTSTAMP:20260425T074050
CREATED:20231031T010623Z
LAST-MODIFIED:20251118T205129Z
UID:10001146-1747245600-1747249200@englewoodchristian.com
SUMMARY:Adult Bible Study
DESCRIPTION:
URL:https://englewoodchristian.com/event/adult-bible-study-3/2025-05-14/
LOCATION:Englewood Christian Church\, 9600 Gulfstream Blvd\, Englewood\, FL\, 34224\, United States
CATEGORIES:Adult,Bible Study,Wednesday
END:VEVENT
BEGIN:VEVENT
DTSTART;TZID=America/New_York:20250515T180000
DTEND;TZID=America/New_York:20250515T193000
DTSTAMP:20260425T074050
CREATED:20240620T153654Z
LAST-MODIFIED:20251113T172856Z
UID:10004900-1747332000-1747337400@englewoodchristian.com
SUMMARY:Thursday Night Small Group
DESCRIPTION:This small group meets every Thursday evening at 6:00pm.
URL:https://englewoodchristian.com/event/thursday-night-small-group/2025-05-15/
LOCATION:FL
CATEGORIES:Adult,Bible Study
END:VEVENT
BEGIN:VEVENT
DTSTART;TZID=America/New_York:20250518T093000
DTEND;TZID=America/New_York:20250518T101500
DTSTAMP:20260425T074050
CREATED:20240523T201136Z
LAST-MODIFIED:20240523T201138Z
UID:10004104-1747560600-1747563300@englewoodchristian.com
SUMMARY:Adult Sunday School
DESCRIPTION:
URL:https://englewoodchristian.com/event/adult-sunday-school-2-2-2/2025-05-18/
LOCATION:Englewood Christian Church\, 9600 Gulfstream Blvd\, Englewood\, FL\, 34224\, United States
CATEGORIES:Adult,Sunday,Sunday School
END:VEVENT
BEGIN:VEVENT
DTSTART;TZID=America/New_York:20250518T180000
DTEND;TZID=America/New_York:20250518T190000
DTSTAMP:20260425T074050
CREATED:20240620T151840Z
LAST-MODIFIED:20240620T151840Z
UID:10004650-1747591200-1747594800@englewoodchristian.com
SUMMARY:Sunday Night Small Group
DESCRIPTION:This Small Group meets on Sunday evenings at 6:00pm and is led by Jim Chandler.
URL:https://englewoodchristian.com/event/sunday-night-small-group/2025-05-18/
LOCATION:FL
CATEGORIES:Adult,Bible Study
ORGANIZER;CN="Jim Chandler":MAILTO:jchandler@englewoodchristian.com
END:VEVENT
BEGIN:VEVENT
DTSTART;TZID=America/New_York:20250519T190000
DTEND;TZID=America/New_York:20250519T203000
DTSTAMP:20260425T074050
CREATED:20240905T124833Z
LAST-MODIFIED:20251119T192600Z
UID:10005368-1747681200-1747686600@englewoodchristian.com
SUMMARY:Men’s 4x4
DESCRIPTION:Men’s bible study group at the church Monday nights starting at 7pm.
URL:https://englewoodchristian.com/event/mens-4x4-3/2025-05-19/
LOCATION:Englewood Christian Church\, 9600 Gulfstream Blvd\, Englewood\, FL\, 34224\, United States
CATEGORIES:Adult,Mens
ORGANIZER;CN="Jim Chandler":MAILTO:jchandler@englewoodchristian.com
END:VEVENT
BEGIN:VEVENT
DTSTART;TZID=America/New_York:20250520T123000
DTEND;TZID=America/New_York:20250520T143000
DTSTAMP:20260425T074050
CREATED:20240102T185554Z
LAST-MODIFIED:20251113T171703Z
UID:10001704-1747744200-1747751400@englewoodchristian.com
SUMMARY:Tuesday Women's Bible Study
DESCRIPTION:
URL:https://englewoodchristian.com/event/tuesday-womens-bible-study/2025-05-20/
LOCATION:FL
CATEGORIES:Adult,Bible Study,Ladies,Women
END:VEVENT
BEGIN:VEVENT
DTSTART;TZID=America/New_York:20250520T183000
DTEND;TZID=America/New_York:20250520T201500
DTSTAMP:20260425T074050
CREATED:20240620T140951Z
LAST-MODIFIED:20251113T172153Z
UID:10004364-1747765800-1747772100@englewoodchristian.com
SUMMARY:Tuesday Night Small Group
DESCRIPTION:This Small Group meets Tuesday nights at 6:30pm and is led by Jim Chandler.
URL:https://englewoodchristian.com/event/tuesday-night-small-group/2025-05-20/
LOCATION:FL
CATEGORIES:Adult,Bible Study
ORGANIZER;CN="Jim Chandler":MAILTO:jchandler@englewoodchristian.com
END:VEVENT
END:VCALENDAR